BEGIN:VCALENDAR
VERSION:2.0
PRODID:-//Gwent Mountaineering Club - ECPv6.15.20//NONSGML v1.0//EN
CALSCALE:GREGORIAN
METHOD:PUBLISH
X-WR-CALNAME:Gwent Mountaineering Club
X-ORIGINAL-URL:https://gwentmc.club
X-WR-CALDESC:Events for Gwent Mountaineering Club
REFRESH-INTERVAL;VALUE=DURATION:PT1H
X-Robots-Tag:noindex
X-PUBLISHED-TTL:PT1H
BEGIN:VTIMEZONE
TZID:Europe/London
BEGIN:DAYLIGHT
TZOFFSETFROM:+0000
TZOFFSETTO:+0100
TZNAME:BST
DTSTART:20250330T010000
END:DAYLIGHT
BEGIN:STANDARD
TZOFFSETFROM:+0100
TZOFFSETTO:+0000
TZNAME:GMT
DTSTART:20251026T010000
END:STANDARD
BEGIN:DAYLIGHT
TZOFFSETFROM:+0000
TZOFFSETTO:+0100
TZNAME:BST
DTSTART:20260329T010000
END:DAYLIGHT
BEGIN:STANDARD
TZOFFSETFROM:+0100
TZOFFSETTO:+0000
TZNAME:GMT
DTSTART:20261025T010000
END:STANDARD
BEGIN:DAYLIGHT
TZOFFSETFROM:+0000
TZOFFSETTO:+0100
TZNAME:BST
DTSTART:20270328T010000
END:DAYLIGHT
BEGIN:STANDARD
TZOFFSETFROM:+0100
TZOFFSETTO:+0000
TZNAME:GMT
DTSTART:20271031T010000
END:STANDARD
END:VTIMEZONE
BEGIN:VEVENT
DTSTART;VALUE=DATE:20260401
DTEND;VALUE=DATE:20260816
DTSTAMP:20260422T201358
CREATED:20260205T182515Z
LAST-MODIFIED:20260205T182526Z
UID:10000983-1775001600-1786838399@gwentmc.club
SUMMARY:Outdoor climbs: '50@50' climbing special! Celebrating 50 years of Gwentmc
DESCRIPTION:Calling all climbers! As part of the club’s 50th anniversary\, a second climbing event is being planned- this one is outdoors. \nThe premise is to climb as many routes as you can between 1st April 2026 and the 15th August 2026. We need a list of the 50 best routes from the Wye Valley to Pembroke before April please. The routes can range from 4 to E2 ie. be fairly inclusive with the midrange going to be the most popular. There will be no leeway on the grades even if some E3’s in Pembroke are world class! \nThe BMC are aware of our celebrations and photos of climbs will be needed. \nReply to John Jones directly on WhatsApp and join the ’50 routes’ WhatsApp chat. \nOnce the routes are finalised we’ll publish a PDF of them. Get thinking and get some finger tape!
URL:https://gwentmc.club/event/outdoor-climbs-5050-climbing-special-celebrating-50-years-of-gwentmc/
CATEGORIES:Rock climbing,Sport,Trad,Wednesday climbing,Weekend climbing
ATTACH;FMTTYPE=image/jpeg:https://gwentmc.club/wp-content/uploads/2023/05/gilwern-main-wall-two-climbing.jpg
END:VEVENT
BEGIN:VEVENT
DTSTART;TZID=Europe/London:20260701T150000
DTEND;TZID=Europe/London:20260701T210000
DTSTAMP:20260422T201358
CREATED:20260318T184303Z
LAST-MODIFIED:20260318T190715Z
UID:10001018-1782918000-1782939600@gwentmc.club
SUMMARY:Climb: Bargoed (Sport) 50@50 crag
DESCRIPTION:Wednesday evening climbing at Bargoed. Sport. 50@50 crag \nCF81 9AE \nTimings will be advised via climbing group comms. \nUKC Logbook (ukclimbing.com): Bargoed \nSouth Wales Climbing Wiki (SWCW): Bargoed
URL:https://gwentmc.club/event/climb-bargoed-sport-5050-crag/
CATEGORIES:Rock climbing,Sport,Wednesday climbing
ATTACH;FMTTYPE=image/jpeg:https://gwentmc.club/wp-content/uploads/2026/03/Bargoed.jpeg
END:VEVENT
BEGIN:VEVENT
DTSTART;TZID=Europe/London:20260705T093000
DTEND;TZID=Europe/London:20260705T170000
DTSTAMP:20260422T201358
CREATED:20260318T170005Z
LAST-MODIFIED:20260318T192035Z
UID:10001015-1783243800-1783270800@gwentmc.club
SUMMARY:Climb: Wintours Leap (Trad) 50@50 crag
DESCRIPTION:Trad climbing at Wintours Leap. Sport available in Woodcroft Quarry. 50@50 crag \nOS Map 162\, grid reference ST542958. Car parking at Lancaut Lane. \nUKC Logbook – Wintour’s Leap (ukclimbing.com) \nTimings will be advised via climbing group comms. \nClimbing meets are weather dependent and can change at short notice. Please contact the organiser for more information.
URL:https://gwentmc.club/event/climb-wintours-leap-trad-5050-crag-3/
CATEGORIES:Rock climbing,Trad,Weekend climbing
ATTACH;FMTTYPE=image/jpeg:https://gwentmc.club/wp-content/uploads/2026/03/Wintours-Leap.jpeg
END:VEVENT
BEGIN:VEVENT
DTSTART;TZID=Europe/London:20260708T150000
DTEND;TZID=Europe/London:20260708T210000
DTSTAMP:20260422T201358
CREATED:20260318T184443Z
LAST-MODIFIED:20260318T184443Z
UID:10001019-1783522800-1783544400@gwentmc.club
SUMMARY:Climb: Sirhowy (Sport) 50@50crag
DESCRIPTION:Wednesday evening climbing at Sirhowy. Sport. 50@50crag \nTimings will be advised via climbing group comms. \nUKC Logbook (ukclimbing.com): Sirhowy \nSouth Wales Climbing Wiki (SWCW): Sirhowy – Quarry Mawr \nClimbing meets are weather dependent and can change at short notice. Please contact the organiser for more information.
URL:https://gwentmc.club/event/climb-sirhowy-sport-5050crag/
CATEGORIES:Rock climbing,Sport,Wednesday climbing
ATTACH;FMTTYPE=image/jpeg:https://gwentmc.club/wp-content/uploads/2023/05/05July2023-Sirhowy-Crag-1024x1024-1.jpg
END:VEVENT
BEGIN:VEVENT
DTSTART;TZID=Europe/London:20260712T093000
DTEND;TZID=Europe/London:20260712T170000
DTSTAMP:20260422T201358
CREATED:20260415T190356Z
LAST-MODIFIED:20260415T190356Z
UID:10001038-1783848600-1783875600@gwentmc.club
SUMMARY:Walk: Eastern Beacons Area. 19km/12miles\, 935m/3000ft ascent (Moderate)
DESCRIPTION:Eastern Beacons Area. Following the Usk Valley Walk to Aber before a steep ascent to Carn Pica\, then continuing along the edges to Gist Wen & Pen y Bryn.\n19km/12 miles\, 935m/3000 feet ascent. \nStart 9.30am. A layby opposite the campsite at Pencelli.\nMap OL 12 GR SO 095245. \nFor your safety and the safety of other members\, we advise minimum personal equipment requirements for all our walks.
URL:https://gwentmc.club/event/walk-eastern-beacons-area-19km-12miles-935m-3000ft-ascent-moderate/
CATEGORIES:Hiking/walking,Sunday walks
ATTACH;FMTTYPE=image/jpeg:https://gwentmc.club/wp-content/uploads/2026/04/Eastern-Beacons.jpeg
END:VEVENT
BEGIN:VEVENT
DTSTART;TZID=Europe/London:20260715T150000
DTEND;TZID=Europe/London:20260715T210000
DTSTAMP:20260422T201358
CREATED:20260318T184556Z
LAST-MODIFIED:20260318T184556Z
UID:10001020-1784127600-1784149200@gwentmc.club
SUMMARY:Climb: Taff's Well Main (Sport)
DESCRIPTION:Wednesday evening climbing at Taff’s Well Main. Sport. \nTimings will be advised via climbing group comms. \nUKC Logbook (ukclimbing.com): Taff’s Well \nSouth Wales Climbing Wiki (SWCW): Taff’s Well \nClimbing meets are weather dependent and can change at short notice. Please contact the organiser for more information.
URL:https://gwentmc.club/event/climb-taffs-well-main-sport-3/
CATEGORIES:Rock climbing,Sport,Wednesday climbing
ATTACH;FMTTYPE=image/jpeg:https://gwentmc.club/wp-content/uploads/2023/05/climb-taffswellmain-21jun2023.jpg
END:VEVENT
BEGIN:VEVENT
DTSTART;TZID=Europe/London:20260716T193000
DTEND;TZID=Europe/London:20260716T213000
DTSTAMP:20260422T201358
CREATED:20260405T113549Z
LAST-MODIFIED:20260405T113549Z
UID:10001035-1784230200-1784237400@gwentmc.club
SUMMARY:Evening walk: Greater Horseshoe Bat Walk at Coed Ruperra. 3 miles
DESCRIPTION:A guided walk including bat monitors to enable species identification. \nEasy. About 3 miles. Bring headtorches. Collection to be made for Coed Ruperra Conservation Trust please. \nOS Explorer Map 152\, grid reference 228 870. Parking area will be opened as an organised guided walk with Coed Ruperra. Please note later start of 7.30pm. \nFor your safety and the safety of other members\, we advise minimum personal equipment requirements for all our walks.
URL:https://gwentmc.club/event/evening-walk-greater-horseshoe-bat-walk-at-coed-ruperra-3-miles/
CATEGORIES:Hiking/walking,Thursday evening walks
ATTACH;FMTTYPE=image/png:https://gwentmc.club/wp-content/uploads/2026/04/Bat-walk_Coed-Ruperra.png
END:VEVENT
BEGIN:VEVENT
DTSTART;VALUE=DATE:20260717
DTEND;VALUE=DATE:20260720
DTSTAMP:20260422T201358
CREATED:20260318T170321Z
LAST-MODIFIED:20260318T170321Z
UID:10001016-1784246400-1784505599@gwentmc.club
SUMMARY:Weekend Club Climbing trip: South Pembrokeshire (Trad) 50@50 crag
DESCRIPTION:Weekend climbing in South Pembrokeshire- camping at Bosherston. 50@50 crag \nClimbing meets are weather dependent and can change at short notice. Please contact the organiser for more information.
URL:https://gwentmc.club/event/weekend-club-climbing-trip-south-pembrokeshire-trad-5050-crag/
CATEGORIES:Rock climbing,Trad,Weekend climbing,Weekends/weeks away
END:VEVENT
BEGIN:VEVENT
DTSTART;TZID=Europe/London:20260722T153000
DTEND;TZID=Europe/London:20260722T213000
DTSTAMP:20260422T201358
CREATED:20260318T184713Z
LAST-MODIFIED:20260318T191258Z
UID:10001021-1784734200-1784755800@gwentmc.club
SUMMARY:Climb: Shorncliffe (Trad) 50@50 crag
DESCRIPTION:Trad climbing at Shorncliffe. 50@50 crag \nhttps://www.ukclimbing.com/logbook/crags/shorn_cliff-39/#maps \nWire Works car park Tintern NP16 6TQ \nClimbing meets are weather dependent and can change at short notice. Please contact the organiser for more information.
URL:https://gwentmc.club/event/climb-shorncliffe-trad-5050-crag-4/
CATEGORIES:Rock climbing,Trad,Wednesday climbing
ATTACH;FMTTYPE=image/jpeg:https://gwentmc.club/wp-content/uploads/2026/03/Shorncliff.jpeg
END:VEVENT
BEGIN:VEVENT
DTSTART;TZID=Europe/London:20260726T093000
DTEND;TZID=Europe/London:20260726T170000
DTSTAMP:20260422T201358
CREATED:20260308T171651Z
LAST-MODIFIED:20260308T171651Z
UID:10000989-1785058200-1785085200@gwentmc.club
SUMMARY:Walk: Pumlumon & Carn Hyddgen. 24km/15miles.
DESCRIPTION:More details to follow. \n  \nFor your safety and the safety of other members\, we advise minimum personal equipment requirements for all our walks.
URL:https://gwentmc.club/event/walk-pumlumon-carn-hyddgen-24km-15miles/
CATEGORIES:Hiking/walking,Sunday walks
END:VEVENT
BEGIN:VEVENT
DTSTART;TZID=Europe/London:20260729T153000
DTEND;TZID=Europe/London:20260729T213000
DTSTAMP:20260422T201358
CREATED:20260318T184827Z
LAST-MODIFIED:20260318T192003Z
UID:10001022-1785339000-1785360600@gwentmc.club
SUMMARY:Climb: Wintours Leap (Trad) 50@50 crag
DESCRIPTION:Trad climbing at Wintours Leap. Sport available in Woodcroft Quarry. 50@50 crag \nOS Map 162\, grid reference ST542958. Car parking at Lancaut Lane. \nUKC Logbook – Wintour’s Leap (ukclimbing.com) \nTimings will be advised via climbing group comms. \nClimbing meets are weather dependent and can change at short notice. Please contact the organiser for more information.
URL:https://gwentmc.club/event/climb-wintours-leap-trad-5050-crag-4/
CATEGORIES:Rock climbing,Trad,Wednesday climbing
ATTACH;FMTTYPE=image/jpeg:https://gwentmc.club/wp-content/uploads/2026/03/Wintours-Leap.jpeg
END:VEVENT
END:VCALENDAR