BEGIN:VCALENDAR
VERSION:2.0
PRODID:-//Gwent Mountaineering Club - ECPv6.15.20//NONSGML v1.0//EN
CALSCALE:GREGORIAN
METHOD:PUBLISH
X-ORIGINAL-URL:https://gwentmc.club
X-WR-CALDESC:Events for Gwent Mountaineering Club
REFRESH-INTERVAL;VALUE=DURATION:PT1H
X-Robots-Tag:noindex
X-PUBLISHED-TTL:PT1H
BEGIN:VTIMEZONE
TZID:Europe/London
BEGIN:DAYLIGHT
TZOFFSETFROM:+0000
TZOFFSETTO:+0100
TZNAME:BST
DTSTART:20250330T010000
END:DAYLIGHT
BEGIN:STANDARD
TZOFFSETFROM:+0100
TZOFFSETTO:+0000
TZNAME:GMT
DTSTART:20251026T010000
END:STANDARD
BEGIN:DAYLIGHT
TZOFFSETFROM:+0000
TZOFFSETTO:+0100
TZNAME:BST
DTSTART:20260329T010000
END:DAYLIGHT
BEGIN:STANDARD
TZOFFSETFROM:+0100
TZOFFSETTO:+0000
TZNAME:GMT
DTSTART:20261025T010000
END:STANDARD
BEGIN:DAYLIGHT
TZOFFSETFROM:+0000
TZOFFSETTO:+0100
TZNAME:BST
DTSTART:20270328T010000
END:DAYLIGHT
BEGIN:STANDARD
TZOFFSETFROM:+0100
TZOFFSETTO:+0000
TZNAME:GMT
DTSTART:20271031T010000
END:STANDARD
END:VTIMEZONE
BEGIN:VEVENT
DTSTART;VALUE=DATE:20260401
DTEND;VALUE=DATE:20260816
DTSTAMP:20260424T103550
CREATED:20260205T182515Z
LAST-MODIFIED:20260205T182526Z
UID:10000983-1775001600-1786838399@gwentmc.club
SUMMARY:Outdoor climbs: '50@50' climbing special! Celebrating 50 years of Gwentmc
DESCRIPTION:Calling all climbers! As part of the club’s 50th anniversary\, a second climbing event is being planned- this one is outdoors. \nThe premise is to climb as many routes as you can between 1st April 2026 and the 15th August 2026. We need a list of the 50 best routes from the Wye Valley to Pembroke before April please. The routes can range from 4 to E2 ie. be fairly inclusive with the midrange going to be the most popular. There will be no leeway on the grades even if some E3’s in Pembroke are world class! \nThe BMC are aware of our celebrations and photos of climbs will be needed. \nReply to John Jones directly on WhatsApp and join the ’50 routes’ WhatsApp chat. \nOnce the routes are finalised we’ll publish a PDF of them. Get thinking and get some finger tape!
URL:https://gwentmc.club/event/outdoor-climbs-5050-climbing-special-celebrating-50-years-of-gwentmc/
CATEGORIES:Rock climbing,Sport,Trad,Wednesday climbing,Weekend climbing
ATTACH;FMTTYPE=image/jpeg:https://gwentmc.club/wp-content/uploads/2023/05/gilwern-main-wall-two-climbing.jpg
END:VEVENT
BEGIN:VEVENT
DTSTART;TZID=Europe/London:20260603T153000
DTEND;TZID=Europe/London:20260603T213000
DTSTAMP:20260424T103550
CREATED:20260318T164329Z
LAST-MODIFIED:20260318T191410Z
UID:10001008-1780500600-1780522200@gwentmc.club
SUMMARY:Climb: Shorncliffe (Trad) 50@50 crag
DESCRIPTION:Trad climbing at Shorncliffe. 50@50 crag \nhttps://www.ukclimbing.com/logbook/crags/shorn_cliff-39/#maps \nWire Works car park Tintern NP16 6TQ \nClimbing meets are weather dependent and can change at short notice. Please contact the organiser for more information.
URL:https://gwentmc.club/event/climb-shorncliffe-trad-5050-crag-2/
CATEGORIES:Rock climbing,Trad,Wednesday climbing
ATTACH;FMTTYPE=image/jpeg:https://gwentmc.club/wp-content/uploads/2026/03/Shorncliff.jpeg
END:VEVENT
BEGIN:VEVENT
DTSTART;VALUE=DATE:20260606
DTEND;VALUE=DATE:20260607
DTSTAMP:20260424T103550
CREATED:20260301T134047Z
LAST-MODIFIED:20260330T152026Z
UID:10000985-1780704000-1780790399@gwentmc.club
SUMMARY:Walk: 50 Peaks Grand weekend
DESCRIPTION:As you are no doubt aware by now the GMC has been in existence for 50 years & we’d like to celebrate this fantastic achievement.\n\nClimbers & Walkers are arranging various events over the year & aim to include as many Club members as possible.\n\nFor the Walkers – 50 Peaks Grand weekend – June 6th & 7th 2026.\n\nPlease click on the attachment sent by email in February and choose what you would like to do. There is some general guidance given \, but please discuss with Kath S\, Sara H or Keith if needed. (For now please contact one of us by email etc or find us out on an event).\n\nLets get out tramping the hills\,\n\nKath\, Sara\, Keith\nFor your safety and the safety of other members\, we advise minimum personal equipment requirements for all our walks.
URL:https://gwentmc.club/event/walk-a-50-peaks-grand-weekend/
CATEGORIES:Hiking/walking,Sunday walks
END:VEVENT
BEGIN:VEVENT
DTSTART;VALUE=DATE:20260607
DTEND;VALUE=DATE:20260608
DTSTAMP:20260424T103550
CREATED:20260330T151945Z
LAST-MODIFIED:20260330T151945Z
UID:10001034-1780790400-1780876799@gwentmc.club
SUMMARY:Walk: 50 Peaks Grand weekend
DESCRIPTION:As you are no doubt aware by now the GMC has been in existence for 50 years & we’d like to celebrate this fantastic achievement.\n\nClimbers & Walkers are arranging various events over the year & aim to include as many Club members as possible.\n\nFor the Walkers – 50 Peaks Grand weekend – June 6th & 7th 2026.\n\nPlease click on the attachment sent by email in February and choose what you would like to do. There is some general guidance given \, but please discuss with Kath S\, Sara H or Keith if needed. (For now please contact one of us by email etc or find us out on an event).\n\nLets get out tramping the hills\,\n\nKath\, Sara\, Keith\nFor your safety and the safety of other members\, we advise minimum personal equipment requirements for all our walks.
URL:https://gwentmc.club/event/walk-50-peaks-grand-weekend/
CATEGORIES:Hiking/walking,Sunday walks
END:VEVENT
BEGIN:VEVENT
DTSTART;TZID=Europe/London:20260610T150000
DTEND;TZID=Europe/London:20260610T210000
DTSTAMP:20260424T103550
CREATED:20260318T164610Z
LAST-MODIFIED:20260318T164610Z
UID:10001009-1781103600-1781125200@gwentmc.club
SUMMARY:Climb: Taff's Well West (sport)
DESCRIPTION:Climbing at Taff’s Well West (sport). CF15 9HD \nTimings will be advised via climbing group comms. \nUKC Logbook – Taff’s Well (ukclimbing.com) \nTaffs Well – South Wales Climbing Wiki (SWCW) \nClimbing meets are weather dependent and can change at short notice. Please contact the organiser for more information.
URL:https://gwentmc.club/event/climb-taffs-well-west-sport-4/
LOCATION:Taff’s Well West
CATEGORIES:Rock climbing,Sport,Wednesday climbing
ATTACH;FMTTYPE=image/jpeg:https://gwentmc.club/wp-content/uploads/2023/03/Taffs-Well-Main-2.jpg
END:VEVENT
BEGIN:VEVENT
DTSTART;VALUE=DATE:20260613
DTEND;VALUE=DATE:20260615
DTSTAMP:20260424T103550
CREATED:20260318T165323Z
LAST-MODIFIED:20260318T190911Z
UID:10001012-1781308800-1781481599@gwentmc.club
SUMMARY:Climb: Elan Valley (trad & sport) 50@50 crag
DESCRIPTION:Climbing at Craig Cnwch\, Elan Valley. 50@50 crag \nhttps://www.ukclimbing.com/logbook/crags/craig_cnwch-11044/ \nClimbing meets are weather dependent and can change at short notice. Please contact the organiser for more information.
URL:https://gwentmc.club/event/climb-elan-valley-trad-sport-5050-crag/
CATEGORIES:Rock climbing,Sport,Trad,Weekend climbing,Weekends/weeks away
ATTACH;FMTTYPE=image/jpeg:https://gwentmc.club/wp-content/uploads/2026/03/Elan-Valley.jpeg
END:VEVENT
BEGIN:VEVENT
DTSTART;TZID=Europe/London:20260617T153000
DTEND;TZID=Europe/London:20260617T213000
DTSTAMP:20260424T103550
CREATED:20260318T164749Z
LAST-MODIFIED:20260318T192102Z
UID:10001010-1781710200-1781731800@gwentmc.club
SUMMARY:Climb: Wintours Leap (Trad) 50@50 crag
DESCRIPTION:Trad climbing at Wintours Leap. Sport available in Woodcroft Quarry. 50@50 crag \nOS Map 162\, grid reference ST542958. Car parking at Lancaut Lane. \nUKC Logbook – Wintour’s Leap (ukclimbing.com) \nTimings will be advised via climbing group comms. \nClimbing meets are weather dependent and can change at short notice. Please contact the organiser for more information.
URL:https://gwentmc.club/event/climb-wintours-leap-trad-5050-crag-2/
CATEGORIES:Rock climbing,Trad,Wednesday climbing
ATTACH;FMTTYPE=image/jpeg:https://gwentmc.club/wp-content/uploads/2026/03/Wintours-Leap.jpeg
END:VEVENT
BEGIN:VEVENT
DTSTART;TZID=Europe/London:20260621T093000
DTEND;TZID=Europe/London:20260621T183000
DTSTAMP:20260424T103550
CREATED:20260318T165517Z
LAST-MODIFIED:20260318T191349Z
UID:10001013-1782034200-1782066600@gwentmc.club
SUMMARY:Climb: Shorncliffe (Trad) 50@50 crag
DESCRIPTION:Trad climbing at Shorncliffe. 50@50 crag \nhttps://www.ukclimbing.com/logbook/crags/shorn_cliff-39/#maps \nWire Works car park Tintern NP16 6TQ \nClimbing meets are weather dependent and can change at short notice. Please contact the organiser for more information.
URL:https://gwentmc.club/event/climb-shorncliffe-trad-5050-crag-3/
CATEGORIES:Rock climbing,Trad,Weekend climbing
ATTACH;FMTTYPE=image/jpeg:https://gwentmc.club/wp-content/uploads/2026/03/Shorncliff.jpeg
END:VEVENT
BEGIN:VEVENT
DTSTART;TZID=Europe/London:20260624T150000
DTEND;TZID=Europe/London:20260624T213000
DTSTAMP:20260424T103550
CREATED:20260318T165051Z
LAST-MODIFIED:20260318T165051Z
UID:10001011-1782313200-1782336600@gwentmc.club
SUMMARY:Climb: Gilwern Hill (Sport) 50@50 crag
DESCRIPTION:Sport climbing at Gilwern Hill. 50@50 crag \nOS Explorer Map161\, grid reference SO244 119 (post code NP7 0HP). \nhttps://www.ukclimbing.com/logbook/crags/gilwern-23167/#overview \nhttp://Gilwern Hill – Crag X – South Wales Climbing Wiki (SWCW) \nClimbing meets are weather dependent and can change at short notice. Please contact the organiser for more information.
URL:https://gwentmc.club/event/climb-gilwern-hill-sport-5050-crag/
CATEGORIES:Rock climbing,Sport,Wednesday climbing
END:VEVENT
BEGIN:VEVENT
DTSTART;TZID=Europe/London:20260628T093000
DTEND;TZID=Europe/London:20260628T170000
DTSTAMP:20260424T103550
CREATED:20260308T171439Z
LAST-MODIFIED:20260308T171439Z
UID:10000988-1782639000-1782666000@gwentmc.club
SUMMARY:Walk: Drygarn Fawr & Gorllwyn from Abergwesyn village 24km/15miles (Hard)
DESCRIPTION:More details to follow. \n  \nFor your safety and the safety of other members\, we advise minimum personal equipment requirements for all our walks.
URL:https://gwentmc.club/event/walk-drygarn-fawr-gorllwyn-from-abergwesyn-village-24km-15miles-hard/
CATEGORIES:Hiking/walking,Sunday walks
END:VEVENT
BEGIN:VEVENT
DTSTART;TZID=Europe/London:20260628T093000
DTEND;TZID=Europe/London:20260628T170000
DTSTAMP:20260424T103550
CREATED:20260318T165824Z
LAST-MODIFIED:20260318T165848Z
UID:10001014-1782639000-1782666000@gwentmc.club
SUMMARY:Climb: Temple Bay/Witches Point (sport) 50@50 crag
DESCRIPTION:Sport climbing at Temple Bay/Witches Point. 50@50 crag \nCF32 0RT. \nTimings and details of location will be advised via climbing group comms. \nCave Inlet – South Wales Climbing Wiki (SWCW) \nWitches Point – South Wales Climbing Wiki (SWCW) \nTemple Bay Inlets – South Wales Climbing Wiki (SWCW) \nClimbing meets are weather dependent and can change at short notice. Please contact the organiser for more information.
URL:https://gwentmc.club/event/climb-temple-bay-witches-point-sport-5050-crag/
LOCATION:Temple Bay
CATEGORIES:Rock climbing,Sport,Weekend climbing
ATTACH;FMTTYPE=image/jpeg:https://gwentmc.club/wp-content/uploads/2023/03/Temple-Bay.jpg
END:VEVENT
END:VCALENDAR