BEGIN:VCALENDAR
VERSION:2.0
PRODID:-//Gwent Mountaineering Club - ECPv6.15.20//NONSGML v1.0//EN
CALSCALE:GREGORIAN
METHOD:PUBLISH
X-WR-CALNAME:Gwent Mountaineering Club
X-ORIGINAL-URL:https://gwentmc.club
X-WR-CALDESC:Events for Gwent Mountaineering Club
REFRESH-INTERVAL;VALUE=DURATION:PT1H
X-Robots-Tag:noindex
X-PUBLISHED-TTL:PT1H
BEGIN:VTIMEZONE
TZID:Europe/London
BEGIN:DAYLIGHT
TZOFFSETFROM:+0000
TZOFFSETTO:+0100
TZNAME:BST
DTSTART:20220327T010000
END:DAYLIGHT
BEGIN:STANDARD
TZOFFSETFROM:+0100
TZOFFSETTO:+0000
TZNAME:GMT
DTSTART:20221030T010000
END:STANDARD
BEGIN:DAYLIGHT
TZOFFSETFROM:+0000
TZOFFSETTO:+0100
TZNAME:BST
DTSTART:20230326T010000
END:DAYLIGHT
BEGIN:STANDARD
TZOFFSETFROM:+0100
TZOFFSETTO:+0000
TZNAME:GMT
DTSTART:20231029T010000
END:STANDARD
BEGIN:DAYLIGHT
TZOFFSETFROM:+0000
TZOFFSETTO:+0100
TZNAME:BST
DTSTART:20240331T010000
END:DAYLIGHT
BEGIN:STANDARD
TZOFFSETFROM:+0100
TZOFFSETTO:+0000
TZNAME:GMT
DTSTART:20241027T010000
END:STANDARD
END:VTIMEZONE
BEGIN:VEVENT
DTSTART;TZID=Europe/London:20231111T130000
DTEND;TZID=Europe/London:20231111T163000
DTSTAMP:20260419T162735
CREATED:20231101T202006Z
LAST-MODIFIED:20231101T202006Z
UID:10000297-1699707600-1699720200@gwentmc.club
SUMMARY:Training (half-day): Finding your way with a map
DESCRIPTION:Setting the map\, staying engaged with the map whilst walking to maintain awareness of current position\, and anticipating what lies ahead are fundamental to being able to find your way successfully in the outdoors.  \nJoin Alex for an afternoon of informal instruction and practice to develop your skills at Garn Lakes\, Blaenavon on Saturday 11th November 2023\, 1-4pm. \nFor a maximum of six people\, on a first come basis. \nFurther details: \nInform Alex by email or message that you’d like to attend. \nMeet at 1pm. \nPark on the access road for Garn Lakes\, outside the parking area as there’s a barrier with timed closure at dusk. Grid reference SO234096. Lat/lon coordinates for GoogleMaps: 51.780506\, -3.110990. \nBring wind/waterproofs and additional warm clothing/hat/gloves as we will stop often for instruction and discussion. Also\, drinks/snacks as you desire. \nThere’s no need to bring a map. This will be provided. However\, if you have a subscription to OS Maps or similar on your mobile phone\, please bring this with you as it can help to embed your learning. \nWe will begin by learning to appreciate the landscape around us and our position in it. We will identify significant features and relate these to equivalent map symbols. We will orientate the map to align with the landscape and see our current position on the map. Walking forward\, we will practice maintaining awareness of our position as it changes. We may do this several times\, progressing from easier to more difficult parts of the landscape. We will begin to anticipate what is coming up ahead of us. Overall\, we will probably walk 3 miles or so on gentle terrain. We will be stopping often to discuss what we are practicing and learning. \n  \n  \n  \n  \n 
URL:https://gwentmc.club/event/training-half-day-finding-your-way-with-a-map/
CATEGORIES:Hiking/walking,Training
ATTACH;FMTTYPE=image/jpeg:https://gwentmc.club/wp-content/uploads/2023/11/training-11nov2023-north-of-hay-bluff.jpg
END:VEVENT
END:VCALENDAR