BEGIN:VCALENDAR
VERSION:2.0
PRODID:-//Gwent Mountaineering Club - ECPv6.15.20//NONSGML v1.0//EN
CALSCALE:GREGORIAN
METHOD:PUBLISH
X-ORIGINAL-URL:https://gwentmc.club
X-WR-CALDESC:Events for Gwent Mountaineering Club
REFRESH-INTERVAL;VALUE=DURATION:PT1H
X-Robots-Tag:noindex
X-PUBLISHED-TTL:PT1H
BEGIN:VTIMEZONE
TZID:Europe/London
BEGIN:DAYLIGHT
TZOFFSETFROM:+0000
TZOFFSETTO:+0100
TZNAME:BST
DTSTART:20220327T010000
END:DAYLIGHT
BEGIN:STANDARD
TZOFFSETFROM:+0100
TZOFFSETTO:+0000
TZNAME:GMT
DTSTART:20221030T010000
END:STANDARD
BEGIN:DAYLIGHT
TZOFFSETFROM:+0000
TZOFFSETTO:+0100
TZNAME:BST
DTSTART:20230326T010000
END:DAYLIGHT
BEGIN:STANDARD
TZOFFSETFROM:+0100
TZOFFSETTO:+0000
TZNAME:GMT
DTSTART:20231029T010000
END:STANDARD
BEGIN:DAYLIGHT
TZOFFSETFROM:+0000
TZOFFSETTO:+0100
TZNAME:BST
DTSTART:20240331T010000
END:DAYLIGHT
BEGIN:STANDARD
TZOFFSETFROM:+0100
TZOFFSETTO:+0000
TZNAME:GMT
DTSTART:20241027T010000
END:STANDARD
END:VTIMEZONE
BEGIN:VEVENT
DTSTART;TZID=Europe/London:20230202T200000
DTEND;TZID=Europe/London:20230202T213000
DTSTAMP:20260420T070307
CREATED:20221202T164519Z
LAST-MODIFIED:20221213T121526Z
UID:10000031-1675368000-1675373400@gwentmc.club
SUMMARY:Training: Night navigation (indoor session)
DESCRIPTION:The first of two training sessions on night navigation. This one\, led by Jeff Matthews takes place indoors and will be followed next week by an outdoor session. Please bring a compass and headtorch to the session.
URL:https://gwentmc.club/event/night-navigation-indoor-training-session/
LOCATION:Goytre Village Hall (GVH)\, Newtown Road\, Penperlleni\, Pontypool\, NP4 0AW\, United Kingdom
CATEGORIES:Goytre Village Hall,Indoor,Training
ATTACH;FMTTYPE=image/jpeg:https://gwentmc.club/wp-content/uploads/2022/12/nightnav-1.jpg
GEO:51.73642;-2.9802108
X-APPLE-STRUCTURED-LOCATION;VALUE=URI;X-ADDRESS=Goytre Village Hall (GVH) Newtown Road Penperlleni Pontypool NP4 0AW United Kingdom;X-APPLE-RADIUS=500;X-TITLE=Newtown Road\, Penperlleni:geo:-2.9802108,51.73642
END:VEVENT
BEGIN:VEVENT
DTSTART;TZID=Europe/London:20230209T190000
DTEND;TZID=Europe/London:20230209T213000
DTSTAMP:20260420T070307
CREATED:20221202T164743Z
LAST-MODIFIED:20221213T121939Z
UID:10000032-1675969200-1675978200@gwentmc.club
SUMMARY:Training: Night navigation (outdoor session)
DESCRIPTION:The second of two training sessions on night navigation. This one\, led by Jeff Matthews takes place outdoors on the slopes of Fan Fawr and provides an opportunity to practice navigating in the dark. Please bring a compass and head torch with you. 7pm at Storey Arms car park.
URL:https://gwentmc.club/event/night-navigation-outdoor-training-session/
LOCATION:Storey Arms car park\, OL12 SN982202
CATEGORIES:Hiking/walking,Thursday evening walks,Training
ATTACH;FMTTYPE=image/jpeg:https://gwentmc.club/wp-content/uploads/2022/12/nightnav-2.jpg
END:VEVENT
END:VCALENDAR