BEGIN:VCALENDAR
VERSION:2.0
PRODID:-//Gwent Mountaineering Club - ECPv6.15.20//NONSGML v1.0//EN
CALSCALE:GREGORIAN
METHOD:PUBLISH
X-ORIGINAL-URL:https://gwentmc.club
X-WR-CALDESC:Events for Gwent Mountaineering Club
REFRESH-INTERVAL;VALUE=DURATION:PT1H
X-Robots-Tag:noindex
X-PUBLISHED-TTL:PT1H
BEGIN:VTIMEZONE
TZID:Europe/London
BEGIN:DAYLIGHT
TZOFFSETFROM:+0000
TZOFFSETTO:+0100
TZNAME:BST
DTSTART:20220327T010000
END:DAYLIGHT
BEGIN:STANDARD
TZOFFSETFROM:+0100
TZOFFSETTO:+0000
TZNAME:GMT
DTSTART:20221030T010000
END:STANDARD
BEGIN:DAYLIGHT
TZOFFSETFROM:+0000
TZOFFSETTO:+0100
TZNAME:BST
DTSTART:20230326T010000
END:DAYLIGHT
BEGIN:STANDARD
TZOFFSETFROM:+0100
TZOFFSETTO:+0000
TZNAME:GMT
DTSTART:20231029T010000
END:STANDARD
BEGIN:DAYLIGHT
TZOFFSETFROM:+0000
TZOFFSETTO:+0100
TZNAME:BST
DTSTART:20240331T010000
END:DAYLIGHT
BEGIN:STANDARD
TZOFFSETFROM:+0100
TZOFFSETTO:+0000
TZNAME:GMT
DTSTART:20241027T010000
END:STANDARD
END:VTIMEZONE
BEGIN:VEVENT
DTSTART;TZID=Europe/London:20230824T190000
DTEND;TZID=Europe/London:20230824T220000
DTSTAMP:20260421T225919
CREATED:20230530T143331Z
LAST-MODIFIED:20230802T082417Z
UID:10000244-1692903600-1692914400@gwentmc.club
SUMMARY:Evening walk: Whistle walkabout
DESCRIPTION:An evening walk in the Garn Lakes and Whistle Inn area of Blaenavon. \nStart: Garn Lakes entrance road. Map OS Explorer OL13\, grid reference SO234096. Park along the entrance road for Garn Lakes and Blaenavon Heritage Railway; a turning off Garn Road/B4248 at Garn-yr-erw.\nNote: Do not park in the Garn Lakes car park itself as the barrier gate may become locked during the evening. \nPub: Whistle Inn\, Blaenavon NP4 9SJ. Explorer map OL13\, grid reference SO238100
URL:https://gwentmc.club/event/evening-walk-whistle-walkabout/
CATEGORIES:Hiking/walking,Thursday evening walks,To be announced
ATTACH;FMTTYPE=image/jpeg:https://gwentmc.club/wp-content/uploads/2023/05/walk-24aug2023-garn-lakes.jpg
END:VEVENT
BEGIN:VEVENT
DTSTART;TZID=Europe/London:20230831T190000
DTEND;TZID=Europe/London:20230831T220000
DTSTAMP:20260421T225919
CREATED:20230530T142833Z
LAST-MODIFIED:20230824T155828Z
UID:10000243-1693508400-1693519200@gwentmc.club
SUMMARY:Evening walk: Craig yr Allt (Caerphilly)
DESCRIPTION:An evening walk over Craig yr Allt. \nStart: car park\, Black Cock Inn\, Caerphilly Mountain. OS Landranger map 171\, grid reference ST143847. \nPub: Black Cock Inn\, Caerphilly Mountain.
URL:https://gwentmc.club/event/evening-walk-craig-yr-allt/
CATEGORIES:Hiking/walking,Thursday evening walks,To be announced
ATTACH;FMTTYPE=image/jpeg:https://gwentmc.club/wp-content/uploads/2023/05/walk-30aug2023-craigyrallt-geograph-3363208.jpg
END:VEVENT
END:VCALENDAR