BEGIN:VCALENDAR
VERSION:2.0
PRODID:-//Gwent Mountaineering Club - ECPv6.15.20//NONSGML v1.0//EN
CALSCALE:GREGORIAN
METHOD:PUBLISH
X-WR-CALNAME:Gwent Mountaineering Club
X-ORIGINAL-URL:https://gwentmc.club
X-WR-CALDESC:Events for Gwent Mountaineering Club
REFRESH-INTERVAL;VALUE=DURATION:PT1H
X-Robots-Tag:noindex
X-PUBLISHED-TTL:PT1H
BEGIN:VTIMEZONE
TZID:Europe/London
BEGIN:DAYLIGHT
TZOFFSETFROM:+0000
TZOFFSETTO:+0100
TZNAME:BST
DTSTART:20250330T010000
END:DAYLIGHT
BEGIN:STANDARD
TZOFFSETFROM:+0100
TZOFFSETTO:+0000
TZNAME:GMT
DTSTART:20251026T010000
END:STANDARD
BEGIN:DAYLIGHT
TZOFFSETFROM:+0000
TZOFFSETTO:+0100
TZNAME:BST
DTSTART:20260329T010000
END:DAYLIGHT
BEGIN:STANDARD
TZOFFSETFROM:+0100
TZOFFSETTO:+0000
TZNAME:GMT
DTSTART:20261025T010000
END:STANDARD
BEGIN:DAYLIGHT
TZOFFSETFROM:+0000
TZOFFSETTO:+0100
TZNAME:BST
DTSTART:20270328T010000
END:DAYLIGHT
BEGIN:STANDARD
TZOFFSETFROM:+0100
TZOFFSETTO:+0000
TZNAME:GMT
DTSTART:20271031T010000
END:STANDARD
END:VTIMEZONE
BEGIN:VEVENT
DTSTART;TZID=Europe/London:20260115T200000
DTEND;TZID=Europe/London:20260115T213000
DTSTAMP:20260424T140424
CREATED:20251123T154751Z
LAST-MODIFIED:20251215T203357Z
UID:10000964-1768507200-1768512600@gwentmc.club
SUMMARY:Annual Photo Competition 2026
DESCRIPTION:The judging and presentation of the results of the Club’s Annual Photographic Competition.
URL:https://gwentmc.club/event/annual-photo-competition-2026-1/
LOCATION:Goytre Village Hall (GVH)\, Newtown Road\, Penperlleni\, Pontypool\, NP4 0AW\, United Kingdom
CATEGORIES:Goytre Village Hall,Indoor,Talk
GEO:51.73642;-2.9802108
X-APPLE-STRUCTURED-LOCATION;VALUE=URI;X-ADDRESS=Goytre Village Hall (GVH) Newtown Road Penperlleni Pontypool NP4 0AW United Kingdom;X-APPLE-RADIUS=500;X-TITLE=Newtown Road\, Penperlleni:geo:-2.9802108,51.73642
END:VEVENT
BEGIN:VEVENT
DTSTART;TZID=Europe/London:20260129T200000
DTEND;TZID=Europe/London:20260129T213000
DTSTAMP:20260424T140424
CREATED:20251007T111113Z
LAST-MODIFIED:20260127T180202Z
UID:10000949-1769716800-1769722200@gwentmc.club
SUMMARY:Talk: Why catchment management matters - by Dŵr Cymru Welsh Water
DESCRIPTION:Many of the hill areas of Wales enjoyed by walkers and climbers are located in drinking water catchments. Human activity in the catchments can result in both positive and negative impacts. This talk provides an overview of Dŵr Cymru Welsh Water drinking water catchments\, risks and risk mitigation\, regulatory standards and customer expectations. It will be followed by a Question and Answer session. \nPresenters: Nigel Elgar (Welsh Water Project Manager) and Greg Rushby (Welsh Water Catchment Scientist)
URL:https://gwentmc.club/event/talk-why-catchment-management-matters-by-dwr-cymru-welsh-water/
LOCATION:Goytre Village Hall (GVH)\, Newtown Road\, Penperlleni\, Pontypool\, NP4 0AW\, United Kingdom
CATEGORIES:Goytre Village Hall,Indoor,Talk
ATTACH;FMTTYPE=image/jpeg:https://gwentmc.club/wp-content/uploads/2025/10/talk-29jan2026-beacons-reservoir.jpg
GEO:51.73642;-2.9802108
X-APPLE-STRUCTURED-LOCATION;VALUE=URI;X-ADDRESS=Goytre Village Hall (GVH) Newtown Road Penperlleni Pontypool NP4 0AW United Kingdom;X-APPLE-RADIUS=500;X-TITLE=Newtown Road\, Penperlleni:geo:-2.9802108,51.73642
END:VEVENT
END:VCALENDAR