BEGIN:VCALENDAR
VERSION:2.0
PRODID:-//Gwent Mountaineering Club - ECPv6.15.20//NONSGML v1.0//EN
CALSCALE:GREGORIAN
METHOD:PUBLISH
X-WR-CALNAME:Gwent Mountaineering Club
X-ORIGINAL-URL:https://gwentmc.club
X-WR-CALDESC:Events for Gwent Mountaineering Club
REFRESH-INTERVAL;VALUE=DURATION:PT1H
X-Robots-Tag:noindex
X-PUBLISHED-TTL:PT1H
BEGIN:VTIMEZONE
TZID:Europe/London
BEGIN:DAYLIGHT
TZOFFSETFROM:+0000
TZOFFSETTO:+0100
TZNAME:BST
DTSTART:20250330T010000
END:DAYLIGHT
BEGIN:STANDARD
TZOFFSETFROM:+0100
TZOFFSETTO:+0000
TZNAME:GMT
DTSTART:20251026T010000
END:STANDARD
BEGIN:DAYLIGHT
TZOFFSETFROM:+0000
TZOFFSETTO:+0100
TZNAME:BST
DTSTART:20260329T010000
END:DAYLIGHT
BEGIN:STANDARD
TZOFFSETFROM:+0100
TZOFFSETTO:+0000
TZNAME:GMT
DTSTART:20261025T010000
END:STANDARD
BEGIN:DAYLIGHT
TZOFFSETFROM:+0000
TZOFFSETTO:+0100
TZNAME:BST
DTSTART:20270328T010000
END:DAYLIGHT
BEGIN:STANDARD
TZOFFSETFROM:+0100
TZOFFSETTO:+0000
TZNAME:GMT
DTSTART:20271031T010000
END:STANDARD
END:VTIMEZONE
BEGIN:VEVENT
DTSTART;VALUE=DATE:20260401
DTEND;VALUE=DATE:20260816
DTSTAMP:20260422T123819
CREATED:20260205T182515Z
LAST-MODIFIED:20260205T182526Z
UID:10000983-1775001600-1786838399@gwentmc.club
SUMMARY:Outdoor climbs: '50@50' climbing special! Celebrating 50 years of Gwentmc
DESCRIPTION:Calling all climbers! As part of the club’s 50th anniversary\, a second climbing event is being planned- this one is outdoors. \nThe premise is to climb as many routes as you can between 1st April 2026 and the 15th August 2026. We need a list of the 50 best routes from the Wye Valley to Pembroke before April please. The routes can range from 4 to E2 ie. be fairly inclusive with the midrange going to be the most popular. There will be no leeway on the grades even if some E3’s in Pembroke are world class! \nThe BMC are aware of our celebrations and photos of climbs will be needed. \nReply to John Jones directly on WhatsApp and join the ’50 routes’ WhatsApp chat. \nOnce the routes are finalised we’ll publish a PDF of them. Get thinking and get some finger tape!
URL:https://gwentmc.club/event/outdoor-climbs-5050-climbing-special-celebrating-50-years-of-gwentmc/
CATEGORIES:Rock climbing,Sport,Trad,Wednesday climbing,Weekend climbing
ATTACH;FMTTYPE=image/jpeg:https://gwentmc.club/wp-content/uploads/2023/05/gilwern-main-wall-two-climbing.jpg
END:VEVENT
BEGIN:VEVENT
DTSTART;TZID=Europe/London:20260506T153000
DTEND;TZID=Europe/London:20260506T213000
DTSTAMP:20260422T123819
CREATED:20260315T155351Z
LAST-MODIFIED:20260318T191757Z
UID:10001001-1778081400-1778103000@gwentmc.club
SUMMARY:Climb: Twynau Gwynion (Trad)
DESCRIPTION:https://www.ukclimbing.com/logbook/crags/twynau_gwynion_quarries-1050/ \npost code CF48 2SS. \nClimbing meets are weather dependent and can change at short notice. Please contact the organiser for more information.
URL:https://gwentmc.club/event/climb-twynau-gwynion-trad/
CATEGORIES:Rock climbing,Wednesday climbing
ATTACH;FMTTYPE=image/jpeg:https://gwentmc.club/wp-content/uploads/2026/03/Twynau-Gwynion.jpeg
END:VEVENT
BEGIN:VEVENT
DTSTART;TZID=Europe/London:20260513T150000
DTEND;TZID=Europe/London:20260513T210000
DTSTAMP:20260422T123819
CREATED:20260315T155553Z
LAST-MODIFIED:20260315T155553Z
UID:10001002-1778684400-1778706000@gwentmc.club
SUMMARY:Climb: The Gap (sport)
DESCRIPTION:Sport climbing at The Gap. CF46 5PG \nTimings will be advised via climbing group comms. \nUKC Logbook – The Gap (ukclimbing.com) \nThe Gap – South Wales Climbing Wiki (SWCW) \nClimbing meets are weather dependent and can change at short notice. Please contact the organiser for more information.
URL:https://gwentmc.club/event/climb-the-gap-sport-3/
LOCATION:The Gap
CATEGORIES:Rock climbing,Sport,Wednesday climbing
ATTACH;FMTTYPE=image/jpeg:https://gwentmc.club/wp-content/uploads/2023/03/The-Gap.jpg
END:VEVENT
BEGIN:VEVENT
DTSTART;TZID=Europe/London:20260520T150000
DTEND;TZID=Europe/London:20260520T210000
DTSTAMP:20260422T123819
CREATED:20260315T155717Z
LAST-MODIFIED:20260315T155717Z
UID:10001003-1779289200-1779310800@gwentmc.club
SUMMARY:Climb: Gelli (sport) 50@50 crag
DESCRIPTION:Sport climbing at Gelli. 50@50 crag \nTimings will be advised via climbing group comms. \nUKC Logbook – Gelli (ukclimbing.com) \nGelli – South Wales Climbing Wiki (SWCW) \nClimbing meets are weather dependent and can change at short notice. Please contact the organiser for more information.
URL:https://gwentmc.club/event/climb-gelli-sport-5050-crag/
LOCATION:Gelli
CATEGORIES:Rock climbing,Sport,Wednesday climbing
ATTACH;FMTTYPE=image/jpeg:https://gwentmc.club/wp-content/uploads/2023/03/Gelli.jpg
END:VEVENT
END:VCALENDAR