BEGIN:VCALENDAR
VERSION:2.0
PRODID:-//Gwent Mountaineering Club - ECPv6.15.20//NONSGML v1.0//EN
CALSCALE:GREGORIAN
METHOD:PUBLISH
X-ORIGINAL-URL:https://gwentmc.club
X-WR-CALDESC:Events for Gwent Mountaineering Club
REFRESH-INTERVAL;VALUE=DURATION:PT1H
X-Robots-Tag:noindex
X-PUBLISHED-TTL:PT1H
BEGIN:VTIMEZONE
TZID:Europe/London
BEGIN:DAYLIGHT
TZOFFSETFROM:+0000
TZOFFSETTO:+0100
TZNAME:BST
DTSTART:20230326T010000
END:DAYLIGHT
BEGIN:STANDARD
TZOFFSETFROM:+0100
TZOFFSETTO:+0000
TZNAME:GMT
DTSTART:20231029T010000
END:STANDARD
BEGIN:DAYLIGHT
TZOFFSETFROM:+0000
TZOFFSETTO:+0100
TZNAME:BST
DTSTART:20240331T010000
END:DAYLIGHT
BEGIN:STANDARD
TZOFFSETFROM:+0100
TZOFFSETTO:+0000
TZNAME:GMT
DTSTART:20241027T010000
END:STANDARD
BEGIN:DAYLIGHT
TZOFFSETFROM:+0000
TZOFFSETTO:+0100
TZNAME:BST
DTSTART:20250330T010000
END:DAYLIGHT
BEGIN:STANDARD
TZOFFSETFROM:+0100
TZOFFSETTO:+0000
TZNAME:GMT
DTSTART:20251026T010000
END:STANDARD
END:VTIMEZONE
BEGIN:VEVENT
DTSTART;TZID=Europe/London:20240703T150000
DTEND;TZID=Europe/London:20240703T210000
DTSTAMP:20260421T112848
CREATED:20240428T075644Z
LAST-MODIFIED:20240428T081712Z
UID:10000371-1720018800-1720040400@gwentmc.club
SUMMARY:Climb: Sirhowy (Sport)
DESCRIPTION:Wednesday evening climbing at Sirhowy. Sport. \nTimings will be advised via climbing group comms. For more details please contact John Jones. \nUKC Logbook (ukclimbing.com): Sirhowy \nSouth Wales Climbing Wiki (SWCW): Sirhowy – Quarry Mawr \nClimbing meets are weather dependent and can change at short notice. Please contact the organiser for more information.
URL:https://gwentmc.club/event/climb-sirhowy-sport-2_03-07-2024/
CATEGORIES:Rock climbing,Sport,Wednesday climbing
ATTACH;FMTTYPE=image/jpeg:https://gwentmc.club/wp-content/uploads/2023/05/05July2023-Sirhowy-Crag-1024x1024-1.jpg
END:VEVENT
BEGIN:VEVENT
DTSTART;TZID=Europe/London:20240710T150000
DTEND;TZID=Europe/London:20240710T210000
DTSTAMP:20260421T112848
CREATED:20240428T080328Z
LAST-MODIFIED:20240428T080328Z
UID:10000373-1720623600-1720645200@gwentmc.club
SUMMARY:Climb: Navigation Quarry (mostly sport\, some trad).
DESCRIPTION:Navigation Quarry climb (mostly sport\, some trad). \nTimings will be advised via climbing group comms for more details please contact John Jones. \nClimbing meets are weather dependent and can change at short notice. Please contact the organiser for more information.
URL:https://gwentmc.club/event/climb-navigation-quarry-10-07-2024/
CATEGORIES:Rock climbing,Sport,Trad,Wednesday climbing
ATTACH;FMTTYPE=image/jpeg:https://gwentmc.club/wp-content/uploads/2024/02/Naviagtion-Quarry.jpg
END:VEVENT
BEGIN:VEVENT
DTSTART;TZID=Europe/London:20240717T150000
DTEND;TZID=Europe/London:20240717T210000
DTSTAMP:20260421T112848
CREATED:20240428T080901Z
LAST-MODIFIED:20240428T080901Z
UID:10000375-1721228400-1721250000@gwentmc.club
SUMMARY:Climb: The Gap (sport)
DESCRIPTION:Sport climbing at The Gap – lower quarry \nTimings will be advised via climbing group comms for more details please contact John Jones. \nUKC Logbook – The Gap (ukclimbing.com) \nThe Gap – South Wales Climbing Wiki (SWCW) \nClimbing meets are weather dependent and can change at short notice. Please contact the organiser for more information.
URL:https://gwentmc.club/event/climb-the-gap-sport-2/
LOCATION:The Gap
CATEGORIES:Rock climbing,Sport,Wednesday climbing
ATTACH;FMTTYPE=image/jpeg:https://gwentmc.club/wp-content/uploads/2023/03/The-Gap.jpg
END:VEVENT
BEGIN:VEVENT
DTSTART;TZID=Europe/London:20240724T150000
DTEND;TZID=Europe/London:20240724T210000
DTSTAMP:20260421T112848
CREATED:20240428T081950Z
LAST-MODIFIED:20240428T082007Z
UID:10000377-1721833200-1721854800@gwentmc.club
SUMMARY:Climb: Mountain Ash (Mostly sport\, some trad)
DESCRIPTION:Wednesday evening climbing at Mountain Ash. Mostly sport\, some trad. \nTimings will be advised via climbing group comms. For more details please contact John Jones. \nUKC Logbook (ukclimbing.com): Mountain Ash \nSouth Wales Climbing Wiki (SWCW): Mountain Ash \nClimbing meets are weather dependent and can change at short notice. Please contact the organiser for more information.
URL:https://gwentmc.club/event/climb-mountain-ash-mostly-sport-some-trad-24-07-2024/
CATEGORIES:Rock climbing,Sport,Trad,Wednesday climbing
END:VEVENT
BEGIN:VEVENT
DTSTART;TZID=Europe/London:20240731T150000
DTEND;TZID=Europe/London:20240731T210000
DTSTAMP:20260421T112848
CREATED:20240626T180356Z
LAST-MODIFIED:20240626T180356Z
UID:10000394-1722438000-1722459600@gwentmc.club
SUMMARY:Climb: Bargoed (Sport)
DESCRIPTION:Wednesday evening climbing at Bargoed. Sport. \nTimings will be advised via climbing group comms. For more details please contact John Jones. \nUKC Logbook (ukclimbing.com): Bargoed \nSouth Wales Climbing Wiki (SWCW): Bargoed
URL:https://gwentmc.club/event/climb-bargoed-sport-2/
CATEGORIES:Rock climbing,Sport,Wednesday climbing
END:VEVENT
END:VCALENDAR