BEGIN:VCALENDAR
VERSION:2.0
PRODID:-//Gwent Mountaineering Club - ECPv6.15.20//NONSGML v1.0//EN
CALSCALE:GREGORIAN
METHOD:PUBLISH
X-WR-CALNAME:Gwent Mountaineering Club
X-ORIGINAL-URL:https://gwentmc.club
X-WR-CALDESC:Events for Gwent Mountaineering Club
REFRESH-INTERVAL;VALUE=DURATION:PT1H
X-Robots-Tag:noindex
X-PUBLISHED-TTL:PT1H
BEGIN:VTIMEZONE
TZID:Europe/London
BEGIN:DAYLIGHT
TZOFFSETFROM:+0000
TZOFFSETTO:+0100
TZNAME:BST
DTSTART:20230326T010000
END:DAYLIGHT
BEGIN:STANDARD
TZOFFSETFROM:+0100
TZOFFSETTO:+0000
TZNAME:GMT
DTSTART:20231029T010000
END:STANDARD
BEGIN:DAYLIGHT
TZOFFSETFROM:+0000
TZOFFSETTO:+0100
TZNAME:BST
DTSTART:20240331T010000
END:DAYLIGHT
BEGIN:STANDARD
TZOFFSETFROM:+0100
TZOFFSETTO:+0000
TZNAME:GMT
DTSTART:20241027T010000
END:STANDARD
BEGIN:DAYLIGHT
TZOFFSETFROM:+0000
TZOFFSETTO:+0100
TZNAME:BST
DTSTART:20250330T010000
END:DAYLIGHT
BEGIN:STANDARD
TZOFFSETFROM:+0100
TZOFFSETTO:+0000
TZNAME:GMT
DTSTART:20251026T010000
END:STANDARD
END:VTIMEZONE
BEGIN:VEVENT
DTSTART;TZID=Europe/London:20240605T150000
DTEND;TZID=Europe/London:20240605T210000
DTSTAMP:20260421T125711
CREATED:20240227T203435Z
LAST-MODIFIED:20240410T204823Z
UID:10000340-1717599600-1717621200@gwentmc.club
SUMMARY:Climb: Taff's Well West (sport)
DESCRIPTION:Climbing at Taff’s Well West (sport) \nTimings will be advised via climbing group comms for more details please contact John Jones. \nUKC Logbook – Taff’s Well (ukclimbing.com) \nTaffs Well – South Wales Climbing Wiki (SWCW) \nClimbing meets are weather dependent and can change at short notice. Please contact the organiser for more information.
URL:https://gwentmc.club/event/climb-taffs-well-west-sport-05-06-2024/
LOCATION:Taff’s Well West
CATEGORIES:Rock climbing,Sport,Wednesday climbing
ATTACH;FMTTYPE=image/jpeg:https://gwentmc.club/wp-content/uploads/2023/03/Taffs-Well-Main-2.jpg
END:VEVENT
BEGIN:VEVENT
DTSTART;TZID=Europe/London:20240612T150000
DTEND;TZID=Europe/London:20240612T210000
DTSTAMP:20260421T125711
CREATED:20240227T203850Z
LAST-MODIFIED:20240610T114711Z
UID:10000342-1718204400-1718226000@gwentmc.club
SUMMARY:Climb: Gap Upper Quarry
DESCRIPTION:Wednesday evening climbing at Gap Upper Quarry. \nTimings will be advised via climbing group comms. For more details please contact John Jones. \nClimbing meets are weather dependent and can change at short notice. Please contact the organiser for more information.
URL:https://gwentmc.club/event/climb-llanbradach-sport-12-06-2024/
CATEGORIES:Rock climbing,Sport,Wednesday climbing
END:VEVENT
BEGIN:VEVENT
DTSTART;TZID=Europe/London:20240619T150000
DTEND;TZID=Europe/London:20240619T210000
DTSTAMP:20260421T125711
CREATED:20240227T204313Z
LAST-MODIFIED:20240410T204445Z
UID:10000344-1718809200-1718830800@gwentmc.club
SUMMARY:Climb: Ogmore (Trad)
DESCRIPTION:Wednesday evening sea cliff climbing at Ogmore. \nTimings will be advised via climbing group comms for more details please contact John Jones. \nUKC Logbook (ukclimbing.com): Ogmore Main \nSouth Wales Climbing Wiki (SWCW): Ogmore \nClimbing meets are weather dependent and can change at short notice. Please contact the organiser for more information.
URL:https://gwentmc.club/event/climb-ogmore-trad-19-06-2024/
CATEGORIES:Rock climbing,Trad,Wednesday climbing
ATTACH;FMTTYPE=image/jpeg:https://gwentmc.club/wp-content/uploads/2023/05/16aug2023-ogmore-trad-climb.jpg
END:VEVENT
BEGIN:VEVENT
DTSTART;TZID=Europe/London:20240626T150000
DTEND;TZID=Europe/London:20240626T210000
DTSTAMP:20260421T125711
CREATED:20240227T204828Z
LAST-MODIFIED:20240410T204236Z
UID:10000346-1719414000-1719435600@gwentmc.club
SUMMARY:Climb: Mountain Ash (Mostly sport\, some trad)
DESCRIPTION:Wednesday evening climbing at Mountain Ash. Mostly sport\, some trad. \nTimings will be advised via climbing group comms. For more details please contact John Jones. \nUKC Logbook (ukclimbing.com): Mountain Ash \nSouth Wales Climbing Wiki (SWCW): Mountain Ash \nClimbing meets are weather dependent and can change at short notice. Please contact the organiser for more information.
URL:https://gwentmc.club/event/climb-mountain-ash-26-06-2024/
CATEGORIES:Rock climbing,Sport,Trad,Wednesday climbing
END:VEVENT
END:VCALENDAR