BEGIN:VCALENDAR
VERSION:2.0
PRODID:-//Gwent Mountaineering Club - ECPv6.15.20//NONSGML v1.0//EN
CALSCALE:GREGORIAN
METHOD:PUBLISH
X-ORIGINAL-URL:https://gwentmc.club
X-WR-CALDESC:Events for Gwent Mountaineering Club
REFRESH-INTERVAL;VALUE=DURATION:PT1H
X-Robots-Tag:noindex
X-PUBLISHED-TTL:PT1H
BEGIN:VTIMEZONE
TZID:Europe/London
BEGIN:DAYLIGHT
TZOFFSETFROM:+0000
TZOFFSETTO:+0100
TZNAME:BST
DTSTART:20220327T010000
END:DAYLIGHT
BEGIN:STANDARD
TZOFFSETFROM:+0100
TZOFFSETTO:+0000
TZNAME:GMT
DTSTART:20221030T010000
END:STANDARD
BEGIN:DAYLIGHT
TZOFFSETFROM:+0000
TZOFFSETTO:+0100
TZNAME:BST
DTSTART:20230326T010000
END:DAYLIGHT
BEGIN:STANDARD
TZOFFSETFROM:+0100
TZOFFSETTO:+0000
TZNAME:GMT
DTSTART:20231029T010000
END:STANDARD
BEGIN:DAYLIGHT
TZOFFSETFROM:+0000
TZOFFSETTO:+0100
TZNAME:BST
DTSTART:20240331T010000
END:DAYLIGHT
BEGIN:STANDARD
TZOFFSETFROM:+0100
TZOFFSETTO:+0000
TZNAME:GMT
DTSTART:20241027T010000
END:STANDARD
END:VTIMEZONE
BEGIN:VEVENT
DTSTART;TZID=Europe/London:20230802T150000
DTEND;TZID=Europe/London:20230802T210000
DTSTAMP:20260422T060226
CREATED:20230530T132023Z
LAST-MODIFIED:20230530T132023Z
UID:10000230-1690988400-1691010000@gwentmc.club
SUMMARY:Climb: Bargoed (Sport)
DESCRIPTION:Wednesday evening climbing at Bargoed. Sport. \nTimings will be advised via climbing group comms. For more details please contact John Jones. \nUKC Logbook (ukclimbing.com): Bargoed \nSouth Wales Climbing Wiki (SWCW): Bargoed
URL:https://gwentmc.club/event/climb-bargoed-sport/
CATEGORIES:Rock climbing,Sport,Wednesday climbing
END:VEVENT
BEGIN:VEVENT
DTSTART;TZID=Europe/London:20230809T150000
DTEND;TZID=Europe/London:20230809T210000
DTSTAMP:20260422T060226
CREATED:20230530T132338Z
LAST-MODIFIED:20230530T132338Z
UID:10000231-1691593200-1691614800@gwentmc.club
SUMMARY:Climb: Castle Upon Alun (Sport)
DESCRIPTION:Wednesday evening climbing at Castle Upon Alun Quarry. Sport. \nTimings will be advised via climbing group comms. For more details please contact John Jones. \nUKC Logbook (ukclimbing.com): Castle Upon Alun Quarry \nSouth Wales Climbing Wiki (SWCW): Castle Upon Alun
URL:https://gwentmc.club/event/climb-castle-upon-alun-sport/
CATEGORIES:Rock climbing,Sport,Wednesday climbing
END:VEVENT
BEGIN:VEVENT
DTSTART;TZID=Europe/London:20230816T150000
DTEND;TZID=Europe/London:20230816T210000
DTSTAMP:20260422T060226
CREATED:20230530T133318Z
LAST-MODIFIED:20230620T074302Z
UID:10000235-1692198000-1692219600@gwentmc.club
SUMMARY:Climb: Ogmore (Trad)
DESCRIPTION:Wednesday evening sea cliff climbing at Ogmore. \nTimings will be advised via climbing group comms for more details please contact John Jones. \nUKC Logbook (ukclimbing.com): Ogmore Main \nSouth Wales Climbing Wiki (SWCW): Ogmore
URL:https://gwentmc.club/event/climb-ogmore-trad/
CATEGORIES:Rock climbing,Trad,Wednesday climbing
ATTACH;FMTTYPE=image/jpeg:https://gwentmc.club/wp-content/uploads/2023/05/16aug2023-ogmore-trad-climb.jpg
END:VEVENT
BEGIN:VEVENT
DTSTART;TZID=Europe/London:20230823T150000
DTEND;TZID=Europe/London:20230823T210000
DTSTAMP:20260422T060226
CREATED:20230530T132809Z
LAST-MODIFIED:20230622T070610Z
UID:10000233-1692802800-1692824400@gwentmc.club
SUMMARY:Climb: Taff's Well (Sport)
DESCRIPTION:Wednesday evening climbing at Taff’s Well. Sport. \nTimings will be advised via climbing group comms. For more details please contact John Jones. \nUKC Logbook (ukclimbing.com): Taff’s Well \nSouth Wales Climbing Wiki (SWCW): Taff’s Well
URL:https://gwentmc.club/event/climb-taffs-well-sport/
CATEGORIES:Rock climbing,Sport,Wednesday climbing
ATTACH;FMTTYPE=image/jpeg:https://gwentmc.club/wp-content/uploads/2023/05/climb-taffswellmain-21jun2023.jpg
END:VEVENT
BEGIN:VEVENT
DTSTART;TZID=Europe/London:20230830T150000
DTEND;TZID=Europe/London:20230830T210000
DTSTAMP:20260422T060226
CREATED:20230530T132924Z
LAST-MODIFIED:20230530T134614Z
UID:10000234-1693407600-1693429200@gwentmc.club
SUMMARY:Climb: Navigation Quarry (Sport with some trad)
DESCRIPTION:Climbing at Navigation Quarry. \nTimings will be advised via climbing group comms for more details please contact John Jones. \nUKC Logbook (ukclimbing.com): Navigation Quarry \nSouth Wales Climbing Wiki (SWCW): Navigation Quarry
URL:https://gwentmc.club/event/climb-navigation-quarry-sport-with-some-trad-3/
CATEGORIES:Rock climbing,Wednesday climbing
ATTACH;FMTTYPE=image/jpeg:https://gwentmc.club/wp-content/uploads/2023/03/Navigation.jpg
END:VEVENT
END:VCALENDAR