BEGIN:VCALENDAR
VERSION:2.0
PRODID:-//Gwent Mountaineering Club - ECPv6.15.20//NONSGML v1.0//EN
CALSCALE:GREGORIAN
METHOD:PUBLISH
X-ORIGINAL-URL:https://gwentmc.club
X-WR-CALDESC:Events for Gwent Mountaineering Club
REFRESH-INTERVAL;VALUE=DURATION:PT1H
X-Robots-Tag:noindex
X-PUBLISHED-TTL:PT1H
BEGIN:VTIMEZONE
TZID:Europe/London
BEGIN:DAYLIGHT
TZOFFSETFROM:+0000
TZOFFSETTO:+0100
TZNAME:BST
DTSTART:20220327T010000
END:DAYLIGHT
BEGIN:STANDARD
TZOFFSETFROM:+0100
TZOFFSETTO:+0000
TZNAME:GMT
DTSTART:20221030T010000
END:STANDARD
BEGIN:DAYLIGHT
TZOFFSETFROM:+0000
TZOFFSETTO:+0100
TZNAME:BST
DTSTART:20230326T010000
END:DAYLIGHT
BEGIN:STANDARD
TZOFFSETFROM:+0100
TZOFFSETTO:+0000
TZNAME:GMT
DTSTART:20231029T010000
END:STANDARD
BEGIN:DAYLIGHT
TZOFFSETFROM:+0000
TZOFFSETTO:+0100
TZNAME:BST
DTSTART:20240331T010000
END:DAYLIGHT
BEGIN:STANDARD
TZOFFSETFROM:+0100
TZOFFSETTO:+0000
TZNAME:GMT
DTSTART:20241027T010000
END:STANDARD
END:VTIMEZONE
BEGIN:VEVENT
DTSTART;TZID=Europe/London:20230301T180000
DTEND;TZID=Europe/London:20230301T210000
DTSTAMP:20260422T141721
CREATED:20221220T161114Z
LAST-MODIFIED:20221221T100020Z
UID:10000138-1677693600-1677704400@gwentmc.club
SUMMARY:Indoor climbing (every 1st Wednesday\, October - March)
DESCRIPTION:Indoor climbing takes place every 1st Wednesday of the month through the winter from October – March at Rock UK Summit Centre\, Trelewis
URL:https://gwentmc.club/event/indoor-climbing-every-1st-wednesday-october-march/2023-03-01/
LOCATION:Summit Centre\, Trelewis\, The Old Drift Mine Trelewis\, Treharris\, CF46 6RD
CATEGORIES:Climbing wall,Indoor,Wednesday climbing
ATTACH;FMTTYPE=image/jpeg:https://gwentmc.club/wp-content/uploads/2022/12/event-indoorclimbing-2.jpg
END:VEVENT
BEGIN:VEVENT
DTSTART;TZID=Europe/London:20230308T180000
DTEND;TZID=Europe/London:20230308T210000
DTSTAMP:20260422T141721
CREATED:20221220T160117Z
LAST-MODIFIED:20221221T095946Z
UID:10000122-1678298400-1678309200@gwentmc.club
SUMMARY:Indoor climbing (every 2nd\, 3rd\, 4th Wednesday\, October - March)
DESCRIPTION:Indoor climbing takes place every 2nd\, 3rd\, 4th Wednesday of the month through the winter from October – March at Boulders\, Cardiff St. Catherines Park\, Pengam Road\, Cardiff.
URL:https://gwentmc.club/event/indoor-climbing-every-2nd-3rd-4th-wednesday-october-march/2023-03-08/
LOCATION:Boulders\, Cardiff\, St. Catherines Park\, Pengam Road\, Cardiff\, CF24 2RZ
CATEGORIES:Climbing wall,Indoor,Wednesday climbing
ATTACH;FMTTYPE=image/jpeg:https://gwentmc.club/wp-content/uploads/2022/12/event-indoorclimbing-1.jpg
END:VEVENT
BEGIN:VEVENT
DTSTART;TZID=Europe/London:20230315T180000
DTEND;TZID=Europe/London:20230315T210000
DTSTAMP:20260422T141721
CREATED:20221220T160117Z
LAST-MODIFIED:20221221T095946Z
UID:10000123-1678903200-1678914000@gwentmc.club
SUMMARY:Indoor climbing (every 2nd\, 3rd\, 4th Wednesday\, October - March)
DESCRIPTION:Indoor climbing takes place every 2nd\, 3rd\, 4th Wednesday of the month through the winter from October – March at Boulders\, Cardiff St. Catherines Park\, Pengam Road\, Cardiff.
URL:https://gwentmc.club/event/indoor-climbing-every-2nd-3rd-4th-wednesday-october-march/2023-03-15/
LOCATION:Boulders\, Cardiff\, St. Catherines Park\, Pengam Road\, Cardiff\, CF24 2RZ
CATEGORIES:Climbing wall,Indoor,Wednesday climbing
ATTACH;FMTTYPE=image/jpeg:https://gwentmc.club/wp-content/uploads/2022/12/event-indoorclimbing-1.jpg
END:VEVENT
BEGIN:VEVENT
DTSTART;TZID=Europe/London:20230322T180000
DTEND;TZID=Europe/London:20230322T210000
DTSTAMP:20260422T141721
CREATED:20221220T160117Z
LAST-MODIFIED:20221221T095946Z
UID:10000124-1679508000-1679518800@gwentmc.club
SUMMARY:Indoor climbing (every 2nd\, 3rd\, 4th Wednesday\, October - March)
DESCRIPTION:Indoor climbing takes place every 2nd\, 3rd\, 4th Wednesday of the month through the winter from October – March at Boulders\, Cardiff St. Catherines Park\, Pengam Road\, Cardiff.
URL:https://gwentmc.club/event/indoor-climbing-every-2nd-3rd-4th-wednesday-october-march/2023-03-22/
LOCATION:Boulders\, Cardiff\, St. Catherines Park\, Pengam Road\, Cardiff\, CF24 2RZ
CATEGORIES:Climbing wall,Indoor,Wednesday climbing
ATTACH;FMTTYPE=image/jpeg:https://gwentmc.club/wp-content/uploads/2022/12/event-indoorclimbing-1.jpg
END:VEVENT
BEGIN:VEVENT
DTSTART;TZID=Europe/London:20230329T180000
DTEND;TZID=Europe/London:20230329T210000
DTSTAMP:20260422T141721
CREATED:20221220T160117Z
LAST-MODIFIED:20221221T095946Z
UID:10000125-1680112800-1680123600@gwentmc.club
SUMMARY:Indoor climbing (every 2nd\, 3rd\, 4th Wednesday\, October - March)
DESCRIPTION:Indoor climbing takes place every 2nd\, 3rd\, 4th Wednesday of the month through the winter from October – March at Boulders\, Cardiff St. Catherines Park\, Pengam Road\, Cardiff.
URL:https://gwentmc.club/event/indoor-climbing-every-2nd-3rd-4th-wednesday-october-march/2023-03-29/
LOCATION:Boulders\, Cardiff\, St. Catherines Park\, Pengam Road\, Cardiff\, CF24 2RZ
CATEGORIES:Climbing wall,Indoor,Wednesday climbing
ATTACH;FMTTYPE=image/jpeg:https://gwentmc.club/wp-content/uploads/2022/12/event-indoorclimbing-1.jpg
END:VEVENT
END:VCALENDAR