BEGIN:VCALENDAR
VERSION:2.0
PRODID:-//Gwent Mountaineering Club - ECPv6.15.20//NONSGML v1.0//EN
CALSCALE:GREGORIAN
METHOD:PUBLISH
X-ORIGINAL-URL:https://gwentmc.club
X-WR-CALDESC:Events for Gwent Mountaineering Club
REFRESH-INTERVAL;VALUE=DURATION:PT1H
X-Robots-Tag:noindex
X-PUBLISHED-TTL:PT1H
BEGIN:VTIMEZONE
TZID:Europe/London
BEGIN:DAYLIGHT
TZOFFSETFROM:+0000
TZOFFSETTO:+0100
TZNAME:BST
DTSTART:20230326T010000
END:DAYLIGHT
BEGIN:STANDARD
TZOFFSETFROM:+0100
TZOFFSETTO:+0000
TZNAME:GMT
DTSTART:20231029T010000
END:STANDARD
BEGIN:DAYLIGHT
TZOFFSETFROM:+0000
TZOFFSETTO:+0100
TZNAME:BST
DTSTART:20240331T010000
END:DAYLIGHT
BEGIN:STANDARD
TZOFFSETFROM:+0100
TZOFFSETTO:+0000
TZNAME:GMT
DTSTART:20241027T010000
END:STANDARD
BEGIN:DAYLIGHT
TZOFFSETFROM:+0000
TZOFFSETTO:+0100
TZNAME:BST
DTSTART:20250330T010000
END:DAYLIGHT
BEGIN:STANDARD
TZOFFSETFROM:+0100
TZOFFSETTO:+0000
TZNAME:GMT
DTSTART:20251026T010000
END:STANDARD
BEGIN:DAYLIGHT
TZOFFSETFROM:+0000
TZOFFSETTO:+0100
TZNAME:BST
DTSTART:20260329T010000
END:DAYLIGHT
BEGIN:STANDARD
TZOFFSETFROM:+0100
TZOFFSETTO:+0000
TZNAME:GMT
DTSTART:20261025T010000
END:STANDARD
END:VTIMEZONE
BEGIN:VEVENT
DTSTART;TZID=Europe/London:20250122T180000
DTEND;TZID=Europe/London:20250122T213000
DTSTAMP:20260423T143234
CREATED:20240922T155748Z
LAST-MODIFIED:20240922T160347Z
UID:10000753-1737568800-1737581400@gwentmc.club
SUMMARY:Indoor climb: Every Wednesday (October - March)
DESCRIPTION:Join us every Wednesday from 6pm for indoor climbing over the winter months from October through to the end of March 2025. There is a choice of 2 climbing venues so we hope to see you at one of them! \nBoulders Cardiff\, St. Catherines Park\, Cardiff\, CF24 2RZ \nThe Summit Centre\, The Old Drift Mine Trelewis\, Treharris South Wales\, CF46 6RD
URL:https://gwentmc.club/event/indoor-climb-every-wednesday-october-march/2025-01-22/
LOCATION:Summit Centre\, Trelewis\, The Old Drift Mine Trelewis\, Treharris\, CF46 6RD
CATEGORIES:Climbing wall,Indoor,Wednesday climbing
ATTACH;FMTTYPE=image/jpeg:https://gwentmc.club/wp-content/uploads/2022/12/event-indoorclimbing-2.jpg
END:VEVENT
BEGIN:VEVENT
DTSTART;TZID=Europe/London:20250115T180000
DTEND;TZID=Europe/London:20250115T213000
DTSTAMP:20260423T143234
CREATED:20240922T155748Z
LAST-MODIFIED:20240922T160347Z
UID:10000752-1736964000-1736976600@gwentmc.club
SUMMARY:Indoor climb: Every Wednesday (October - March)
DESCRIPTION:Join us every Wednesday from 6pm for indoor climbing over the winter months from October through to the end of March 2025. There is a choice of 2 climbing venues so we hope to see you at one of them! \nBoulders Cardiff\, St. Catherines Park\, Cardiff\, CF24 2RZ \nThe Summit Centre\, The Old Drift Mine Trelewis\, Treharris South Wales\, CF46 6RD
URL:https://gwentmc.club/event/indoor-climb-every-wednesday-october-march/2025-01-15/
LOCATION:Summit Centre\, Trelewis\, The Old Drift Mine Trelewis\, Treharris\, CF46 6RD
CATEGORIES:Climbing wall,Indoor,Wednesday climbing
ATTACH;FMTTYPE=image/jpeg:https://gwentmc.club/wp-content/uploads/2022/12/event-indoorclimbing-2.jpg
END:VEVENT
BEGIN:VEVENT
DTSTART;TZID=Europe/London:20250108T180000
DTEND;TZID=Europe/London:20250108T213000
DTSTAMP:20260423T143234
CREATED:20240922T155748Z
LAST-MODIFIED:20240922T160347Z
UID:10000751-1736359200-1736371800@gwentmc.club
SUMMARY:Indoor climb: Every Wednesday (October - March)
DESCRIPTION:Join us every Wednesday from 6pm for indoor climbing over the winter months from October through to the end of March 2025. There is a choice of 2 climbing venues so we hope to see you at one of them! \nBoulders Cardiff\, St. Catherines Park\, Cardiff\, CF24 2RZ \nThe Summit Centre\, The Old Drift Mine Trelewis\, Treharris South Wales\, CF46 6RD
URL:https://gwentmc.club/event/indoor-climb-every-wednesday-october-march/2025-01-08/
LOCATION:Summit Centre\, Trelewis\, The Old Drift Mine Trelewis\, Treharris\, CF46 6RD
CATEGORIES:Climbing wall,Indoor,Wednesday climbing
ATTACH;FMTTYPE=image/jpeg:https://gwentmc.club/wp-content/uploads/2022/12/event-indoorclimbing-2.jpg
END:VEVENT
BEGIN:VEVENT
DTSTART;TZID=Europe/London:20250101T180000
DTEND;TZID=Europe/London:20250101T213000
DTSTAMP:20260423T143234
CREATED:20240922T155748Z
LAST-MODIFIED:20240922T160347Z
UID:10000750-1735754400-1735767000@gwentmc.club
SUMMARY:Indoor climb: Every Wednesday (October - March)
DESCRIPTION:Join us every Wednesday from 6pm for indoor climbing over the winter months from October through to the end of March 2025. There is a choice of 2 climbing venues so we hope to see you at one of them! \nBoulders Cardiff\, St. Catherines Park\, Cardiff\, CF24 2RZ \nThe Summit Centre\, The Old Drift Mine Trelewis\, Treharris South Wales\, CF46 6RD
URL:https://gwentmc.club/event/indoor-climb-every-wednesday-october-march/2025-01-01/
LOCATION:Summit Centre\, Trelewis\, The Old Drift Mine Trelewis\, Treharris\, CF46 6RD
CATEGORIES:Climbing wall,Indoor,Wednesday climbing
ATTACH;FMTTYPE=image/jpeg:https://gwentmc.club/wp-content/uploads/2022/12/event-indoorclimbing-2.jpg
END:VEVENT
BEGIN:VEVENT
DTSTART;TZID=Europe/London:20241225T180000
DTEND;TZID=Europe/London:20241225T213000
DTSTAMP:20260423T143234
CREATED:20240922T155748Z
LAST-MODIFIED:20240922T160347Z
UID:10000749-1735149600-1735162200@gwentmc.club
SUMMARY:Indoor climb: Every Wednesday (October - March)
DESCRIPTION:Join us every Wednesday from 6pm for indoor climbing over the winter months from October through to the end of March 2025. There is a choice of 2 climbing venues so we hope to see you at one of them! \nBoulders Cardiff\, St. Catherines Park\, Cardiff\, CF24 2RZ \nThe Summit Centre\, The Old Drift Mine Trelewis\, Treharris South Wales\, CF46 6RD
URL:https://gwentmc.club/event/indoor-climb-every-wednesday-october-march/2024-12-25/
LOCATION:Summit Centre\, Trelewis\, The Old Drift Mine Trelewis\, Treharris\, CF46 6RD
CATEGORIES:Climbing wall,Indoor,Wednesday climbing
ATTACH;FMTTYPE=image/jpeg:https://gwentmc.club/wp-content/uploads/2022/12/event-indoorclimbing-2.jpg
END:VEVENT
BEGIN:VEVENT
DTSTART;TZID=Europe/London:20241218T180000
DTEND;TZID=Europe/London:20241218T213000
DTSTAMP:20260423T143234
CREATED:20240922T155748Z
LAST-MODIFIED:20240922T160347Z
UID:10000748-1734544800-1734557400@gwentmc.club
SUMMARY:Indoor climb: Every Wednesday (October - March)
DESCRIPTION:Join us every Wednesday from 6pm for indoor climbing over the winter months from October through to the end of March 2025. There is a choice of 2 climbing venues so we hope to see you at one of them! \nBoulders Cardiff\, St. Catherines Park\, Cardiff\, CF24 2RZ \nThe Summit Centre\, The Old Drift Mine Trelewis\, Treharris South Wales\, CF46 6RD
URL:https://gwentmc.club/event/indoor-climb-every-wednesday-october-march/2024-12-18/
LOCATION:Summit Centre\, Trelewis\, The Old Drift Mine Trelewis\, Treharris\, CF46 6RD
CATEGORIES:Climbing wall,Indoor,Wednesday climbing
ATTACH;FMTTYPE=image/jpeg:https://gwentmc.club/wp-content/uploads/2022/12/event-indoorclimbing-2.jpg
END:VEVENT
BEGIN:VEVENT
DTSTART;TZID=Europe/London:20241211T180000
DTEND;TZID=Europe/London:20241211T213000
DTSTAMP:20260423T143234
CREATED:20240922T155748Z
LAST-MODIFIED:20240922T160347Z
UID:10000747-1733940000-1733952600@gwentmc.club
SUMMARY:Indoor climb: Every Wednesday (October - March)
DESCRIPTION:Join us every Wednesday from 6pm for indoor climbing over the winter months from October through to the end of March 2025. There is a choice of 2 climbing venues so we hope to see you at one of them! \nBoulders Cardiff\, St. Catherines Park\, Cardiff\, CF24 2RZ \nThe Summit Centre\, The Old Drift Mine Trelewis\, Treharris South Wales\, CF46 6RD
URL:https://gwentmc.club/event/indoor-climb-every-wednesday-october-march/2024-12-11/
LOCATION:Summit Centre\, Trelewis\, The Old Drift Mine Trelewis\, Treharris\, CF46 6RD
CATEGORIES:Climbing wall,Indoor,Wednesday climbing
ATTACH;FMTTYPE=image/jpeg:https://gwentmc.club/wp-content/uploads/2022/12/event-indoorclimbing-2.jpg
END:VEVENT
BEGIN:VEVENT
DTSTART;TZID=Europe/London:20241204T180000
DTEND;TZID=Europe/London:20241204T213000
DTSTAMP:20260423T143234
CREATED:20240922T155748Z
LAST-MODIFIED:20240922T160347Z
UID:10000746-1733335200-1733347800@gwentmc.club
SUMMARY:Indoor climb: Every Wednesday (October - March)
DESCRIPTION:Join us every Wednesday from 6pm for indoor climbing over the winter months from October through to the end of March 2025. There is a choice of 2 climbing venues so we hope to see you at one of them! \nBoulders Cardiff\, St. Catherines Park\, Cardiff\, CF24 2RZ \nThe Summit Centre\, The Old Drift Mine Trelewis\, Treharris South Wales\, CF46 6RD
URL:https://gwentmc.club/event/indoor-climb-every-wednesday-october-march/2024-12-04/
LOCATION:Summit Centre\, Trelewis\, The Old Drift Mine Trelewis\, Treharris\, CF46 6RD
CATEGORIES:Climbing wall,Indoor,Wednesday climbing
ATTACH;FMTTYPE=image/jpeg:https://gwentmc.club/wp-content/uploads/2022/12/event-indoorclimbing-2.jpg
END:VEVENT
BEGIN:VEVENT
DTSTART;TZID=Europe/London:20241127T180000
DTEND;TZID=Europe/London:20241127T213000
DTSTAMP:20260423T143235
CREATED:20240922T155748Z
LAST-MODIFIED:20240922T160347Z
UID:10000745-1732730400-1732743000@gwentmc.club
SUMMARY:Indoor climb: Every Wednesday (October - March)
DESCRIPTION:Join us every Wednesday from 6pm for indoor climbing over the winter months from October through to the end of March 2025. There is a choice of 2 climbing venues so we hope to see you at one of them! \nBoulders Cardiff\, St. Catherines Park\, Cardiff\, CF24 2RZ \nThe Summit Centre\, The Old Drift Mine Trelewis\, Treharris South Wales\, CF46 6RD
URL:https://gwentmc.club/event/indoor-climb-every-wednesday-october-march/2024-11-27/
LOCATION:Summit Centre\, Trelewis\, The Old Drift Mine Trelewis\, Treharris\, CF46 6RD
CATEGORIES:Climbing wall,Indoor,Wednesday climbing
ATTACH;FMTTYPE=image/jpeg:https://gwentmc.club/wp-content/uploads/2022/12/event-indoorclimbing-2.jpg
END:VEVENT
BEGIN:VEVENT
DTSTART;TZID=Europe/London:20241120T180000
DTEND;TZID=Europe/London:20241120T213000
DTSTAMP:20260423T143235
CREATED:20240922T155748Z
LAST-MODIFIED:20240922T160347Z
UID:10000744-1732125600-1732138200@gwentmc.club
SUMMARY:Indoor climb: Every Wednesday (October - March)
DESCRIPTION:Join us every Wednesday from 6pm for indoor climbing over the winter months from October through to the end of March 2025. There is a choice of 2 climbing venues so we hope to see you at one of them! \nBoulders Cardiff\, St. Catherines Park\, Cardiff\, CF24 2RZ \nThe Summit Centre\, The Old Drift Mine Trelewis\, Treharris South Wales\, CF46 6RD
URL:https://gwentmc.club/event/indoor-climb-every-wednesday-october-march/2024-11-20/
LOCATION:Summit Centre\, Trelewis\, The Old Drift Mine Trelewis\, Treharris\, CF46 6RD
CATEGORIES:Climbing wall,Indoor,Wednesday climbing
ATTACH;FMTTYPE=image/jpeg:https://gwentmc.club/wp-content/uploads/2022/12/event-indoorclimbing-2.jpg
END:VEVENT
BEGIN:VEVENT
DTSTART;TZID=Europe/London:20241113T180000
DTEND;TZID=Europe/London:20241113T213000
DTSTAMP:20260423T143235
CREATED:20240922T155748Z
LAST-MODIFIED:20240922T160347Z
UID:10000743-1731520800-1731533400@gwentmc.club
SUMMARY:Indoor climb: Every Wednesday (October - March)
DESCRIPTION:Join us every Wednesday from 6pm for indoor climbing over the winter months from October through to the end of March 2025. There is a choice of 2 climbing venues so we hope to see you at one of them! \nBoulders Cardiff\, St. Catherines Park\, Cardiff\, CF24 2RZ \nThe Summit Centre\, The Old Drift Mine Trelewis\, Treharris South Wales\, CF46 6RD
URL:https://gwentmc.club/event/indoor-climb-every-wednesday-october-march/2024-11-13/
LOCATION:Summit Centre\, Trelewis\, The Old Drift Mine Trelewis\, Treharris\, CF46 6RD
CATEGORIES:Climbing wall,Indoor,Wednesday climbing
ATTACH;FMTTYPE=image/jpeg:https://gwentmc.club/wp-content/uploads/2022/12/event-indoorclimbing-2.jpg
END:VEVENT
BEGIN:VEVENT
DTSTART;TZID=Europe/London:20241106T180000
DTEND;TZID=Europe/London:20241106T213000
DTSTAMP:20260423T143235
CREATED:20240922T155748Z
LAST-MODIFIED:20240922T160347Z
UID:10000742-1730916000-1730928600@gwentmc.club
SUMMARY:Indoor climb: Every Wednesday (October - March)
DESCRIPTION:Join us every Wednesday from 6pm for indoor climbing over the winter months from October through to the end of March 2025. There is a choice of 2 climbing venues so we hope to see you at one of them! \nBoulders Cardiff\, St. Catherines Park\, Cardiff\, CF24 2RZ \nThe Summit Centre\, The Old Drift Mine Trelewis\, Treharris South Wales\, CF46 6RD
URL:https://gwentmc.club/event/indoor-climb-every-wednesday-october-march/2024-11-06/
LOCATION:Summit Centre\, Trelewis\, The Old Drift Mine Trelewis\, Treharris\, CF46 6RD
CATEGORIES:Climbing wall,Indoor,Wednesday climbing
ATTACH;FMTTYPE=image/jpeg:https://gwentmc.club/wp-content/uploads/2022/12/event-indoorclimbing-2.jpg
END:VEVENT
BEGIN:VEVENT
DTSTART;TZID=Europe/London:20241030T180000
DTEND;TZID=Europe/London:20241030T213000
DTSTAMP:20260423T143235
CREATED:20240922T155748Z
LAST-MODIFIED:20240922T160347Z
UID:10000741-1730311200-1730323800@gwentmc.club
SUMMARY:Indoor climb: Every Wednesday (October - March)
DESCRIPTION:Join us every Wednesday from 6pm for indoor climbing over the winter months from October through to the end of March 2025. There is a choice of 2 climbing venues so we hope to see you at one of them! \nBoulders Cardiff\, St. Catherines Park\, Cardiff\, CF24 2RZ \nThe Summit Centre\, The Old Drift Mine Trelewis\, Treharris South Wales\, CF46 6RD
URL:https://gwentmc.club/event/indoor-climb-every-wednesday-october-march/2024-10-30/
LOCATION:Summit Centre\, Trelewis\, The Old Drift Mine Trelewis\, Treharris\, CF46 6RD
CATEGORIES:Climbing wall,Indoor,Wednesday climbing
ATTACH;FMTTYPE=image/jpeg:https://gwentmc.club/wp-content/uploads/2022/12/event-indoorclimbing-2.jpg
END:VEVENT
BEGIN:VEVENT
DTSTART;TZID=Europe/London:20241023T180000
DTEND;TZID=Europe/London:20241023T213000
DTSTAMP:20260423T143235
CREATED:20240922T155748Z
LAST-MODIFIED:20240922T160347Z
UID:10000740-1729706400-1729719000@gwentmc.club
SUMMARY:Indoor climb: Every Wednesday (October - March)
DESCRIPTION:Join us every Wednesday from 6pm for indoor climbing over the winter months from October through to the end of March 2025. There is a choice of 2 climbing venues so we hope to see you at one of them! \nBoulders Cardiff\, St. Catherines Park\, Cardiff\, CF24 2RZ \nThe Summit Centre\, The Old Drift Mine Trelewis\, Treharris South Wales\, CF46 6RD
URL:https://gwentmc.club/event/indoor-climb-every-wednesday-october-march/2024-10-23/
LOCATION:Summit Centre\, Trelewis\, The Old Drift Mine Trelewis\, Treharris\, CF46 6RD
CATEGORIES:Climbing wall,Indoor,Wednesday climbing
ATTACH;FMTTYPE=image/jpeg:https://gwentmc.club/wp-content/uploads/2022/12/event-indoorclimbing-2.jpg
END:VEVENT
BEGIN:VEVENT
DTSTART;TZID=Europe/London:20241016T180000
DTEND;TZID=Europe/London:20241016T213000
DTSTAMP:20260423T143235
CREATED:20240922T155748Z
LAST-MODIFIED:20240922T160347Z
UID:10000739-1729101600-1729114200@gwentmc.club
SUMMARY:Indoor climb: Every Wednesday (October - March)
DESCRIPTION:Join us every Wednesday from 6pm for indoor climbing over the winter months from October through to the end of March 2025. There is a choice of 2 climbing venues so we hope to see you at one of them! \nBoulders Cardiff\, St. Catherines Park\, Cardiff\, CF24 2RZ \nThe Summit Centre\, The Old Drift Mine Trelewis\, Treharris South Wales\, CF46 6RD
URL:https://gwentmc.club/event/indoor-climb-every-wednesday-october-march/2024-10-16/
LOCATION:Summit Centre\, Trelewis\, The Old Drift Mine Trelewis\, Treharris\, CF46 6RD
CATEGORIES:Climbing wall,Indoor,Wednesday climbing
ATTACH;FMTTYPE=image/jpeg:https://gwentmc.club/wp-content/uploads/2022/12/event-indoorclimbing-2.jpg
END:VEVENT
BEGIN:VEVENT
DTSTART;TZID=Europe/London:20241009T180000
DTEND;TZID=Europe/London:20241009T213000
DTSTAMP:20260423T143235
CREATED:20240922T155748Z
LAST-MODIFIED:20240922T160347Z
UID:10000738-1728496800-1728509400@gwentmc.club
SUMMARY:Indoor climb: Every Wednesday (October - March)
DESCRIPTION:Join us every Wednesday from 6pm for indoor climbing over the winter months from October through to the end of March 2025. There is a choice of 2 climbing venues so we hope to see you at one of them! \nBoulders Cardiff\, St. Catherines Park\, Cardiff\, CF24 2RZ \nThe Summit Centre\, The Old Drift Mine Trelewis\, Treharris South Wales\, CF46 6RD
URL:https://gwentmc.club/event/indoor-climb-every-wednesday-october-march/2024-10-09/
LOCATION:Summit Centre\, Trelewis\, The Old Drift Mine Trelewis\, Treharris\, CF46 6RD
CATEGORIES:Climbing wall,Indoor,Wednesday climbing
ATTACH;FMTTYPE=image/jpeg:https://gwentmc.club/wp-content/uploads/2022/12/event-indoorclimbing-2.jpg
END:VEVENT
BEGIN:VEVENT
DTSTART;TZID=Europe/London:20241002T180000
DTEND;TZID=Europe/London:20241002T213000
DTSTAMP:20260423T143235
CREATED:20240922T155748Z
LAST-MODIFIED:20240922T160347Z
UID:10000737-1727892000-1727904600@gwentmc.club
SUMMARY:Indoor climb: Every Wednesday (October - March)
DESCRIPTION:Join us every Wednesday from 6pm for indoor climbing over the winter months from October through to the end of March 2025. There is a choice of 2 climbing venues so we hope to see you at one of them! \nBoulders Cardiff\, St. Catherines Park\, Cardiff\, CF24 2RZ \nThe Summit Centre\, The Old Drift Mine Trelewis\, Treharris South Wales\, CF46 6RD
URL:https://gwentmc.club/event/indoor-climb-every-wednesday-october-march/2024-10-02/
LOCATION:Summit Centre\, Trelewis\, The Old Drift Mine Trelewis\, Treharris\, CF46 6RD
CATEGORIES:Climbing wall,Indoor,Wednesday climbing
ATTACH;FMTTYPE=image/jpeg:https://gwentmc.club/wp-content/uploads/2022/12/event-indoorclimbing-2.jpg
END:VEVENT
BEGIN:VEVENT
DTSTART;TZID=Europe/London:20240929T093000
DTEND;TZID=Europe/London:20240929T170000
DTSTAMP:20260423T143235
CREATED:20240626T182914Z
LAST-MODIFIED:20240626T182914Z
UID:10000411-1727602200-1727629200@gwentmc.club
SUMMARY:Climb: Blaenllechau (Sport)
DESCRIPTION:Sunday climbing at Blaenllechau. Sport. \nTimings will be advised via climbing group comms. For more details please contact John Jones. \nUKC Logbook (ukclimbing.com): Blaenllechau \nSouth Wales Climbing Wiki (SWCW): Blaenllechau \nClimbing meets are weather dependent and can change at short notice. Please contact the organiser for more information.
URL:https://gwentmc.club/event/climb-blaenllechau-sport-2/
CATEGORIES:Rock climbing,Sport,Weekend climbing
END:VEVENT
BEGIN:VEVENT
DTSTART;TZID=Europe/London:20240925T180000
DTEND;TZID=Europe/London:20240925T210000
DTSTAMP:20260423T143235
CREATED:20240626T182801Z
LAST-MODIFIED:20240922T111849Z
UID:10000410-1727287200-1727298000@gwentmc.club
SUMMARY:Indoor climb
DESCRIPTION:Wednesday evening climbing. \nChoice of two venues: \nBoulders Cardiff\, St. Catherines Park\, Pengam Road\, Cardiff CF24 2RZ \nThe Summit Centre\, The Old Drift Mine Trelewis\, Treharris South Wales\, CF46 6RD
URL:https://gwentmc.club/event/indoor-climb-location-tbc-2/
LOCATION:Summit Centre\, Trelewis\, The Old Drift Mine Trelewis\, Treharris\, CF46 6RD
CATEGORIES:Climbing wall,Indoor,Rock climbing,Wednesday climbing
ATTACH;FMTTYPE=image/jpeg:https://gwentmc.club/wp-content/uploads/2022/12/event-indoorclimbing-2.jpg
END:VEVENT
BEGIN:VEVENT
DTSTART;TZID=Europe/London:20240921T093000
DTEND;TZID=Europe/London:20240921T170000
DTSTAMP:20260423T143235
CREATED:20240626T182716Z
LAST-MODIFIED:20240626T182716Z
UID:10000409-1726911000-1726938000@gwentmc.club
SUMMARY:Climb: Blaise Castle Gorge\, Avon (Trad\, Sport)
DESCRIPTION:Saturday climbing at Blaise Castle Gorge\, Avon. Trad and Sport. \nTimings will be advised via climbing group comms. For more details please contact John Jones. \nUKC Logbook (ukclimbing.com): Blaise Castle Gorge (Avon) \nClimbing meets are weather dependent and can change at short notice. Please contact the organiser for more information.
URL:https://gwentmc.club/event/climb-blaise-castle-gorge-avon-trad-sport-2/
CATEGORIES:Rock climbing,Sport,Trad,Weekend climbing
END:VEVENT
BEGIN:VEVENT
DTSTART;TZID=Europe/London:20240918T180000
DTEND;TZID=Europe/London:20240918T210000
DTSTAMP:20260423T143235
CREATED:20240626T182550Z
LAST-MODIFIED:20240626T182550Z
UID:10000408-1726682400-1726693200@gwentmc.club
SUMMARY:Indoor climb - location TBC
DESCRIPTION:Wednesday evening climbing. Location TBC. \nClimbing meets are weather dependent and can change at short notice. Please contact the organiser for more information.
URL:https://gwentmc.club/event/indoor-climb-location-tbc/
LOCATION:Summit Centre\, Trelewis\, The Old Drift Mine Trelewis\, Treharris\, CF46 6RD
CATEGORIES:Climbing wall,Indoor,Rock climbing,Wednesday climbing
ATTACH;FMTTYPE=image/jpeg:https://gwentmc.club/wp-content/uploads/2022/12/event-indoorclimbing-2.jpg
END:VEVENT
BEGIN:VEVENT
DTSTART;TZID=Europe/London:20240915T093000
DTEND;TZID=Europe/London:20240915T170000
DTSTAMP:20260423T143235
CREATED:20240626T182422Z
LAST-MODIFIED:20240626T182422Z
UID:10000407-1726392600-1726419600@gwentmc.club
SUMMARY:Climb: Wintours Leap (trad and sport)
DESCRIPTION:Trad and sport climbing at Wintours Leap. \nTimings will be advised via climbing group comms for more details please contact John Jones. \nUKC Logbook – Wintour’s Leap (ukclimbing.com) \nClimbing meets are weather dependent and can change at short notice. Please contact the organiser for more information.
URL:https://gwentmc.club/event/climb-wintours-leap-trad-and-sport-3/
CATEGORIES:Rock climbing,Weekend climbing
ATTACH;FMTTYPE=image/jpeg:https://gwentmc.club/wp-content/uploads/2023/03/Wintours-Leap.jpg
END:VEVENT
BEGIN:VEVENT
DTSTART;VALUE=DATE:20240913
DTEND;VALUE=DATE:20240916
DTSTAMP:20260423T143235
CREATED:20231227T133236Z
LAST-MODIFIED:20240813T165522Z
UID:10000314-1726185600-1726444799@gwentmc.club
SUMMARY:Weekend trip: Introduction to scrambling\, North Wales
DESCRIPTION:Weekend trip to a hut nestled between Tryfan and the Carneddau Mountains in North Wales 13th – 15th September 2024. \nKath and Jon Singleton have agreed to organise some introduction to scrambling sessions over the weekend of 13th to 15th September. The plan is to do a Grade 1 scramble on the Saturday and if abilities of the group and weather allow\, will do a harder Grade 1 or Grade 2 route on Sunday. \nIf you don’t fancy scrambling\, there is the opportunity to arrange your own activities using the hut as a base and meet up with the scramblers in the evening. \nIf you are interested in attending please email Jo Dodd and let her know if you are signing up for scrambling or not so Jo can arrange enough leaders.  Jo will take names on a first come first served basis and then hold a list in case anyone drops out. Full details have been shared in an email sent by Jo 3rd Feb 2024. \n  \n 
URL:https://gwentmc.club/event/weekend-trip-scrambling_13-15-09-2024/
CATEGORIES:Hiking/walking,Rock climbing,Weekends/weeks away
ATTACH;FMTTYPE=image/jpeg:https://gwentmc.club/wp-content/uploads/2023/12/trip-scrambling-northwales-sep2024.jpg
END:VEVENT
BEGIN:VEVENT
DTSTART;TZID=Europe/London:20240911T150000
DTEND;TZID=Europe/London:20240911T210000
DTSTAMP:20260423T143235
CREATED:20240626T182301Z
LAST-MODIFIED:20240626T182301Z
UID:10000406-1726066800-1726088400@gwentmc.club
SUMMARY:Climb: Location TBC (Sport)
DESCRIPTION:Wednesday evening climbing at location TBC. Sport. \nTimings will be advised via climbing group comms. For more details please contact John Jones. \nClimbing meets are weather dependent and can change at short notice. Please contact the organiser for more information.
URL:https://gwentmc.club/event/climb-location-tbc-sport/
CATEGORIES:Rock climbing,Sport,Wednesday climbing
END:VEVENT
BEGIN:VEVENT
DTSTART;TZID=Europe/London:20240907T093000
DTEND;TZID=Europe/London:20240907T170000
DTSTAMP:20260423T143235
CREATED:20240626T182119Z
LAST-MODIFIED:20240626T182119Z
UID:10000405-1725701400-1725728400@gwentmc.club
SUMMARY:Climb: Avon (sport and trad)
DESCRIPTION:Sport and trad climbing at Avon \nTimings will be advised via climbing group comms for more details please contact John Jones. \nUKC Logbook – Avon Gorge (Main Area) (ukclimbing.com) \nUKC Logbook – Avon Gorge (Sea Walls Area) (ukclimbing.com) \nUKC Logbook – Avon Gorge (Suspension Bridge Area) (ukclimbing.com) \nClimbing meets are weather dependent and can change at short notice. Please contact the organiser for more information.
URL:https://gwentmc.club/event/climb-avon-sport-and-trad-2/
LOCATION:Avon
CATEGORIES:Rock climbing,Weekend climbing
ATTACH;FMTTYPE=image/jpeg:https://gwentmc.club/wp-content/uploads/2023/03/Avon-Gorge.jpg
END:VEVENT
BEGIN:VEVENT
DTSTART;TZID=Europe/London:20240904T150000
DTEND;TZID=Europe/London:20240904T210000
DTSTAMP:20260423T143235
CREATED:20240626T182018Z
LAST-MODIFIED:20240626T182018Z
UID:10000404-1725462000-1725483600@gwentmc.club
SUMMARY:Climb: Cwmaman (Sport)
DESCRIPTION:Wednesday evening climbing at Cwmaman. Sport. \nTimings will be advised via climbing group comms. For more details please contact John Jones. \nUKC Logbook (ukclimbing.com): Cwmaman \nSouth Wales Climbing Wiki (SWCW): Cwmaman \nClimbing meets are weather dependent and can change at short notice. Please contact the organiser for more information.
URL:https://gwentmc.club/event/climb-cwmaman-sport-2/
CATEGORIES:Rock climbing,Sport,Wednesday climbing
END:VEVENT
BEGIN:VEVENT
DTSTART;TZID=Europe/London:20240901T093000
DTEND;TZID=Europe/London:20240901T183000
DTSTAMP:20260423T143235
CREATED:20240626T181917Z
LAST-MODIFIED:20240626T181917Z
UID:10000403-1725183000-1725215400@gwentmc.club
SUMMARY:Climb: Crag clean up (venue TBC)
DESCRIPTION:Crag clean up- location TBC. Trad/sport clean and climb. \nClimbing meets are weather dependent and can change at short notice. Please contact the organiser for more information. \n 
URL:https://gwentmc.club/event/climb-crag-clean-up-venue-tbc/
LOCATION:Gilwern
CATEGORIES:Rock climbing,Sport,Weekend climbing
ATTACH;FMTTYPE=image/jpeg:https://gwentmc.club/wp-content/uploads/2023/03/Gilwern.jpg
END:VEVENT
BEGIN:VEVENT
DTSTART;TZID=Europe/London:20240828T150000
DTEND;TZID=Europe/London:20240828T210000
DTSTAMP:20260423T143235
CREATED:20240626T181640Z
LAST-MODIFIED:20240626T181640Z
UID:10000402-1724857200-1724878800@gwentmc.club
SUMMARY:Climb: Navigation Quarry (mostly sport\, some trad).
DESCRIPTION:Navigation Quarry climb (mostly sport\, some trad). \nTimings will be advised via climbing group comms for more details please contact John Jones. \nClimbing meets are weather dependent and can change at short notice. Please contact the organiser for more information.
URL:https://gwentmc.club/event/climb-navigation-quarry-mostly-sport-some-trad/
CATEGORIES:Rock climbing,Sport,Trad,Wednesday climbing
ATTACH;FMTTYPE=image/jpeg:https://gwentmc.club/wp-content/uploads/2024/02/Naviagtion-Quarry.jpg
END:VEVENT
BEGIN:VEVENT
DTSTART;VALUE=DATE:20240824
DTEND;VALUE=DATE:20240827
DTSTAMP:20260423T143235
CREATED:20240626T181546Z
LAST-MODIFIED:20240821T120013Z
UID:10000401-1724457600-1724716799@gwentmc.club
SUMMARY:Weekend climb: North Pembrokeshire (trad)
DESCRIPTION:Bank holiday weekend of climbing (trad) in North Pembrokeshire. \nMost crags are abseil in\, and there are a few non-abseil crags. A large spread of grades on both popular slabs and more adventurous isolation. Some members are staying at Rhosgadw Farm campsite – a GMC favourite. There’s a range of other accommodation around St David’s from hotels\, B&Bs\, campsites\, even a premier inn. \nFor more details please contact Sara Davies or Ian Goudge \nClimbing meets are weather dependent and can change at short notice. Please contact the organiser for more information.
URL:https://gwentmc.club/event/weekend-climb-eryri-other-n-wales-trad/
CATEGORIES:Rock climbing,Trad,Weekend climbing,Weekends/weeks away
END:VEVENT
BEGIN:VEVENT
DTSTART;TZID=Europe/London:20240821T150000
DTEND;TZID=Europe/London:20240821T210000
DTSTAMP:20260423T143235
CREATED:20240626T181320Z
LAST-MODIFIED:20240626T181320Z
UID:10000400-1724252400-1724274000@gwentmc.club
SUMMARY:Climb: Taff's Well Main (Sport)
DESCRIPTION:Wednesday evening climbing at Taff’s Well Main. Sport. \nTimings will be advised via climbing group comms. For more details please contact John Jones. \nUKC Logbook (ukclimbing.com): Taff’s Well \nSouth Wales Climbing Wiki (SWCW): Taff’s Well \nClimbing meets are weather dependent and can change at short notice. Please contact the organiser for more information.
URL:https://gwentmc.club/event/climb-taffs-well-main-sport-2/
CATEGORIES:Rock climbing,Sport,Wednesday climbing
ATTACH;FMTTYPE=image/jpeg:https://gwentmc.club/wp-content/uploads/2023/05/climb-taffswellmain-21jun2023.jpg
END:VEVENT
END:VCALENDAR