BEGIN:VCALENDAR
VERSION:2.0
PRODID:-//Gwent Mountaineering Club - ECPv6.15.20//NONSGML v1.0//EN
CALSCALE:GREGORIAN
METHOD:PUBLISH
X-WR-CALNAME:Gwent Mountaineering Club
X-ORIGINAL-URL:https://gwentmc.club
X-WR-CALDESC:Events for Gwent Mountaineering Club
REFRESH-INTERVAL;VALUE=DURATION:PT1H
X-Robots-Tag:noindex
X-PUBLISHED-TTL:PT1H
BEGIN:VTIMEZONE
TZID:Europe/London
BEGIN:DAYLIGHT
TZOFFSETFROM:+0000
TZOFFSETTO:+0100
TZNAME:BST
DTSTART:20230326T010000
END:DAYLIGHT
BEGIN:STANDARD
TZOFFSETFROM:+0100
TZOFFSETTO:+0000
TZNAME:GMT
DTSTART:20231029T010000
END:STANDARD
BEGIN:DAYLIGHT
TZOFFSETFROM:+0000
TZOFFSETTO:+0100
TZNAME:BST
DTSTART:20240331T010000
END:DAYLIGHT
BEGIN:STANDARD
TZOFFSETFROM:+0100
TZOFFSETTO:+0000
TZNAME:GMT
DTSTART:20241027T010000
END:STANDARD
BEGIN:DAYLIGHT
TZOFFSETFROM:+0000
TZOFFSETTO:+0100
TZNAME:BST
DTSTART:20250330T010000
END:DAYLIGHT
BEGIN:STANDARD
TZOFFSETFROM:+0100
TZOFFSETTO:+0000
TZNAME:GMT
DTSTART:20251026T010000
END:STANDARD
BEGIN:DAYLIGHT
TZOFFSETFROM:+0000
TZOFFSETTO:+0100
TZNAME:BST
DTSTART:20260329T010000
END:DAYLIGHT
BEGIN:STANDARD
TZOFFSETFROM:+0100
TZOFFSETTO:+0000
TZNAME:GMT
DTSTART:20261025T010000
END:STANDARD
END:VTIMEZONE
BEGIN:VEVENT
DTSTART;VALUE=DATE:20250529
DTEND;VALUE=DATE:20250602
DTSTAMP:20260423T111427
CREATED:20240807T123857Z
LAST-MODIFIED:20250319T140932Z
UID:10000418-1748476800-1748822399@gwentmc.club
SUMMARY:Weekend trip: Lake District\, Ennerdale
DESCRIPTION:The Club’s long weekend in wild Ennerdale promises early-summer 5-star walking\, climbing and cameraderie in the remote Western Lake District. One of the most remote of the Lake District valleys\, Ennerdale is largely unspoilt with its striking natural features providing an overwhelming character of wildness and tranquility. It’s many years since the Club last visited Ennerdale. \nEnnerdale inspired Wordsworth’s poem ‘The Brothers’ in 1800 after he and Coleridge visited the valley a year earlier\, but perhaps the area’s largest cultural impact has been on the sport of rock climbing. It was at Pillar Rock in Ennerdale that true rock climbing began. Previously thought unclimbable\, local shepherd John Atkinson scaled The Pillar Stone (as it was known then) in 1824 and kick-started a passion that climbers from all over the world share to this day. \nEnnerdale gives access to many of the western fells (20+ Wainrights\, including Pillar\, Steeple\, Kirkfell\, Haystacks\, High Stile and Red Pike as well as many lesser known fells) and also to several important crags for climbing (Pillar Rock\, Ennerdale Face of High Stile\, Raven Crag\, etc.). \nThis long weekend away (Thursday to Sunday) will be based at Low Gillerthwaite Field Centre in the heart of the dale with easy access to surrounding fells and crags. This is a self-catering independent hostel with five dormitories/40 beds. The LGFC has separate male and female toilet/shower facilities\, two lounges\, a dining room with five tables and benches\, and a kitchen. \nOf particular note outside are opportunities for additional recreation – bird-watching\, river swimming and star-gazing. Swimming is not permitted in Ennerdale Water but the nearby River Liza has many pools for swimming. Ennerdale is a Dark Sky Discovery Site\, offering some of the most spectacular night skies in England (on a clear night!). \n 
URL:https://gwentmc.club/event/weekend-trip-lake-district-ennerdale/
CATEGORIES:Hiking/walking,Rock climbing,Trad,Weekends/weeks away
ATTACH;FMTTYPE=image/jpeg:https://gwentmc.club/wp-content/uploads/2024/08/trip-ennerdale-29may2025.jpg
END:VEVENT
BEGIN:VEVENT
DTSTART;TZID=Europe/London:20250528T150000
DTEND;TZID=Europe/London:20250528T213000
DTSTAMP:20260423T111427
CREATED:20250511T143306Z
LAST-MODIFIED:20250524T132424Z
UID:10000822-1748444400-1748467800@gwentmc.club
SUMMARY:Climb: Taff's Well Main (Sport)
DESCRIPTION:Sport Climbing at Taff’s Well Main. \nClimbing meets are weather dependent and can change at short notice. Please contact the organiser for more information.
URL:https://gwentmc.club/event/climb-llanbradach-sport-2/
CATEGORIES:Rock climbing,Sport,Wednesday climbing
END:VEVENT
BEGIN:VEVENT
DTSTART;VALUE=DATE:20250524
DTEND;VALUE=DATE:20250527
DTSTAMP:20260423T111427
CREATED:20250511T143451Z
LAST-MODIFIED:20250511T143509Z
UID:10000823-1748044800-1748303999@gwentmc.club
SUMMARY:Weekend climbing North Wales
DESCRIPTION:North Wales or other pending weather. \nClimbing meets are weather dependent and can change at short notice. Please contact the organiser for more information.
URL:https://gwentmc.club/event/weekend-climbing/
CATEGORIES:Rock climbing,Weekend climbing
END:VEVENT
BEGIN:VEVENT
DTSTART;TZID=Europe/London:20250521T150000
DTEND;TZID=Europe/London:20250521T213000
DTSTAMP:20260423T111427
CREATED:20250511T143057Z
LAST-MODIFIED:20250511T143721Z
UID:10000821-1747839600-1747863000@gwentmc.club
SUMMARY:Climb: Gilwern Tyla (Sport)
DESCRIPTION:Sport climbing at Gilwern Tyla. \nClimbing meets are weather dependent and can change at short notice. Please contact the organiser for more information.
URL:https://gwentmc.club/event/climb-gilwern-tyla-sport/
CATEGORIES:Rock climbing,Sport,Wednesday climbing
END:VEVENT
BEGIN:VEVENT
DTSTART;TZID=Europe/London:20250518T093000
DTEND;TZID=Europe/London:20250518T170000
DTSTAMP:20260423T111427
CREATED:20250511T142933Z
LAST-MODIFIED:20250511T142933Z
UID:10000820-1747560600-1747587600@gwentmc.club
SUMMARY:Climb: Gower Trad & Sport
DESCRIPTION:Climbing at Gower. Trad & Sport. \nClimbing meets are weather dependent and can change at short notice. Please contact the organiser for more information.
URL:https://gwentmc.club/event/climb-gower-trad-sport/
CATEGORIES:Rock climbing,Sport,Trad,Weekend climbing
END:VEVENT
BEGIN:VEVENT
DTSTART;TZID=Europe/London:20250514T150000
DTEND;TZID=Europe/London:20250514T210000
DTSTAMP:20260423T111427
CREATED:20250506T192620Z
LAST-MODIFIED:20250506T192620Z
UID:10000819-1747234800-1747256400@gwentmc.club
SUMMARY:Climb: Sirhowy (Sport)
DESCRIPTION:Wednesday evening climbing at Sirhowy. Sport. \nTimings will be advised via climbing group comms. For more details please contact John Jones. \nUKC Logbook (ukclimbing.com): Sirhowy \nSouth Wales Climbing Wiki (SWCW): Sirhowy – Quarry Mawr \nClimbing meets are weather dependent and can change at short notice. Please contact the organiser for more information.
URL:https://gwentmc.club/event/climb-sirhowy-sport-2/
CATEGORIES:Rock climbing,Sport,Wednesday climbing
ATTACH;FMTTYPE=image/jpeg:https://gwentmc.club/wp-content/uploads/2023/05/05July2023-Sirhowy-Crag-1024x1024-1.jpg
END:VEVENT
BEGIN:VEVENT
DTSTART;TZID=Europe/London:20250511T093000
DTEND;TZID=Europe/London:20250511T183000
DTSTAMP:20260423T111427
CREATED:20250506T192421Z
LAST-MODIFIED:20250506T192653Z
UID:10000818-1746955800-1746988200@gwentmc.club
SUMMARY:Climb: Shorncliffe (Trad)
DESCRIPTION:Trad climbing at Shorncliffe. \nClimbing meets are weather dependent and can change at short notice. Please contact the organiser for more information.
URL:https://gwentmc.club/event/climb-shorncliffe-trad/
CATEGORIES:Rock climbing,Trad,Weekend climbing
END:VEVENT
BEGIN:VEVENT
DTSTART;TZID=Europe/London:20250507T150000
DTEND;TZID=Europe/London:20250507T213000
DTSTAMP:20260423T111427
CREATED:20250415T185805Z
LAST-MODIFIED:20250415T185805Z
UID:10000813-1746630000-1746653400@gwentmc.club
SUMMARY:Climb: Mount Pleasant\, Edwardsville
DESCRIPTION:Wednesday night climbing http://Mount Pleasant – Edwardsville \nGrid reference ST 083 978. Postcode CF48 4TD. \nClimbing meets are weather dependent and can change at short notice. Please contact the organiser for more information.
URL:https://gwentmc.club/event/climb-mount-pleasant-edwardsville_07-05-2025/
CATEGORIES:Rock climbing
END:VEVENT
BEGIN:VEVENT
DTSTART;VALUE=DATE:20250502
DTEND;VALUE=DATE:20250506
DTSTAMP:20260423T111427
CREATED:20250415T190241Z
LAST-MODIFIED:20250415T190241Z
UID:10000814-1746144000-1746489599@gwentmc.club
SUMMARY:Weekend Club Climbing trip: South Pembrokeshire (Trad)
DESCRIPTION:Bank Holiday weekend climbing in South Pembrokeshire- camping at Bosherston. \nParking at St Govan’s. \nMore details to follow but keep an eye on the WhatsApp climbing channel for any updates. \nClimbing meets are weather dependent and can change at short notice. Please contact the organiser for more information.
URL:https://gwentmc.club/event/weekend-club-climbing-trip-south-pembrokeshire_02-05-05-2025/
CATEGORIES:Rock climbing,Trad,Weekends/weeks away
END:VEVENT
BEGIN:VEVENT
DTSTART;TZID=Europe/London:20250430T150000
DTEND;TZID=Europe/London:20250430T210000
DTSTAMP:20260423T111427
CREATED:20250326T203130Z
LAST-MODIFIED:20250326T203130Z
UID:10000808-1746025200-1746046800@gwentmc.club
SUMMARY:Climb: Trebanog (Trad & Sport)
DESCRIPTION:Climbing at Trebanog- trad & sport. \nGrid reference ST 013901.  Car parking available at CF39 9YS. \nClimbing meets are weather dependent and can change at short notice. Please contact the organiser for more information.
URL:https://gwentmc.club/event/climb-trebanog-trad-sport_30-04-2025/
CATEGORIES:Rock climbing,Sport,Trad,Wednesday climbing
END:VEVENT
BEGIN:VEVENT
DTSTART;TZID=Europe/London:20250427T093000
DTEND;TZID=Europe/London:20250427T170000
DTSTAMP:20260423T111427
CREATED:20250326T202614Z
LAST-MODIFIED:20250326T202657Z
UID:10000807-1745746200-1745773200@gwentmc.club
SUMMARY:Climb: Wintours Leap (Trad)
DESCRIPTION:Trad climbing at Wintours Leap. Sport available in Woodcroft Quarry. \nOS Map 162\, grid reference ST542958. Car parking at Lancaut Lane. \nUKC Logbook – Wintour’s Leap (ukclimbing.com) \nTimings will be advised via climbing group comms for more details please contact John Jones. \nClimbing meets are weather dependent and can change at short notice. Please contact the organiser for more information.
URL:https://gwentmc.club/event/climb-wintours-leap-trad-and-sport-27-04-2025/
CATEGORIES:Rock climbing,Trad,Weekend climbing
ATTACH;FMTTYPE=image/jpeg:https://gwentmc.club/wp-content/uploads/2023/03/Wintours-Leap.jpg
END:VEVENT
BEGIN:VEVENT
DTSTART;TZID=Europe/London:20250423T150000
DTEND;TZID=Europe/London:20250423T210000
DTSTAMP:20260423T111427
CREATED:20250326T201315Z
LAST-MODIFIED:20250326T201315Z
UID:10000804-1745420400-1745442000@gwentmc.club
SUMMARY:Climb: Gilwern Main Wall (sport)
DESCRIPTION:Sport climbing at Gilwern Main Wall. \nOS Explorer Map161\, grid reference SO236 132. \nCar parking at OS Explorer Map161\, grid reference SO244 119 (post code NP7 0HP). \nTimings will be advised via climbing group comms for more details please contact John Jones. \nUKC Logbook – Gilwern (ukclimbing.com) \nClimbing meets are weather dependent and can change at short notice. Please contact the organiser for more information. \n 
URL:https://gwentmc.club/event/climb-gilwern-sport-23-04-2025/
CATEGORIES:Rock climbing,Sport
ATTACH;FMTTYPE=image/jpeg:https://gwentmc.club/wp-content/uploads/2023/03/Gilwern.jpg
END:VEVENT
BEGIN:VEVENT
DTSTART;TZID=Europe/London:20250413T093000
DTEND;TZID=Europe/London:20250413T170000
DTSTAMP:20260423T111427
CREATED:20250326T202255Z
LAST-MODIFIED:20250326T202255Z
UID:10000806-1744536600-1744563600@gwentmc.club
SUMMARY:Climb: Box Bay (Trad)
DESCRIPTION:Climbing at Box Bay. Grid reference SS 804 775. \nCar parking at Rest Bay car park CF36 3UN. \nLow tide 02.36pm SMT. \nhttp://Box Bay Porthcaw lUKC Logbook – Box Bay \nClimbing meets are weather dependent and can change at short notice. Please contact the organiser for more information.
URL:https://gwentmc.club/event/climb-box-bay-trad/
CATEGORIES:Rock climbing,Trad,Weekend climbing
ATTACH;FMTTYPE=image/jpeg:https://gwentmc.club/wp-content/uploads/2025/03/Box-Bay-climb.jpg
END:VEVENT
BEGIN:VEVENT
DTSTART;TZID=Europe/London:20250409T150000
DTEND;TZID=Europe/London:20250409T210000
DTSTAMP:20260423T111427
CREATED:20250326T200100Z
LAST-MODIFIED:20250327T130130Z
UID:10000802-1744210800-1744232400@gwentmc.club
SUMMARY:Climb: Tirpentwys (sport)
DESCRIPTION:Sport climbing at Tirpentwys OS Map 152/171\, grid reference SO247 000. \nPark at OS Map 152/171\, grid reference SO255004. Post code NP4 6UE. \nTimings will be advised via climbing group comms. For more details please contact John Jones. \nUKC Logbook – Tirpentwys (ukclimbing.com) \nTirpentwys – South Wales Climbing Wiki (SWCW) \nClimbing meets are weather dependent and can change at short notice. Please contact the organiser for more information.
URL:https://gwentmc.club/event/climb-tirpentwys-sport-09-04-2025/
LOCATION:Tirpentwys
CATEGORIES:Rock climbing,Sport,Wednesday climbing
ATTACH;FMTTYPE=image/jpeg:https://gwentmc.club/wp-content/uploads/2025/03/Tirpentwys-climb.jpg
END:VEVENT
BEGIN:VEVENT
DTSTART;TZID=Europe/London:20250406T093000
DTEND;TZID=Europe/London:20250406T170000
DTSTAMP:20260423T111427
CREATED:20250326T201843Z
LAST-MODIFIED:20250326T201843Z
UID:10000805-1743931800-1743958800@gwentmc.club
SUMMARY:Climb: Ferndale (Sport)
DESCRIPTION:Sunday sport climbing at Ferndale. \nGrid reference: SS 994 969. Post code for car parking: CF43 4LS. \nhttp://Ferndale – Main – https://www.ukclimbing.com/logbook/crags/ferndale-1044/ \nTimings will be advised via climbing group comms. For more details please contact John Jones. \nClimbing meets are weather dependent and can change at short notice. Please contact the organiser for more information.
URL:https://gwentmc.club/event/climb-ferndale-sport-some-trad-06-04-2025/
CATEGORIES:Rock climbing,Sport,Weekend climbing
ATTACH;FMTTYPE=image/jpeg:https://gwentmc.club/wp-content/uploads/2025/03/Ferndale-climb.jpg
END:VEVENT
BEGIN:VEVENT
DTSTART;TZID=Europe/London:20250402T150000
DTEND;TZID=Europe/London:20250402T210000
DTSTAMP:20260423T111427
CREATED:20250326T195600Z
LAST-MODIFIED:20250326T195600Z
UID:10000801-1743606000-1743627600@gwentmc.club
SUMMARY:Climb: Navigation Quarry (mostly sport\, some trad).
DESCRIPTION:Navigation Quarry climb (mostly sport\, some trad). \nOS Map 166/171 grid reference: ST087 939. \nPost code for car parking: CF45 4RS. \nTimings will be advised via climbing group comms for more details please contact John Jones. \nClimbing meets are weather dependent and can change at short notice. Please contact the organiser for more information.
URL:https://gwentmc.club/event/climb-navigation-quarry-mostly-sport-some-trad-02-04-2025/
CATEGORIES:Rock climbing,Sport,Trad,Wednesday climbing
ATTACH;FMTTYPE=image/jpeg:https://gwentmc.club/wp-content/uploads/2024/02/Naviagtion-Quarry.jpg
END:VEVENT
BEGIN:VEVENT
DTSTART;TZID=Europe/London:20250319T180000
DTEND;TZID=Europe/London:20250319T213000
DTSTAMP:20260423T111427
CREATED:20240922T155748Z
LAST-MODIFIED:20240922T160347Z
UID:10000761-1742407200-1742419800@gwentmc.club
SUMMARY:Indoor climb: Every Wednesday (October - March)
DESCRIPTION:Join us every Wednesday from 6pm for indoor climbing over the winter months from October through to the end of March 2025. There is a choice of 2 climbing venues so we hope to see you at one of them! \nBoulders Cardiff\, St. Catherines Park\, Cardiff\, CF24 2RZ \nThe Summit Centre\, The Old Drift Mine Trelewis\, Treharris South Wales\, CF46 6RD
URL:https://gwentmc.club/event/indoor-climb-every-wednesday-october-march/2025-03-19/
LOCATION:Summit Centre\, Trelewis\, The Old Drift Mine Trelewis\, Treharris\, CF46 6RD
CATEGORIES:Climbing wall,Indoor,Wednesday climbing
ATTACH;FMTTYPE=image/jpeg:https://gwentmc.club/wp-content/uploads/2022/12/event-indoorclimbing-2.jpg
END:VEVENT
BEGIN:VEVENT
DTSTART;TZID=Europe/London:20250312T180000
DTEND;TZID=Europe/London:20250312T213000
DTSTAMP:20260423T111427
CREATED:20240922T155748Z
LAST-MODIFIED:20240922T160347Z
UID:10000760-1741802400-1741815000@gwentmc.club
SUMMARY:Indoor climb: Every Wednesday (October - March)
DESCRIPTION:Join us every Wednesday from 6pm for indoor climbing over the winter months from October through to the end of March 2025. There is a choice of 2 climbing venues so we hope to see you at one of them! \nBoulders Cardiff\, St. Catherines Park\, Cardiff\, CF24 2RZ \nThe Summit Centre\, The Old Drift Mine Trelewis\, Treharris South Wales\, CF46 6RD
URL:https://gwentmc.club/event/indoor-climb-every-wednesday-october-march/2025-03-12/
LOCATION:Summit Centre\, Trelewis\, The Old Drift Mine Trelewis\, Treharris\, CF46 6RD
CATEGORIES:Climbing wall,Indoor,Wednesday climbing
ATTACH;FMTTYPE=image/jpeg:https://gwentmc.club/wp-content/uploads/2022/12/event-indoorclimbing-2.jpg
END:VEVENT
BEGIN:VEVENT
DTSTART;TZID=Europe/London:20250305T180000
DTEND;TZID=Europe/London:20250305T213000
DTSTAMP:20260423T111427
CREATED:20240922T155748Z
LAST-MODIFIED:20240922T160347Z
UID:10000759-1741197600-1741210200@gwentmc.club
SUMMARY:Indoor climb: Every Wednesday (October - March)
DESCRIPTION:Join us every Wednesday from 6pm for indoor climbing over the winter months from October through to the end of March 2025. There is a choice of 2 climbing venues so we hope to see you at one of them! \nBoulders Cardiff\, St. Catherines Park\, Cardiff\, CF24 2RZ \nThe Summit Centre\, The Old Drift Mine Trelewis\, Treharris South Wales\, CF46 6RD
URL:https://gwentmc.club/event/indoor-climb-every-wednesday-october-march/2025-03-05/
LOCATION:Summit Centre\, Trelewis\, The Old Drift Mine Trelewis\, Treharris\, CF46 6RD
CATEGORIES:Climbing wall,Indoor,Wednesday climbing
ATTACH;FMTTYPE=image/jpeg:https://gwentmc.club/wp-content/uploads/2022/12/event-indoorclimbing-2.jpg
END:VEVENT
BEGIN:VEVENT
DTSTART;TZID=Europe/London:20250226T180000
DTEND;TZID=Europe/London:20250226T213000
DTSTAMP:20260423T111427
CREATED:20240922T155748Z
LAST-MODIFIED:20240922T160347Z
UID:10000758-1740592800-1740605400@gwentmc.club
SUMMARY:Indoor climb: Every Wednesday (October - March)
DESCRIPTION:Join us every Wednesday from 6pm for indoor climbing over the winter months from October through to the end of March 2025. There is a choice of 2 climbing venues so we hope to see you at one of them! \nBoulders Cardiff\, St. Catherines Park\, Cardiff\, CF24 2RZ \nThe Summit Centre\, The Old Drift Mine Trelewis\, Treharris South Wales\, CF46 6RD
URL:https://gwentmc.club/event/indoor-climb-every-wednesday-october-march/2025-02-26/
LOCATION:Summit Centre\, Trelewis\, The Old Drift Mine Trelewis\, Treharris\, CF46 6RD
CATEGORIES:Climbing wall,Indoor,Wednesday climbing
ATTACH;FMTTYPE=image/jpeg:https://gwentmc.club/wp-content/uploads/2022/12/event-indoorclimbing-2.jpg
END:VEVENT
BEGIN:VEVENT
DTSTART;TZID=Europe/London:20250219T180000
DTEND;TZID=Europe/London:20250219T213000
DTSTAMP:20260423T111427
CREATED:20240922T155748Z
LAST-MODIFIED:20240922T160347Z
UID:10000757-1739988000-1740000600@gwentmc.club
SUMMARY:Indoor climb: Every Wednesday (October - March)
DESCRIPTION:Join us every Wednesday from 6pm for indoor climbing over the winter months from October through to the end of March 2025. There is a choice of 2 climbing venues so we hope to see you at one of them! \nBoulders Cardiff\, St. Catherines Park\, Cardiff\, CF24 2RZ \nThe Summit Centre\, The Old Drift Mine Trelewis\, Treharris South Wales\, CF46 6RD
URL:https://gwentmc.club/event/indoor-climb-every-wednesday-october-march/2025-02-19/
LOCATION:Summit Centre\, Trelewis\, The Old Drift Mine Trelewis\, Treharris\, CF46 6RD
CATEGORIES:Climbing wall,Indoor,Wednesday climbing
ATTACH;FMTTYPE=image/jpeg:https://gwentmc.club/wp-content/uploads/2022/12/event-indoorclimbing-2.jpg
END:VEVENT
BEGIN:VEVENT
DTSTART;TZID=Europe/London:20250212T180000
DTEND;TZID=Europe/London:20250212T213000
DTSTAMP:20260423T111427
CREATED:20240922T155748Z
LAST-MODIFIED:20240922T160347Z
UID:10000756-1739383200-1739395800@gwentmc.club
SUMMARY:Indoor climb: Every Wednesday (October - March)
DESCRIPTION:Join us every Wednesday from 6pm for indoor climbing over the winter months from October through to the end of March 2025. There is a choice of 2 climbing venues so we hope to see you at one of them! \nBoulders Cardiff\, St. Catherines Park\, Cardiff\, CF24 2RZ \nThe Summit Centre\, The Old Drift Mine Trelewis\, Treharris South Wales\, CF46 6RD
URL:https://gwentmc.club/event/indoor-climb-every-wednesday-october-march/2025-02-12/
LOCATION:Summit Centre\, Trelewis\, The Old Drift Mine Trelewis\, Treharris\, CF46 6RD
CATEGORIES:Climbing wall,Indoor,Wednesday climbing
ATTACH;FMTTYPE=image/jpeg:https://gwentmc.club/wp-content/uploads/2022/12/event-indoorclimbing-2.jpg
END:VEVENT
BEGIN:VEVENT
DTSTART;TZID=Europe/London:20250205T180000
DTEND;TZID=Europe/London:20250205T213000
DTSTAMP:20260423T111427
CREATED:20240922T155748Z
LAST-MODIFIED:20240922T160347Z
UID:10000755-1738778400-1738791000@gwentmc.club
SUMMARY:Indoor climb: Every Wednesday (October - March)
DESCRIPTION:Join us every Wednesday from 6pm for indoor climbing over the winter months from October through to the end of March 2025. There is a choice of 2 climbing venues so we hope to see you at one of them! \nBoulders Cardiff\, St. Catherines Park\, Cardiff\, CF24 2RZ \nThe Summit Centre\, The Old Drift Mine Trelewis\, Treharris South Wales\, CF46 6RD
URL:https://gwentmc.club/event/indoor-climb-every-wednesday-october-march/2025-02-05/
LOCATION:Summit Centre\, Trelewis\, The Old Drift Mine Trelewis\, Treharris\, CF46 6RD
CATEGORIES:Climbing wall,Indoor,Wednesday climbing
ATTACH;FMTTYPE=image/jpeg:https://gwentmc.club/wp-content/uploads/2022/12/event-indoorclimbing-2.jpg
END:VEVENT
BEGIN:VEVENT
DTSTART;TZID=Europe/London:20250129T180000
DTEND;TZID=Europe/London:20250129T213000
DTSTAMP:20260423T111427
CREATED:20240922T155748Z
LAST-MODIFIED:20240922T160347Z
UID:10000754-1738173600-1738186200@gwentmc.club
SUMMARY:Indoor climb: Every Wednesday (October - March)
DESCRIPTION:Join us every Wednesday from 6pm for indoor climbing over the winter months from October through to the end of March 2025. There is a choice of 2 climbing venues so we hope to see you at one of them! \nBoulders Cardiff\, St. Catherines Park\, Cardiff\, CF24 2RZ \nThe Summit Centre\, The Old Drift Mine Trelewis\, Treharris South Wales\, CF46 6RD
URL:https://gwentmc.club/event/indoor-climb-every-wednesday-october-march/2025-01-29/
LOCATION:Summit Centre\, Trelewis\, The Old Drift Mine Trelewis\, Treharris\, CF46 6RD
CATEGORIES:Climbing wall,Indoor,Wednesday climbing
ATTACH;FMTTYPE=image/jpeg:https://gwentmc.club/wp-content/uploads/2022/12/event-indoorclimbing-2.jpg
END:VEVENT
BEGIN:VEVENT
DTSTART;TZID=Europe/London:20250122T180000
DTEND;TZID=Europe/London:20250122T213000
DTSTAMP:20260423T111427
CREATED:20240922T155748Z
LAST-MODIFIED:20240922T160347Z
UID:10000753-1737568800-1737581400@gwentmc.club
SUMMARY:Indoor climb: Every Wednesday (October - March)
DESCRIPTION:Join us every Wednesday from 6pm for indoor climbing over the winter months from October through to the end of March 2025. There is a choice of 2 climbing venues so we hope to see you at one of them! \nBoulders Cardiff\, St. Catherines Park\, Cardiff\, CF24 2RZ \nThe Summit Centre\, The Old Drift Mine Trelewis\, Treharris South Wales\, CF46 6RD
URL:https://gwentmc.club/event/indoor-climb-every-wednesday-october-march/2025-01-22/
LOCATION:Summit Centre\, Trelewis\, The Old Drift Mine Trelewis\, Treharris\, CF46 6RD
CATEGORIES:Climbing wall,Indoor,Wednesday climbing
ATTACH;FMTTYPE=image/jpeg:https://gwentmc.club/wp-content/uploads/2022/12/event-indoorclimbing-2.jpg
END:VEVENT
BEGIN:VEVENT
DTSTART;TZID=Europe/London:20250115T180000
DTEND;TZID=Europe/London:20250115T213000
DTSTAMP:20260423T111427
CREATED:20240922T155748Z
LAST-MODIFIED:20240922T160347Z
UID:10000752-1736964000-1736976600@gwentmc.club
SUMMARY:Indoor climb: Every Wednesday (October - March)
DESCRIPTION:Join us every Wednesday from 6pm for indoor climbing over the winter months from October through to the end of March 2025. There is a choice of 2 climbing venues so we hope to see you at one of them! \nBoulders Cardiff\, St. Catherines Park\, Cardiff\, CF24 2RZ \nThe Summit Centre\, The Old Drift Mine Trelewis\, Treharris South Wales\, CF46 6RD
URL:https://gwentmc.club/event/indoor-climb-every-wednesday-october-march/2025-01-15/
LOCATION:Summit Centre\, Trelewis\, The Old Drift Mine Trelewis\, Treharris\, CF46 6RD
CATEGORIES:Climbing wall,Indoor,Wednesday climbing
ATTACH;FMTTYPE=image/jpeg:https://gwentmc.club/wp-content/uploads/2022/12/event-indoorclimbing-2.jpg
END:VEVENT
BEGIN:VEVENT
DTSTART;TZID=Europe/London:20250108T180000
DTEND;TZID=Europe/London:20250108T213000
DTSTAMP:20260423T111427
CREATED:20240922T155748Z
LAST-MODIFIED:20240922T160347Z
UID:10000751-1736359200-1736371800@gwentmc.club
SUMMARY:Indoor climb: Every Wednesday (October - March)
DESCRIPTION:Join us every Wednesday from 6pm for indoor climbing over the winter months from October through to the end of March 2025. There is a choice of 2 climbing venues so we hope to see you at one of them! \nBoulders Cardiff\, St. Catherines Park\, Cardiff\, CF24 2RZ \nThe Summit Centre\, The Old Drift Mine Trelewis\, Treharris South Wales\, CF46 6RD
URL:https://gwentmc.club/event/indoor-climb-every-wednesday-october-march/2025-01-08/
LOCATION:Summit Centre\, Trelewis\, The Old Drift Mine Trelewis\, Treharris\, CF46 6RD
CATEGORIES:Climbing wall,Indoor,Wednesday climbing
ATTACH;FMTTYPE=image/jpeg:https://gwentmc.club/wp-content/uploads/2022/12/event-indoorclimbing-2.jpg
END:VEVENT
BEGIN:VEVENT
DTSTART;TZID=Europe/London:20250101T180000
DTEND;TZID=Europe/London:20250101T213000
DTSTAMP:20260423T111427
CREATED:20240922T155748Z
LAST-MODIFIED:20240922T160347Z
UID:10000750-1735754400-1735767000@gwentmc.club
SUMMARY:Indoor climb: Every Wednesday (October - March)
DESCRIPTION:Join us every Wednesday from 6pm for indoor climbing over the winter months from October through to the end of March 2025. There is a choice of 2 climbing venues so we hope to see you at one of them! \nBoulders Cardiff\, St. Catherines Park\, Cardiff\, CF24 2RZ \nThe Summit Centre\, The Old Drift Mine Trelewis\, Treharris South Wales\, CF46 6RD
URL:https://gwentmc.club/event/indoor-climb-every-wednesday-october-march/2025-01-01/
LOCATION:Summit Centre\, Trelewis\, The Old Drift Mine Trelewis\, Treharris\, CF46 6RD
CATEGORIES:Climbing wall,Indoor,Wednesday climbing
ATTACH;FMTTYPE=image/jpeg:https://gwentmc.club/wp-content/uploads/2022/12/event-indoorclimbing-2.jpg
END:VEVENT
BEGIN:VEVENT
DTSTART;TZID=Europe/London:20241225T180000
DTEND;TZID=Europe/London:20241225T213000
DTSTAMP:20260423T111427
CREATED:20240922T155748Z
LAST-MODIFIED:20240922T160347Z
UID:10000749-1735149600-1735162200@gwentmc.club
SUMMARY:Indoor climb: Every Wednesday (October - March)
DESCRIPTION:Join us every Wednesday from 6pm for indoor climbing over the winter months from October through to the end of March 2025. There is a choice of 2 climbing venues so we hope to see you at one of them! \nBoulders Cardiff\, St. Catherines Park\, Cardiff\, CF24 2RZ \nThe Summit Centre\, The Old Drift Mine Trelewis\, Treharris South Wales\, CF46 6RD
URL:https://gwentmc.club/event/indoor-climb-every-wednesday-october-march/2024-12-25/
LOCATION:Summit Centre\, Trelewis\, The Old Drift Mine Trelewis\, Treharris\, CF46 6RD
CATEGORIES:Climbing wall,Indoor,Wednesday climbing
ATTACH;FMTTYPE=image/jpeg:https://gwentmc.club/wp-content/uploads/2022/12/event-indoorclimbing-2.jpg
END:VEVENT
BEGIN:VEVENT
DTSTART;TZID=Europe/London:20241218T180000
DTEND;TZID=Europe/London:20241218T213000
DTSTAMP:20260423T111427
CREATED:20240922T155748Z
LAST-MODIFIED:20240922T160347Z
UID:10000748-1734544800-1734557400@gwentmc.club
SUMMARY:Indoor climb: Every Wednesday (October - March)
DESCRIPTION:Join us every Wednesday from 6pm for indoor climbing over the winter months from October through to the end of March 2025. There is a choice of 2 climbing venues so we hope to see you at one of them! \nBoulders Cardiff\, St. Catherines Park\, Cardiff\, CF24 2RZ \nThe Summit Centre\, The Old Drift Mine Trelewis\, Treharris South Wales\, CF46 6RD
URL:https://gwentmc.club/event/indoor-climb-every-wednesday-october-march/2024-12-18/
LOCATION:Summit Centre\, Trelewis\, The Old Drift Mine Trelewis\, Treharris\, CF46 6RD
CATEGORIES:Climbing wall,Indoor,Wednesday climbing
ATTACH;FMTTYPE=image/jpeg:https://gwentmc.club/wp-content/uploads/2022/12/event-indoorclimbing-2.jpg
END:VEVENT
END:VCALENDAR