BEGIN:VCALENDAR
VERSION:2.0
PRODID:-//Gwent Mountaineering Club - ECPv6.15.20//NONSGML v1.0//EN
CALSCALE:GREGORIAN
METHOD:PUBLISH
X-WR-CALNAME:Gwent Mountaineering Club
X-ORIGINAL-URL:https://gwentmc.club
X-WR-CALDESC:Events for Gwent Mountaineering Club
REFRESH-INTERVAL;VALUE=DURATION:PT1H
X-Robots-Tag:noindex
X-PUBLISHED-TTL:PT1H
BEGIN:VTIMEZONE
TZID:Europe/London
BEGIN:DAYLIGHT
TZOFFSETFROM:+0000
TZOFFSETTO:+0100
TZNAME:BST
DTSTART:20240331T010000
END:DAYLIGHT
BEGIN:STANDARD
TZOFFSETFROM:+0100
TZOFFSETTO:+0000
TZNAME:GMT
DTSTART:20241027T010000
END:STANDARD
BEGIN:DAYLIGHT
TZOFFSETFROM:+0000
TZOFFSETTO:+0100
TZNAME:BST
DTSTART:20250330T010000
END:DAYLIGHT
BEGIN:STANDARD
TZOFFSETFROM:+0100
TZOFFSETTO:+0000
TZNAME:GMT
DTSTART:20251026T010000
END:STANDARD
BEGIN:DAYLIGHT
TZOFFSETFROM:+0000
TZOFFSETTO:+0100
TZNAME:BST
DTSTART:20260329T010000
END:DAYLIGHT
BEGIN:STANDARD
TZOFFSETFROM:+0100
TZOFFSETTO:+0000
TZNAME:GMT
DTSTART:20261025T010000
END:STANDARD
END:VTIMEZONE
BEGIN:VEVENT
DTSTART;TZID=Europe/London:20250831T100000
DTEND;TZID=Europe/London:20250831T190000
DTSTAMP:20260423T081540
CREATED:20250805T190947Z
LAST-MODIFIED:20250826T190845Z
UID:10000870-1756634400-1756666800@gwentmc.club
SUMMARY:Climb: Elan Valley (trad & sport)
DESCRIPTION:Climbing at Craig Cnwch\, Elan Valley. \nhttps://www.ukclimbing.com/logbook/crags/craig_cnwch-11044/ \nMeet at Elan Valley visitor centre at 10-10.30 on the Saturday and Sunday (to be confirmed nearer the time depending on the weather) Many climbs across the grade range both trad and sport. There are a number of campsites nearby. Please be aware of grazing sheep. Therefore\, dogs will need to be on lead at all times. \nClimbing meets are weather dependent and can change at short notice. Please contact the organiser for more information.
URL:https://gwentmc.club/event/weekend-climb-north-pembrokeshire-trad/
CATEGORIES:Rock climbing,Sport,Trad,Weekend climbing,Weekends/weeks away
END:VEVENT
BEGIN:VEVENT
DTSTART;TZID=Europe/London:20250827T150000
DTEND;TZID=Europe/London:20250827T213000
DTSTAMP:20260423T081540
CREATED:20250805T190809Z
LAST-MODIFIED:20250826T190758Z
UID:10000869-1756306800-1756330200@gwentmc.club
SUMMARY:Climb: Ban y Gor (Sport)
DESCRIPTION:Climbing at Ban y Gor\, Gloucestershire. Sport. \nTimings will be advised via climbing group comms. For more details please contact John Jones. \nUKC Logbook (ukclimbing.com): Ban y Gor \nClimbing meets are weather dependent and can change at short notice. Please contact the organiser for more information.
URL:https://gwentmc.club/event/climb-ban-y-gor-sport-3/
CATEGORIES:Rock climbing,Sport,Wednesday climbing
END:VEVENT
BEGIN:VEVENT
DTSTART;TZID=Europe/London:20250824T100000
DTEND;TZID=Europe/London:20250824T170000
DTSTAMP:20260423T081540
CREATED:20250805T190613Z
LAST-MODIFIED:20250805T190613Z
UID:10000868-1756029600-1756054800@gwentmc.club
SUMMARY:Climb: Southgate
DESCRIPTION:Meet at the National Trust carpark\, Southgate at 10am. \nFor more details please contact John Jones. \nClimbing meets are weather dependent and can change at short notice. Please contact the organiser for more information.
URL:https://gwentmc.club/event/climb-southgate/
CATEGORIES:Rock climbing,Trad,Training,Weekend climbing
ATTACH;FMTTYPE=image/jpeg:https://gwentmc.club/wp-content/uploads/2023/05/30Jul2023-climb-gower.jpg
END:VEVENT
BEGIN:VEVENT
DTSTART;TZID=Europe/London:20250820T150000
DTEND;TZID=Europe/London:20250820T210000
DTSTAMP:20260423T081540
CREATED:20250805T190423Z
LAST-MODIFIED:20250805T190423Z
UID:10000867-1755702000-1755723600@gwentmc.club
SUMMARY:Climb: Navigation Quarry (mostly sport\, some trad).
DESCRIPTION:Navigation Quarry climb (mostly sport\, some trad). \nOS Map 166/171 grid reference: ST087 939. \nPost code for car parking: CF45 4RS. \nTimings will be advised via climbing group comms for more details please contact John Jones. \nClimbing meets are weather dependent and can change at short notice. Please contact the organiser for more information.
URL:https://gwentmc.club/event/climb-navigation-quarry-mostly-sport-some-trad-2/
CATEGORIES:Rock climbing,Sport,Trad,Wednesday climbing
ATTACH;FMTTYPE=image/jpeg:https://gwentmc.club/wp-content/uploads/2024/02/Naviagtion-Quarry.jpg
END:VEVENT
BEGIN:VEVENT
DTSTART;TZID=Europe/London:20250817T093000
DTEND;TZID=Europe/London:20250817T183000
DTSTAMP:20260423T081540
CREATED:20250805T190349Z
LAST-MODIFIED:20250805T190349Z
UID:10000866-1755423000-1755455400@gwentmc.club
SUMMARY:Climb: Shorncliffe (Trad)
DESCRIPTION:Trad climbing at Shorncliffe. \nClimbing meets are weather dependent and can change at short notice. Please contact the organiser for more information.
URL:https://gwentmc.club/event/climb-shorncliffe-trad-2/
CATEGORIES:Rock climbing,Trad,Weekend climbing
END:VEVENT
BEGIN:VEVENT
DTSTART;TZID=Europe/London:20250813T093000
DTEND;TZID=Europe/London:20250813T170000
DTSTAMP:20260423T081540
CREATED:20250805T190305Z
LAST-MODIFIED:20250805T190305Z
UID:10000865-1755077400-1755104400@gwentmc.club
SUMMARY:Climb: Ferndale (Sport)
DESCRIPTION:Sunday sport climbing at Ferndale. \nGrid reference: SS 994 969. Post code for car parking: CF43 4LS. \nhttp://Ferndale – Main – https://www.ukclimbing.com/logbook/crags/ferndale-1044/ \nTimings will be advised via climbing group comms. For more details please contact John Jones. \nClimbing meets are weather dependent and can change at short notice. Please contact the organiser for more information.
URL:https://gwentmc.club/event/climb-ferndale-sport-2/
CATEGORIES:Rock climbing,Sport,Weekend climbing
ATTACH;FMTTYPE=image/jpeg:https://gwentmc.club/wp-content/uploads/2025/03/Ferndale-climb.jpg
END:VEVENT
BEGIN:VEVENT
DTSTART;TZID=Europe/London:20250810T093000
DTEND;TZID=Europe/London:20250810T170000
DTSTAMP:20260423T081540
CREATED:20250805T190225Z
LAST-MODIFIED:20250805T190225Z
UID:10000864-1754818200-1754845200@gwentmc.club
SUMMARY:Climb: Box Bay (Trad)
DESCRIPTION:Climbing at Box Bay. Grid reference SS 804 775. \nCar parking at Rest Bay car park CF36 3UN. \nLow tide 14.00. \nhttp://Box Bay Porthcaw lUKC Logbook – Box Bay \nClimbing meets are weather dependent and can change at short notice. Please contact the organiser for more information.
URL:https://gwentmc.club/event/climb-box-bay-trad-2/
CATEGORIES:Rock climbing,Trad,Weekend climbing
ATTACH;FMTTYPE=image/jpeg:https://gwentmc.club/wp-content/uploads/2025/03/Box-Bay-climb.jpg
END:VEVENT
BEGIN:VEVENT
DTSTART;TZID=Europe/London:20250806T150000
DTEND;TZID=Europe/London:20250806T210000
DTSTAMP:20260423T081540
CREATED:20250805T190118Z
LAST-MODIFIED:20250805T190118Z
UID:10000863-1754492400-1754514000@gwentmc.club
SUMMARY:Climb: Tirpentwys (sport)
DESCRIPTION:Sport climbing at Tirpentwys OS Map 152/171\, grid reference SO247 000. \nPark at OS Map 152/171\, grid reference SO255004. Post code NP4 6UE. \nTimings will be advised via climbing group comms. \nUKC Logbook – Tirpentwys (ukclimbing.com) \nTirpentwys – South Wales Climbing Wiki (SWCW) \nClimbing meets are weather dependent and can change at short notice. Please contact the organiser for more information.
URL:https://gwentmc.club/event/climb-tirpentwys-sport-2/
LOCATION:Tirpentwys
CATEGORIES:Rock climbing,Sport,Wednesday climbing
ATTACH;FMTTYPE=image/jpeg:https://gwentmc.club/wp-content/uploads/2025/03/Tirpentwys-climb.jpg
END:VEVENT
BEGIN:VEVENT
DTSTART;TZID=Europe/London:20250730T150000
DTEND;TZID=Europe/London:20250730T210000
DTSTAMP:20260423T081540
CREATED:20250714T170751Z
LAST-MODIFIED:20250714T170751Z
UID:10000857-1753887600-1753909200@gwentmc.club
SUMMARY:Climb: Sirhowy (Sport)
DESCRIPTION:Wednesday evening climbing at Sirhowy. Sport. \nTimings will be advised via climbing group comms. For more details please contact John Jones. \nUKC Logbook (ukclimbing.com): Sirhowy \nSouth Wales Climbing Wiki (SWCW): Sirhowy – Quarry Mawr \nClimbing meets are weather dependent and can change at short notice. Please contact the organiser for more information.
URL:https://gwentmc.club/event/climb-sirhowy-sport-3/
CATEGORIES:Rock climbing,Sport,Wednesday climbing
ATTACH;FMTTYPE=image/jpeg:https://gwentmc.club/wp-content/uploads/2023/05/05July2023-Sirhowy-Crag-1024x1024-1.jpg
END:VEVENT
BEGIN:VEVENT
DTSTART;VALUE=DATE:20250726
DTEND;VALUE=DATE:20250728
DTSTAMP:20260423T081540
CREATED:20250714T170653Z
LAST-MODIFIED:20250714T170653Z
UID:10000856-1753488000-1753660799@gwentmc.club
SUMMARY:Weekend Club Climbing trip: South Pembrokeshire (Trad)
DESCRIPTION:Weekend climbing in South Pembrokeshire- camping at Bosherston (tbc via WhatsApp/email). \nParking at St Govan’s (tbc via WhatsApp/email). \nMore details to follow but keep an eye on the WhatsApp climbing channel for any updates. \nClimbing meets are weather dependent and can change at short notice. Please contact the organiser for more information.
URL:https://gwentmc.club/event/weekend-club-climbing-trip-south-pembrokeshire-trad/
CATEGORIES:Rock climbing,Trad,Weekend climbing,Weekends/weeks away
END:VEVENT
BEGIN:VEVENT
DTSTART;TZID=Europe/London:20250723T150000
DTEND;TZID=Europe/London:20250723T210000
DTSTAMP:20260423T081540
CREATED:20250714T170530Z
LAST-MODIFIED:20250715T182107Z
UID:10000855-1753282800-1753304400@gwentmc.club
SUMMARY:Climb: Taff's Well West (sport)
DESCRIPTION:Climbing at Taff’s Well West (sport) \nTimings will be advised via climbing group comms for more details please contact John Jones. \nUKC Logbook – Taff’s Well (ukclimbing.com) \nTaffs Well – South Wales Climbing Wiki (SWCW) \nClimbing meets are weather dependent and can change at short notice. Please contact the organiser for more information.
URL:https://gwentmc.club/event/climb-taffs-well-west-sport-3/
LOCATION:Taff’s Well West
CATEGORIES:Rock climbing,Sport,Wednesday climbing
ATTACH;FMTTYPE=image/jpeg:https://gwentmc.club/wp-content/uploads/2023/03/Taffs-Well-Main-2.jpg
END:VEVENT
BEGIN:VEVENT
DTSTART;TZID=Europe/London:20250720T093000
DTEND;TZID=Europe/London:20250720T170000
DTSTAMP:20260423T081540
CREATED:20250714T170433Z
LAST-MODIFIED:20250714T170433Z
UID:10000854-1753003800-1753030800@gwentmc.club
SUMMARY:Climb: Ferndale (Sport)
DESCRIPTION:Sunday sport climbing at Ferndale. \nGrid reference: SS 994 969. Post code for car parking: CF43 4LS. \nhttp://Ferndale – Main – https://www.ukclimbing.com/logbook/crags/ferndale-1044/ \nTimings will be advised via climbing group comms. For more details please contact John Jones. \nClimbing meets are weather dependent and can change at short notice. Please contact the organiser for more information.
URL:https://gwentmc.club/event/climb-ferndale-sport/
CATEGORIES:Rock climbing,Sport,Weekend climbing
ATTACH;FMTTYPE=image/jpeg:https://gwentmc.club/wp-content/uploads/2025/03/Ferndale-climb.jpg
END:VEVENT
BEGIN:VEVENT
DTSTART;TZID=Europe/London:20250716T150000
DTEND;TZID=Europe/London:20250716T213000
DTSTAMP:20260423T081540
CREATED:20250714T170346Z
LAST-MODIFIED:20250714T170346Z
UID:10000853-1752678000-1752701400@gwentmc.club
SUMMARY:Climb: Mount Pleasant\, Edwardsville
DESCRIPTION:Wednesday night climbing http://Mount Pleasant – Edwardsville \nGrid reference ST 083 978. Postcode CF48 4TD. \nClimbing meets are weather dependent and can change at short notice. Please contact the organiser for more information.
URL:https://gwentmc.club/event/climb-mount-pleasant-edwardsville/
CATEGORIES:Rock climbing
END:VEVENT
BEGIN:VEVENT
DTSTART;TZID=Europe/London:20250709T150000
DTEND;TZID=Europe/London:20250709T210000
DTSTAMP:20260423T081540
CREATED:20250708T070839Z
LAST-MODIFIED:20250708T070839Z
UID:10000850-1752073200-1752094800@gwentmc.club
SUMMARY:Climb: The Gap (sport)
DESCRIPTION:Sport climbing at The Gap – lower quarry \nTimings will be advised via climbing group comms for more details please contact John Jones. \nUKC Logbook – The Gap (ukclimbing.com) \nThe Gap – South Wales Climbing Wiki (SWCW) \nClimbing meets are weather dependent and can change at short notice. Please contact the organiser for more information.
URL:https://gwentmc.club/event/climb-the-gap-sport-09-07-2025/
LOCATION:The Gap
CATEGORIES:Rock climbing,Sport,Wednesday climbing
ATTACH;FMTTYPE=image/jpeg:https://gwentmc.club/wp-content/uploads/2023/03/The-Gap.jpg
END:VEVENT
BEGIN:VEVENT
DTSTART;TZID=Europe/London:20250702T150000
DTEND;TZID=Europe/London:20250702T210000
DTSTAMP:20260423T081540
CREATED:20250628T184625Z
LAST-MODIFIED:20250628T184625Z
UID:10000848-1751468400-1751490000@gwentmc.club
SUMMARY:Climb: Trebanog (Trad & Sport)
DESCRIPTION:Climbing at Trebanog- trad & sport. \nGrid reference ST 013901.  Car parking available at CF39 9YS. \nClimbing meets are weather dependent and can change at short notice. Please contact the organiser for more information.
URL:https://gwentmc.club/event/climb-trebanog-trad-sport_02-07-2025/
CATEGORIES:Rock climbing,Sport,Trad,Wednesday climbing
END:VEVENT
BEGIN:VEVENT
DTSTART;VALUE=DATE:20250628
DTEND;VALUE=DATE:20250630
DTSTAMP:20260423T081541
CREATED:20250601T110453Z
LAST-MODIFIED:20250601T110453Z
UID:10000840-1751068800-1751241599@gwentmc.club
SUMMARY:Weekend climb: West Wales or South Devon TBC (trad)
DESCRIPTION:The location of either West Wales (North Pembrokeshire/Culm coast) or South Devon (Baggy Point) will be confirmed nearer the time pending tides. \nTrad. \nClimbing meets are weather dependent and can change at short notice. Please contact the organiser for more information.
URL:https://gwentmc.club/event/weekend-climb-west-wales-or-south-devon-tbc-28-29-06-2025/
CATEGORIES:Rock climbing,Trad,Weekend climbing
ATTACH;FMTTYPE=image/jpeg:https://gwentmc.club/wp-content/uploads/2024/02/May-Bank-Hol-climb-2024.jpg
END:VEVENT
BEGIN:VEVENT
DTSTART;TZID=Europe/London:20250625T150000
DTEND;TZID=Europe/London:20250625T210000
DTSTAMP:20260423T081541
CREATED:20250601T110059Z
LAST-MODIFIED:20250601T110059Z
UID:10000838-1750863600-1750885200@gwentmc.club
SUMMARY:Climb: Navigation Quarry (mostly sport\, some trad).
DESCRIPTION:Navigation Quarry climb (mostly sport\, some trad). \nOS Map 166/171 grid reference: ST087 939. \nPost code for car parking: CF45 4RS. \nTimings will be advised via climbing group comms for more details please contact John Jones. \nClimbing meets are weather dependent and can change at short notice. Please contact the organiser for more information.
URL:https://gwentmc.club/event/climb-navigation-quarry-mostly-sport-some-trad-25-06-2025/
CATEGORIES:Rock climbing,Sport,Trad,Wednesday climbing
ATTACH;FMTTYPE=image/jpeg:https://gwentmc.club/wp-content/uploads/2024/02/Naviagtion-Quarry.jpg
END:VEVENT
BEGIN:VEVENT
DTSTART;TZID=Europe/London:20250622T093000
DTEND;TZID=Europe/London:20250622T170000
DTSTAMP:20260423T081541
CREATED:20250601T105925Z
LAST-MODIFIED:20250601T105925Z
UID:10000836-1750584600-1750611600@gwentmc.club
SUMMARY:Climb: Gower Trad & Sport
DESCRIPTION:Climbing at Gower. Trad & Sport. \nClimbing meets are weather dependent and can change at short notice. Please contact the organiser for more information.
URL:https://gwentmc.club/event/climb-gower-trad-sport-22-06-2025/
CATEGORIES:Rock climbing,Sport,Trad,Weekend climbing
END:VEVENT
BEGIN:VEVENT
DTSTART;TZID=Europe/London:20250618T150000
DTEND;TZID=Europe/London:20250618T210000
DTSTAMP:20260423T081541
CREATED:20250601T105810Z
LAST-MODIFIED:20250601T105810Z
UID:10000835-1750258800-1750280400@gwentmc.club
SUMMARY:Climb: The Gap (sport)
DESCRIPTION:Sport climbing at The Gap – lower quarry \nTimings will be advised via climbing group comms for more details please contact John Jones. \nUKC Logbook – The Gap (ukclimbing.com) \nThe Gap – South Wales Climbing Wiki (SWCW) \nClimbing meets are weather dependent and can change at short notice. Please contact the organiser for more information.
URL:https://gwentmc.club/event/climb-the-gap-sport-18-06-2025/
LOCATION:The Gap
CATEGORIES:Rock climbing,Sport,Wednesday climbing
ATTACH;FMTTYPE=image/jpeg:https://gwentmc.club/wp-content/uploads/2023/03/The-Gap.jpg
END:VEVENT
BEGIN:VEVENT
DTSTART;TZID=Europe/London:20250615T093000
DTEND;TZID=Europe/London:20250615T170000
DTSTAMP:20260423T081541
CREATED:20250601T105648Z
LAST-MODIFIED:20250601T105648Z
UID:10000833-1749979800-1750006800@gwentmc.club
SUMMARY:Climb: Avon (sport and trad)
DESCRIPTION:Sport and trad climbing at Avon \nTimings will be advised via climbing group comms for more details please contact John Jones. \nUKC Logbook – Avon Gorge (Main Area) (ukclimbing.com) \nUKC Logbook – Avon Gorge (Sea Walls Area) (ukclimbing.com) \nUKC Logbook – Avon Gorge (Suspension Bridge Area) (ukclimbing.com) \nClimbing meets are weather dependent and can change at short notice. Please contact the organiser for more information.
URL:https://gwentmc.club/event/climb-avon-sport-and-trad-15-06-2025/
LOCATION:Avon
CATEGORIES:Rock climbing,Sport,Trad,Weekend climbing
ATTACH;FMTTYPE=image/jpeg:https://gwentmc.club/wp-content/uploads/2023/03/Avon-Gorge.jpg
END:VEVENT
BEGIN:VEVENT
DTSTART;TZID=Europe/London:20250611T150000
DTEND;TZID=Europe/London:20250611T210000
DTSTAMP:20260423T081541
CREATED:20250601T105514Z
LAST-MODIFIED:20250601T105514Z
UID:10000832-1749654000-1749675600@gwentmc.club
SUMMARY:Climb: Gelli (sport)
DESCRIPTION:Sport climbing at Gelli \nTimings will be advised via climbing group comms for more details please contact John Jones. \nUKC Logbook – Gelli (ukclimbing.com) \nGelli – South Wales Climbing Wiki (SWCW) \nClimbing meets are weather dependent and can change at short notice. Please contact the organiser for more information.
URL:https://gwentmc.club/event/climb-gelli-sport_11-06-2025/
LOCATION:Gelli
CATEGORIES:Rock climbing,Sport,Wednesday climbing
ATTACH;FMTTYPE=image/jpeg:https://gwentmc.club/wp-content/uploads/2023/03/Gelli.jpg
END:VEVENT
BEGIN:VEVENT
DTSTART;TZID=Europe/London:20250608T093000
DTEND;TZID=Europe/London:20250608T170000
DTSTAMP:20260423T081541
CREATED:20250601T105343Z
LAST-MODIFIED:20250601T105343Z
UID:10000831-1749375000-1749402000@gwentmc.club
SUMMARY:Climb: Wintours Leap (Trad)
DESCRIPTION:Trad climbing at Wintours Leap. Sport available in Woodcroft Quarry. \nOS Map 162\, grid reference ST542958. Car parking at Lancaut Lane. \nUKC Logbook – Wintour’s Leap (ukclimbing.com) \nTimings will be advised via climbing group comms for more details please contact John Jones. \nClimbing meets are weather dependent and can change at short notice. Please contact the organiser for more information.
URL:https://gwentmc.club/event/climb-wintours-leap-trad_08-06-2025/
CATEGORIES:Rock climbing,Trad,Weekend climbing
ATTACH;FMTTYPE=image/jpeg:https://gwentmc.club/wp-content/uploads/2023/03/Wintours-Leap.jpg
END:VEVENT
BEGIN:VEVENT
DTSTART;TZID=Europe/London:20250604T150000
DTEND;TZID=Europe/London:20250604T210000
DTSTAMP:20260423T081541
CREATED:20250601T105218Z
LAST-MODIFIED:20250601T105218Z
UID:10000830-1749049200-1749070800@gwentmc.club
SUMMARY:Climb: Blaenllechau (Sport)
DESCRIPTION:Sport  climbing at Blaenllechau. \nGrid reference: ST 004 968. \nTo prevent antagonising local residents it may be best to park in or near the village centre (post code CF43 4PG). \nTimings will be advised via climbing group comms. For more details please contact John Jones. \nUKC Logbook (ukclimbing.com): Blaenllechau \nSouth Wales Climbing Wiki (SWCW): Blaenllechau \nClimbing meets are weather dependent and can change at short notice. Please contact the organiser for more information.
URL:https://gwentmc.club/event/climb-blaenllechau-sport-3/
CATEGORIES:Rock climbing,Sport,Wednesday climbing
END:VEVENT
BEGIN:VEVENT
DTSTART;TZID=Europe/London:20250601T093000
DTEND;TZID=Europe/London:20250601T170000
DTSTAMP:20260423T081541
CREATED:20250511T143626Z
LAST-MODIFIED:20250511T143626Z
UID:10000824-1748770200-1748797200@gwentmc.club
SUMMARY:Climb: Dyffryn Woods (sport)
DESCRIPTION:Sport climbing at Dyffryn Woods. \nClimbing meets are weather dependent and can change at short notice. Please contact the organiser for more information.
URL:https://gwentmc.club/event/climb-dyffryn-woods-sport/
CATEGORIES:Rock climbing,Sport,Weekend climbing
END:VEVENT
BEGIN:VEVENT
DTSTART;VALUE=DATE:20250529
DTEND;VALUE=DATE:20250602
DTSTAMP:20260423T081541
CREATED:20240807T123857Z
LAST-MODIFIED:20250319T140932Z
UID:10000418-1748476800-1748822399@gwentmc.club
SUMMARY:Weekend trip: Lake District\, Ennerdale
DESCRIPTION:The Club’s long weekend in wild Ennerdale promises early-summer 5-star walking\, climbing and cameraderie in the remote Western Lake District. One of the most remote of the Lake District valleys\, Ennerdale is largely unspoilt with its striking natural features providing an overwhelming character of wildness and tranquility. It’s many years since the Club last visited Ennerdale. \nEnnerdale inspired Wordsworth’s poem ‘The Brothers’ in 1800 after he and Coleridge visited the valley a year earlier\, but perhaps the area’s largest cultural impact has been on the sport of rock climbing. It was at Pillar Rock in Ennerdale that true rock climbing began. Previously thought unclimbable\, local shepherd John Atkinson scaled The Pillar Stone (as it was known then) in 1824 and kick-started a passion that climbers from all over the world share to this day. \nEnnerdale gives access to many of the western fells (20+ Wainrights\, including Pillar\, Steeple\, Kirkfell\, Haystacks\, High Stile and Red Pike as well as many lesser known fells) and also to several important crags for climbing (Pillar Rock\, Ennerdale Face of High Stile\, Raven Crag\, etc.). \nThis long weekend away (Thursday to Sunday) will be based at Low Gillerthwaite Field Centre in the heart of the dale with easy access to surrounding fells and crags. This is a self-catering independent hostel with five dormitories/40 beds. The LGFC has separate male and female toilet/shower facilities\, two lounges\, a dining room with five tables and benches\, and a kitchen. \nOf particular note outside are opportunities for additional recreation – bird-watching\, river swimming and star-gazing. Swimming is not permitted in Ennerdale Water but the nearby River Liza has many pools for swimming. Ennerdale is a Dark Sky Discovery Site\, offering some of the most spectacular night skies in England (on a clear night!). \n 
URL:https://gwentmc.club/event/weekend-trip-lake-district-ennerdale/
CATEGORIES:Hiking/walking,Rock climbing,Trad,Weekends/weeks away
ATTACH;FMTTYPE=image/jpeg:https://gwentmc.club/wp-content/uploads/2024/08/trip-ennerdale-29may2025.jpg
END:VEVENT
BEGIN:VEVENT
DTSTART;TZID=Europe/London:20250528T150000
DTEND;TZID=Europe/London:20250528T213000
DTSTAMP:20260423T081541
CREATED:20250511T143306Z
LAST-MODIFIED:20250524T132424Z
UID:10000822-1748444400-1748467800@gwentmc.club
SUMMARY:Climb: Taff's Well Main (Sport)
DESCRIPTION:Sport Climbing at Taff’s Well Main. \nClimbing meets are weather dependent and can change at short notice. Please contact the organiser for more information.
URL:https://gwentmc.club/event/climb-llanbradach-sport-2/
CATEGORIES:Rock climbing,Sport,Wednesday climbing
END:VEVENT
BEGIN:VEVENT
DTSTART;VALUE=DATE:20250524
DTEND;VALUE=DATE:20250527
DTSTAMP:20260423T081541
CREATED:20250511T143451Z
LAST-MODIFIED:20250511T143509Z
UID:10000823-1748044800-1748303999@gwentmc.club
SUMMARY:Weekend climbing North Wales
DESCRIPTION:North Wales or other pending weather. \nClimbing meets are weather dependent and can change at short notice. Please contact the organiser for more information.
URL:https://gwentmc.club/event/weekend-climbing/
CATEGORIES:Rock climbing,Weekend climbing
END:VEVENT
BEGIN:VEVENT
DTSTART;TZID=Europe/London:20250521T150000
DTEND;TZID=Europe/London:20250521T213000
DTSTAMP:20260423T081541
CREATED:20250511T143057Z
LAST-MODIFIED:20250511T143721Z
UID:10000821-1747839600-1747863000@gwentmc.club
SUMMARY:Climb: Gilwern Tyla (Sport)
DESCRIPTION:Sport climbing at Gilwern Tyla. \nClimbing meets are weather dependent and can change at short notice. Please contact the organiser for more information.
URL:https://gwentmc.club/event/climb-gilwern-tyla-sport/
CATEGORIES:Rock climbing,Sport,Wednesday climbing
END:VEVENT
BEGIN:VEVENT
DTSTART;TZID=Europe/London:20250518T093000
DTEND;TZID=Europe/London:20250518T170000
DTSTAMP:20260423T081541
CREATED:20250511T142933Z
LAST-MODIFIED:20250511T142933Z
UID:10000820-1747560600-1747587600@gwentmc.club
SUMMARY:Climb: Gower Trad & Sport
DESCRIPTION:Climbing at Gower. Trad & Sport. \nClimbing meets are weather dependent and can change at short notice. Please contact the organiser for more information.
URL:https://gwentmc.club/event/climb-gower-trad-sport/
CATEGORIES:Rock climbing,Sport,Trad,Weekend climbing
END:VEVENT
BEGIN:VEVENT
DTSTART;TZID=Europe/London:20250514T150000
DTEND;TZID=Europe/London:20250514T210000
DTSTAMP:20260423T081541
CREATED:20250506T192620Z
LAST-MODIFIED:20250506T192620Z
UID:10000819-1747234800-1747256400@gwentmc.club
SUMMARY:Climb: Sirhowy (Sport)
DESCRIPTION:Wednesday evening climbing at Sirhowy. Sport. \nTimings will be advised via climbing group comms. For more details please contact John Jones. \nUKC Logbook (ukclimbing.com): Sirhowy \nSouth Wales Climbing Wiki (SWCW): Sirhowy – Quarry Mawr \nClimbing meets are weather dependent and can change at short notice. Please contact the organiser for more information.
URL:https://gwentmc.club/event/climb-sirhowy-sport-2/
CATEGORIES:Rock climbing,Sport,Wednesday climbing
ATTACH;FMTTYPE=image/jpeg:https://gwentmc.club/wp-content/uploads/2023/05/05July2023-Sirhowy-Crag-1024x1024-1.jpg
END:VEVENT
END:VCALENDAR