BEGIN:VCALENDAR
VERSION:2.0
PRODID:-//Gwent Mountaineering Club - ECPv6.15.20//NONSGML v1.0//EN
CALSCALE:GREGORIAN
METHOD:PUBLISH
X-ORIGINAL-URL:https://gwentmc.club
X-WR-CALDESC:Events for Gwent Mountaineering Club
REFRESH-INTERVAL;VALUE=DURATION:PT1H
X-Robots-Tag:noindex
X-PUBLISHED-TTL:PT1H
BEGIN:VTIMEZONE
TZID:Europe/London
BEGIN:DAYLIGHT
TZOFFSETFROM:+0000
TZOFFSETTO:+0100
TZNAME:BST
DTSTART:20240331T010000
END:DAYLIGHT
BEGIN:STANDARD
TZOFFSETFROM:+0100
TZOFFSETTO:+0000
TZNAME:GMT
DTSTART:20241027T010000
END:STANDARD
BEGIN:DAYLIGHT
TZOFFSETFROM:+0000
TZOFFSETTO:+0100
TZNAME:BST
DTSTART:20250330T010000
END:DAYLIGHT
BEGIN:STANDARD
TZOFFSETFROM:+0100
TZOFFSETTO:+0000
TZNAME:GMT
DTSTART:20251026T010000
END:STANDARD
BEGIN:DAYLIGHT
TZOFFSETFROM:+0000
TZOFFSETTO:+0100
TZNAME:BST
DTSTART:20260329T010000
END:DAYLIGHT
BEGIN:STANDARD
TZOFFSETFROM:+0100
TZOFFSETTO:+0000
TZNAME:GMT
DTSTART:20261025T010000
END:STANDARD
BEGIN:DAYLIGHT
TZOFFSETFROM:+0000
TZOFFSETTO:+0100
TZNAME:BST
DTSTART:20270328T010000
END:DAYLIGHT
BEGIN:STANDARD
TZOFFSETFROM:+0100
TZOFFSETTO:+0000
TZNAME:GMT
DTSTART:20271031T010000
END:STANDARD
END:VTIMEZONE
BEGIN:VEVENT
DTSTART;TZID=Europe/London:20260225T180000
DTEND;TZID=Europe/London:20260304T213000
DTSTAMP:20260423T051201
CREATED:20250909T200123Z
LAST-MODIFIED:20260315T154450Z
UID:10000935-1772042400-1772659800@gwentmc.club
SUMMARY:Indoor climb: Every Wednesday (September - March)
DESCRIPTION:Join us every Wednesday from 6pm for indoor climbing over the winter months from September through to the end of March 2026. There is a choice of 2 climbing venues so we hope to see you at one of them! \nBoulders Cardiff\, St. Catherines Park\, Cardiff\, CF24 2RZ \nThe Summit Centre\, The Old Drift Mine Trelewis\, Treharris South Wales\, CF46 6RD
URL:https://gwentmc.club/event/indoor-climb-every-wednesday-september-march/2026-02-25/
LOCATION:Summit Centre\, Trelewis\, The Old Drift Mine Trelewis\, Treharris\, CF46 6RD
CATEGORIES:Climbing wall,Indoor,Wednesday climbing
ATTACH;FMTTYPE=image/jpeg:https://gwentmc.club/wp-content/uploads/2022/12/event-indoorclimbing-2.jpg
END:VEVENT
BEGIN:VEVENT
DTSTART;TZID=Europe/London:20260218T180000
DTEND;TZID=Europe/London:20260225T213000
DTSTAMP:20260423T051201
CREATED:20250909T200123Z
LAST-MODIFIED:20260315T154450Z
UID:10000934-1771437600-1772055000@gwentmc.club
SUMMARY:Indoor climb: Every Wednesday (September - March)
DESCRIPTION:Join us every Wednesday from 6pm for indoor climbing over the winter months from September through to the end of March 2026. There is a choice of 2 climbing venues so we hope to see you at one of them! \nBoulders Cardiff\, St. Catherines Park\, Cardiff\, CF24 2RZ \nThe Summit Centre\, The Old Drift Mine Trelewis\, Treharris South Wales\, CF46 6RD
URL:https://gwentmc.club/event/indoor-climb-every-wednesday-september-march/2026-02-18/
LOCATION:Summit Centre\, Trelewis\, The Old Drift Mine Trelewis\, Treharris\, CF46 6RD
CATEGORIES:Climbing wall,Indoor,Wednesday climbing
ATTACH;FMTTYPE=image/jpeg:https://gwentmc.club/wp-content/uploads/2022/12/event-indoorclimbing-2.jpg
END:VEVENT
BEGIN:VEVENT
DTSTART;TZID=Europe/London:20260211T180000
DTEND;TZID=Europe/London:20260218T213000
DTSTAMP:20260423T051201
CREATED:20250909T200123Z
LAST-MODIFIED:20260315T154450Z
UID:10000933-1770832800-1771450200@gwentmc.club
SUMMARY:Indoor climb: Every Wednesday (September - March)
DESCRIPTION:Join us every Wednesday from 6pm for indoor climbing over the winter months from September through to the end of March 2026. There is a choice of 2 climbing venues so we hope to see you at one of them! \nBoulders Cardiff\, St. Catherines Park\, Cardiff\, CF24 2RZ \nThe Summit Centre\, The Old Drift Mine Trelewis\, Treharris South Wales\, CF46 6RD
URL:https://gwentmc.club/event/indoor-climb-every-wednesday-september-march/2026-02-11/
LOCATION:Summit Centre\, Trelewis\, The Old Drift Mine Trelewis\, Treharris\, CF46 6RD
CATEGORIES:Climbing wall,Indoor,Wednesday climbing
ATTACH;FMTTYPE=image/jpeg:https://gwentmc.club/wp-content/uploads/2022/12/event-indoorclimbing-2.jpg
END:VEVENT
BEGIN:VEVENT
DTSTART;TZID=Europe/London:20260204T180000
DTEND;TZID=Europe/London:20260211T213000
DTSTAMP:20260423T051201
CREATED:20250909T200123Z
LAST-MODIFIED:20260315T154450Z
UID:10000932-1770228000-1770845400@gwentmc.club
SUMMARY:Indoor climb: Every Wednesday (September - March)
DESCRIPTION:Join us every Wednesday from 6pm for indoor climbing over the winter months from September through to the end of March 2026. There is a choice of 2 climbing venues so we hope to see you at one of them! \nBoulders Cardiff\, St. Catherines Park\, Cardiff\, CF24 2RZ \nThe Summit Centre\, The Old Drift Mine Trelewis\, Treharris South Wales\, CF46 6RD
URL:https://gwentmc.club/event/indoor-climb-every-wednesday-september-march/2026-02-04/
LOCATION:Summit Centre\, Trelewis\, The Old Drift Mine Trelewis\, Treharris\, CF46 6RD
CATEGORIES:Climbing wall,Indoor,Wednesday climbing
ATTACH;FMTTYPE=image/jpeg:https://gwentmc.club/wp-content/uploads/2022/12/event-indoorclimbing-2.jpg
END:VEVENT
BEGIN:VEVENT
DTSTART;TZID=Europe/London:20260128T180000
DTEND;TZID=Europe/London:20260204T213000
DTSTAMP:20260423T051201
CREATED:20250909T200123Z
LAST-MODIFIED:20260315T154450Z
UID:10000931-1769623200-1770240600@gwentmc.club
SUMMARY:Indoor climb: Every Wednesday (September - March)
DESCRIPTION:Join us every Wednesday from 6pm for indoor climbing over the winter months from September through to the end of March 2026. There is a choice of 2 climbing venues so we hope to see you at one of them! \nBoulders Cardiff\, St. Catherines Park\, Cardiff\, CF24 2RZ \nThe Summit Centre\, The Old Drift Mine Trelewis\, Treharris South Wales\, CF46 6RD
URL:https://gwentmc.club/event/indoor-climb-every-wednesday-september-march/2026-01-28/
LOCATION:Summit Centre\, Trelewis\, The Old Drift Mine Trelewis\, Treharris\, CF46 6RD
CATEGORIES:Climbing wall,Indoor,Wednesday climbing
ATTACH;FMTTYPE=image/jpeg:https://gwentmc.club/wp-content/uploads/2022/12/event-indoorclimbing-2.jpg
END:VEVENT
BEGIN:VEVENT
DTSTART;TZID=Europe/London:20260121T180000
DTEND;TZID=Europe/London:20260128T213000
DTSTAMP:20260423T051201
CREATED:20250909T200123Z
LAST-MODIFIED:20260315T154450Z
UID:10000930-1769018400-1769635800@gwentmc.club
SUMMARY:Indoor climb: Every Wednesday (September - March)
DESCRIPTION:Join us every Wednesday from 6pm for indoor climbing over the winter months from September through to the end of March 2026. There is a choice of 2 climbing venues so we hope to see you at one of them! \nBoulders Cardiff\, St. Catherines Park\, Cardiff\, CF24 2RZ \nThe Summit Centre\, The Old Drift Mine Trelewis\, Treharris South Wales\, CF46 6RD
URL:https://gwentmc.club/event/indoor-climb-every-wednesday-september-march/2026-01-21/
LOCATION:Summit Centre\, Trelewis\, The Old Drift Mine Trelewis\, Treharris\, CF46 6RD
CATEGORIES:Climbing wall,Indoor,Wednesday climbing
ATTACH;FMTTYPE=image/jpeg:https://gwentmc.club/wp-content/uploads/2022/12/event-indoorclimbing-2.jpg
END:VEVENT
BEGIN:VEVENT
DTSTART;TZID=Europe/London:20260114T180000
DTEND;TZID=Europe/London:20260121T213000
DTSTAMP:20260423T051201
CREATED:20250909T200123Z
LAST-MODIFIED:20260315T154450Z
UID:10000929-1768413600-1769031000@gwentmc.club
SUMMARY:Indoor climb: Every Wednesday (September - March)
DESCRIPTION:Join us every Wednesday from 6pm for indoor climbing over the winter months from September through to the end of March 2026. There is a choice of 2 climbing venues so we hope to see you at one of them! \nBoulders Cardiff\, St. Catherines Park\, Cardiff\, CF24 2RZ \nThe Summit Centre\, The Old Drift Mine Trelewis\, Treharris South Wales\, CF46 6RD
URL:https://gwentmc.club/event/indoor-climb-every-wednesday-september-march/2026-01-14/
LOCATION:Summit Centre\, Trelewis\, The Old Drift Mine Trelewis\, Treharris\, CF46 6RD
CATEGORIES:Climbing wall,Indoor,Wednesday climbing
ATTACH;FMTTYPE=image/jpeg:https://gwentmc.club/wp-content/uploads/2022/12/event-indoorclimbing-2.jpg
END:VEVENT
BEGIN:VEVENT
DTSTART;TZID=Europe/London:20260107T180000
DTEND;TZID=Europe/London:20260114T213000
DTSTAMP:20260423T051201
CREATED:20250909T200123Z
LAST-MODIFIED:20260315T154450Z
UID:10000928-1767808800-1768426200@gwentmc.club
SUMMARY:Indoor climb: Every Wednesday (September - March)
DESCRIPTION:Join us every Wednesday from 6pm for indoor climbing over the winter months from September through to the end of March 2026. There is a choice of 2 climbing venues so we hope to see you at one of them! \nBoulders Cardiff\, St. Catherines Park\, Cardiff\, CF24 2RZ \nThe Summit Centre\, The Old Drift Mine Trelewis\, Treharris South Wales\, CF46 6RD
URL:https://gwentmc.club/event/indoor-climb-every-wednesday-september-march/2026-01-07/
LOCATION:Summit Centre\, Trelewis\, The Old Drift Mine Trelewis\, Treharris\, CF46 6RD
CATEGORIES:Climbing wall,Indoor,Wednesday climbing
ATTACH;FMTTYPE=image/jpeg:https://gwentmc.club/wp-content/uploads/2022/12/event-indoorclimbing-2.jpg
END:VEVENT
BEGIN:VEVENT
DTSTART;TZID=Europe/London:20251224T180000
DTEND;TZID=Europe/London:20251231T213000
DTSTAMP:20260423T051201
CREATED:20250909T200123Z
LAST-MODIFIED:20260315T154450Z
UID:10000926-1766599200-1767216600@gwentmc.club
SUMMARY:Indoor climb: Every Wednesday (September - March)
DESCRIPTION:Join us every Wednesday from 6pm for indoor climbing over the winter months from September through to the end of March 2026. There is a choice of 2 climbing venues so we hope to see you at one of them! \nBoulders Cardiff\, St. Catherines Park\, Cardiff\, CF24 2RZ \nThe Summit Centre\, The Old Drift Mine Trelewis\, Treharris South Wales\, CF46 6RD
URL:https://gwentmc.club/event/indoor-climb-every-wednesday-september-march/2025-12-24/
LOCATION:Summit Centre\, Trelewis\, The Old Drift Mine Trelewis\, Treharris\, CF46 6RD
CATEGORIES:Climbing wall,Indoor,Wednesday climbing
ATTACH;FMTTYPE=image/jpeg:https://gwentmc.club/wp-content/uploads/2022/12/event-indoorclimbing-2.jpg
END:VEVENT
BEGIN:VEVENT
DTSTART;TZID=Europe/London:20251217T180000
DTEND;TZID=Europe/London:20251224T213000
DTSTAMP:20260423T051201
CREATED:20250909T200123Z
LAST-MODIFIED:20260315T154450Z
UID:10000925-1765994400-1766611800@gwentmc.club
SUMMARY:Indoor climb: Every Wednesday (September - March)
DESCRIPTION:Join us every Wednesday from 6pm for indoor climbing over the winter months from September through to the end of March 2026. There is a choice of 2 climbing venues so we hope to see you at one of them! \nBoulders Cardiff\, St. Catherines Park\, Cardiff\, CF24 2RZ \nThe Summit Centre\, The Old Drift Mine Trelewis\, Treharris South Wales\, CF46 6RD
URL:https://gwentmc.club/event/indoor-climb-every-wednesday-september-march/2025-12-17/
LOCATION:Summit Centre\, Trelewis\, The Old Drift Mine Trelewis\, Treharris\, CF46 6RD
CATEGORIES:Climbing wall,Indoor,Wednesday climbing
ATTACH;FMTTYPE=image/jpeg:https://gwentmc.club/wp-content/uploads/2022/12/event-indoorclimbing-2.jpg
END:VEVENT
BEGIN:VEVENT
DTSTART;TZID=Europe/London:20251210T180000
DTEND;TZID=Europe/London:20251217T213000
DTSTAMP:20260423T051201
CREATED:20250909T200123Z
LAST-MODIFIED:20260315T154450Z
UID:10000924-1765389600-1766007000@gwentmc.club
SUMMARY:Indoor climb: Every Wednesday (September - March)
DESCRIPTION:Join us every Wednesday from 6pm for indoor climbing over the winter months from September through to the end of March 2026. There is a choice of 2 climbing venues so we hope to see you at one of them! \nBoulders Cardiff\, St. Catherines Park\, Cardiff\, CF24 2RZ \nThe Summit Centre\, The Old Drift Mine Trelewis\, Treharris South Wales\, CF46 6RD
URL:https://gwentmc.club/event/indoor-climb-every-wednesday-september-march/2025-12-10/
LOCATION:Summit Centre\, Trelewis\, The Old Drift Mine Trelewis\, Treharris\, CF46 6RD
CATEGORIES:Climbing wall,Indoor,Wednesday climbing
ATTACH;FMTTYPE=image/jpeg:https://gwentmc.club/wp-content/uploads/2022/12/event-indoorclimbing-2.jpg
END:VEVENT
BEGIN:VEVENT
DTSTART;TZID=Europe/London:20251203T180000
DTEND;TZID=Europe/London:20251210T213000
DTSTAMP:20260423T051201
CREATED:20250909T200123Z
LAST-MODIFIED:20260315T154450Z
UID:10000923-1764784800-1765402200@gwentmc.club
SUMMARY:Indoor climb: Every Wednesday (September - March)
DESCRIPTION:Join us every Wednesday from 6pm for indoor climbing over the winter months from September through to the end of March 2026. There is a choice of 2 climbing venues so we hope to see you at one of them! \nBoulders Cardiff\, St. Catherines Park\, Cardiff\, CF24 2RZ \nThe Summit Centre\, The Old Drift Mine Trelewis\, Treharris South Wales\, CF46 6RD
URL:https://gwentmc.club/event/indoor-climb-every-wednesday-september-march/2025-12-03/
LOCATION:Summit Centre\, Trelewis\, The Old Drift Mine Trelewis\, Treharris\, CF46 6RD
CATEGORIES:Climbing wall,Indoor,Wednesday climbing
ATTACH;FMTTYPE=image/jpeg:https://gwentmc.club/wp-content/uploads/2022/12/event-indoorclimbing-2.jpg
END:VEVENT
BEGIN:VEVENT
DTSTART;TZID=Europe/London:20251126T180000
DTEND;TZID=Europe/London:20251203T213000
DTSTAMP:20260423T051201
CREATED:20250909T200123Z
LAST-MODIFIED:20260315T154450Z
UID:10000922-1764180000-1764797400@gwentmc.club
SUMMARY:Indoor climb: Every Wednesday (September - March)
DESCRIPTION:Join us every Wednesday from 6pm for indoor climbing over the winter months from September through to the end of March 2026. There is a choice of 2 climbing venues so we hope to see you at one of them! \nBoulders Cardiff\, St. Catherines Park\, Cardiff\, CF24 2RZ \nThe Summit Centre\, The Old Drift Mine Trelewis\, Treharris South Wales\, CF46 6RD
URL:https://gwentmc.club/event/indoor-climb-every-wednesday-september-march/2025-11-26/
LOCATION:Summit Centre\, Trelewis\, The Old Drift Mine Trelewis\, Treharris\, CF46 6RD
CATEGORIES:Climbing wall,Indoor,Wednesday climbing
ATTACH;FMTTYPE=image/jpeg:https://gwentmc.club/wp-content/uploads/2022/12/event-indoorclimbing-2.jpg
END:VEVENT
BEGIN:VEVENT
DTSTART;TZID=Europe/London:20251119T180000
DTEND;TZID=Europe/London:20251126T213000
DTSTAMP:20260423T051201
CREATED:20250909T200123Z
LAST-MODIFIED:20260315T154450Z
UID:10000921-1763575200-1764192600@gwentmc.club
SUMMARY:Indoor climb: Every Wednesday (September - March)
DESCRIPTION:Join us every Wednesday from 6pm for indoor climbing over the winter months from September through to the end of March 2026. There is a choice of 2 climbing venues so we hope to see you at one of them! \nBoulders Cardiff\, St. Catherines Park\, Cardiff\, CF24 2RZ \nThe Summit Centre\, The Old Drift Mine Trelewis\, Treharris South Wales\, CF46 6RD
URL:https://gwentmc.club/event/indoor-climb-every-wednesday-september-march/2025-11-19/
LOCATION:Summit Centre\, Trelewis\, The Old Drift Mine Trelewis\, Treharris\, CF46 6RD
CATEGORIES:Climbing wall,Indoor,Wednesday climbing
ATTACH;FMTTYPE=image/jpeg:https://gwentmc.club/wp-content/uploads/2022/12/event-indoorclimbing-2.jpg
END:VEVENT
BEGIN:VEVENT
DTSTART;TZID=Europe/London:20251112T180000
DTEND;TZID=Europe/London:20251119T213000
DTSTAMP:20260423T051201
CREATED:20250909T200123Z
LAST-MODIFIED:20260315T154450Z
UID:10000920-1762970400-1763587800@gwentmc.club
SUMMARY:Indoor climb: Every Wednesday (September - March)
DESCRIPTION:Join us every Wednesday from 6pm for indoor climbing over the winter months from September through to the end of March 2026. There is a choice of 2 climbing venues so we hope to see you at one of them! \nBoulders Cardiff\, St. Catherines Park\, Cardiff\, CF24 2RZ \nThe Summit Centre\, The Old Drift Mine Trelewis\, Treharris South Wales\, CF46 6RD
URL:https://gwentmc.club/event/indoor-climb-every-wednesday-september-march/2025-11-12/
LOCATION:Summit Centre\, Trelewis\, The Old Drift Mine Trelewis\, Treharris\, CF46 6RD
CATEGORIES:Climbing wall,Indoor,Wednesday climbing
ATTACH;FMTTYPE=image/jpeg:https://gwentmc.club/wp-content/uploads/2022/12/event-indoorclimbing-2.jpg
END:VEVENT
BEGIN:VEVENT
DTSTART;TZID=Europe/London:20251105T180000
DTEND;TZID=Europe/London:20251112T213000
DTSTAMP:20260423T051201
CREATED:20250909T200123Z
LAST-MODIFIED:20260315T154450Z
UID:10000919-1762365600-1762983000@gwentmc.club
SUMMARY:Indoor climb: Every Wednesday (September - March)
DESCRIPTION:Join us every Wednesday from 6pm for indoor climbing over the winter months from September through to the end of March 2026. There is a choice of 2 climbing venues so we hope to see you at one of them! \nBoulders Cardiff\, St. Catherines Park\, Cardiff\, CF24 2RZ \nThe Summit Centre\, The Old Drift Mine Trelewis\, Treharris South Wales\, CF46 6RD
URL:https://gwentmc.club/event/indoor-climb-every-wednesday-september-march/2025-11-05/
LOCATION:Summit Centre\, Trelewis\, The Old Drift Mine Trelewis\, Treharris\, CF46 6RD
CATEGORIES:Climbing wall,Indoor,Wednesday climbing
ATTACH;FMTTYPE=image/jpeg:https://gwentmc.club/wp-content/uploads/2022/12/event-indoorclimbing-2.jpg
END:VEVENT
BEGIN:VEVENT
DTSTART;TZID=Europe/London:20251029T180000
DTEND;TZID=Europe/London:20251105T213000
DTSTAMP:20260423T051201
CREATED:20250909T200123Z
LAST-MODIFIED:20260315T154450Z
UID:10000918-1761760800-1762378200@gwentmc.club
SUMMARY:Indoor climb: Every Wednesday (September - March)
DESCRIPTION:Join us every Wednesday from 6pm for indoor climbing over the winter months from September through to the end of March 2026. There is a choice of 2 climbing venues so we hope to see you at one of them! \nBoulders Cardiff\, St. Catherines Park\, Cardiff\, CF24 2RZ \nThe Summit Centre\, The Old Drift Mine Trelewis\, Treharris South Wales\, CF46 6RD
URL:https://gwentmc.club/event/indoor-climb-every-wednesday-september-march/2025-10-29/
LOCATION:Summit Centre\, Trelewis\, The Old Drift Mine Trelewis\, Treharris\, CF46 6RD
CATEGORIES:Climbing wall,Indoor,Wednesday climbing
ATTACH;FMTTYPE=image/jpeg:https://gwentmc.club/wp-content/uploads/2022/12/event-indoorclimbing-2.jpg
END:VEVENT
BEGIN:VEVENT
DTSTART;TZID=Europe/London:20251022T180000
DTEND;TZID=Europe/London:20251029T203000
DTSTAMP:20260423T051201
CREATED:20250909T200123Z
LAST-MODIFIED:20260315T154450Z
UID:10000917-1761156000-1761769800@gwentmc.club
SUMMARY:Indoor climb: Every Wednesday (September - March)
DESCRIPTION:Join us every Wednesday from 6pm for indoor climbing over the winter months from September through to the end of March 2026. There is a choice of 2 climbing venues so we hope to see you at one of them! \nBoulders Cardiff\, St. Catherines Park\, Cardiff\, CF24 2RZ \nThe Summit Centre\, The Old Drift Mine Trelewis\, Treharris South Wales\, CF46 6RD
URL:https://gwentmc.club/event/indoor-climb-every-wednesday-september-march/2025-10-22/
LOCATION:Summit Centre\, Trelewis\, The Old Drift Mine Trelewis\, Treharris\, CF46 6RD
CATEGORIES:Climbing wall,Indoor,Wednesday climbing
ATTACH;FMTTYPE=image/jpeg:https://gwentmc.club/wp-content/uploads/2022/12/event-indoorclimbing-2.jpg
END:VEVENT
BEGIN:VEVENT
DTSTART;TZID=Europe/London:20251015T180000
DTEND;TZID=Europe/London:20251022T213000
DTSTAMP:20260423T051201
CREATED:20250909T200123Z
LAST-MODIFIED:20260315T154450Z
UID:10000916-1760551200-1761168600@gwentmc.club
SUMMARY:Indoor climb: Every Wednesday (September - March)
DESCRIPTION:Join us every Wednesday from 6pm for indoor climbing over the winter months from September through to the end of March 2026. There is a choice of 2 climbing venues so we hope to see you at one of them! \nBoulders Cardiff\, St. Catherines Park\, Cardiff\, CF24 2RZ \nThe Summit Centre\, The Old Drift Mine Trelewis\, Treharris South Wales\, CF46 6RD
URL:https://gwentmc.club/event/indoor-climb-every-wednesday-september-march/2025-10-15/
LOCATION:Summit Centre\, Trelewis\, The Old Drift Mine Trelewis\, Treharris\, CF46 6RD
CATEGORIES:Climbing wall,Indoor,Wednesday climbing
ATTACH;FMTTYPE=image/jpeg:https://gwentmc.club/wp-content/uploads/2022/12/event-indoorclimbing-2.jpg
END:VEVENT
BEGIN:VEVENT
DTSTART;TZID=Europe/London:20251008T180000
DTEND;TZID=Europe/London:20251015T213000
DTSTAMP:20260423T051201
CREATED:20250909T200123Z
LAST-MODIFIED:20260315T154450Z
UID:10000915-1759946400-1760563800@gwentmc.club
SUMMARY:Indoor climb: Every Wednesday (September - March)
DESCRIPTION:Join us every Wednesday from 6pm for indoor climbing over the winter months from September through to the end of March 2026. There is a choice of 2 climbing venues so we hope to see you at one of them! \nBoulders Cardiff\, St. Catherines Park\, Cardiff\, CF24 2RZ \nThe Summit Centre\, The Old Drift Mine Trelewis\, Treharris South Wales\, CF46 6RD
URL:https://gwentmc.club/event/indoor-climb-every-wednesday-september-march/2025-10-08/
LOCATION:Summit Centre\, Trelewis\, The Old Drift Mine Trelewis\, Treharris\, CF46 6RD
CATEGORIES:Climbing wall,Indoor,Wednesday climbing
ATTACH;FMTTYPE=image/jpeg:https://gwentmc.club/wp-content/uploads/2022/12/event-indoorclimbing-2.jpg
END:VEVENT
BEGIN:VEVENT
DTSTART;TZID=Europe/London:20251001T180000
DTEND;TZID=Europe/London:20251008T213000
DTSTAMP:20260423T051201
CREATED:20250909T200123Z
LAST-MODIFIED:20260315T154450Z
UID:10000914-1759341600-1759959000@gwentmc.club
SUMMARY:Indoor climb: Every Wednesday (September - March)
DESCRIPTION:Join us every Wednesday from 6pm for indoor climbing over the winter months from September through to the end of March 2026. There is a choice of 2 climbing venues so we hope to see you at one of them! \nBoulders Cardiff\, St. Catherines Park\, Cardiff\, CF24 2RZ \nThe Summit Centre\, The Old Drift Mine Trelewis\, Treharris South Wales\, CF46 6RD
URL:https://gwentmc.club/event/indoor-climb-every-wednesday-september-march/2025-10-01/
LOCATION:Summit Centre\, Trelewis\, The Old Drift Mine Trelewis\, Treharris\, CF46 6RD
CATEGORIES:Climbing wall,Indoor,Wednesday climbing
ATTACH;FMTTYPE=image/jpeg:https://gwentmc.club/wp-content/uploads/2022/12/event-indoorclimbing-2.jpg
END:VEVENT
BEGIN:VEVENT
DTSTART;TZID=Europe/London:20250924T180000
DTEND;TZID=Europe/London:20251001T213000
DTSTAMP:20260423T051201
CREATED:20250909T200123Z
LAST-MODIFIED:20260315T154450Z
UID:10000913-1758736800-1759354200@gwentmc.club
SUMMARY:Indoor climb: Every Wednesday (September - March)
DESCRIPTION:Join us every Wednesday from 6pm for indoor climbing over the winter months from September through to the end of March 2026. There is a choice of 2 climbing venues so we hope to see you at one of them! \nBoulders Cardiff\, St. Catherines Park\, Cardiff\, CF24 2RZ \nThe Summit Centre\, The Old Drift Mine Trelewis\, Treharris South Wales\, CF46 6RD
URL:https://gwentmc.club/event/indoor-climb-every-wednesday-september-march/2025-09-24/
LOCATION:Summit Centre\, Trelewis\, The Old Drift Mine Trelewis\, Treharris\, CF46 6RD
CATEGORIES:Climbing wall,Indoor,Wednesday climbing
ATTACH;FMTTYPE=image/jpeg:https://gwentmc.club/wp-content/uploads/2022/12/event-indoorclimbing-2.jpg
END:VEVENT
BEGIN:VEVENT
DTSTART;TZID=Europe/London:20250917T180000
DTEND;TZID=Europe/London:20250924T213000
DTSTAMP:20260423T051201
CREATED:20250909T200123Z
LAST-MODIFIED:20260315T154450Z
UID:10000912-1758132000-1758749400@gwentmc.club
SUMMARY:Indoor climb: Every Wednesday (September - March)
DESCRIPTION:Join us every Wednesday from 6pm for indoor climbing over the winter months from September through to the end of March 2026. There is a choice of 2 climbing venues so we hope to see you at one of them! \nBoulders Cardiff\, St. Catherines Park\, Cardiff\, CF24 2RZ \nThe Summit Centre\, The Old Drift Mine Trelewis\, Treharris South Wales\, CF46 6RD
URL:https://gwentmc.club/event/indoor-climb-every-wednesday-september-march/2025-09-17/
LOCATION:Summit Centre\, Trelewis\, The Old Drift Mine Trelewis\, Treharris\, CF46 6RD
CATEGORIES:Climbing wall,Indoor,Wednesday climbing
ATTACH;FMTTYPE=image/jpeg:https://gwentmc.club/wp-content/uploads/2022/12/event-indoorclimbing-2.jpg
END:VEVENT
BEGIN:VEVENT
DTSTART;TZID=Europe/London:20250910T180000
DTEND;TZID=Europe/London:20250917T213000
DTSTAMP:20260423T051201
CREATED:20250909T200123Z
LAST-MODIFIED:20260315T154450Z
UID:10000911-1757527200-1758144600@gwentmc.club
SUMMARY:Indoor climb: Every Wednesday (September - March)
DESCRIPTION:Join us every Wednesday from 6pm for indoor climbing over the winter months from September through to the end of March 2026. There is a choice of 2 climbing venues so we hope to see you at one of them! \nBoulders Cardiff\, St. Catherines Park\, Cardiff\, CF24 2RZ \nThe Summit Centre\, The Old Drift Mine Trelewis\, Treharris South Wales\, CF46 6RD
URL:https://gwentmc.club/event/indoor-climb-every-wednesday-september-march/2025-09-10/
LOCATION:Summit Centre\, Trelewis\, The Old Drift Mine Trelewis\, Treharris\, CF46 6RD
CATEGORIES:Climbing wall,Indoor,Wednesday climbing
ATTACH;FMTTYPE=image/jpeg:https://gwentmc.club/wp-content/uploads/2022/12/event-indoorclimbing-2.jpg
END:VEVENT
BEGIN:VEVENT
DTSTART;TZID=Europe/London:20250831T100000
DTEND;TZID=Europe/London:20250831T190000
DTSTAMP:20260423T051201
CREATED:20250805T190947Z
LAST-MODIFIED:20250826T190845Z
UID:10000870-1756634400-1756666800@gwentmc.club
SUMMARY:Climb: Elan Valley (trad & sport)
DESCRIPTION:Climbing at Craig Cnwch\, Elan Valley. \nhttps://www.ukclimbing.com/logbook/crags/craig_cnwch-11044/ \nMeet at Elan Valley visitor centre at 10-10.30 on the Saturday and Sunday (to be confirmed nearer the time depending on the weather) Many climbs across the grade range both trad and sport. There are a number of campsites nearby. Please be aware of grazing sheep. Therefore\, dogs will need to be on lead at all times. \nClimbing meets are weather dependent and can change at short notice. Please contact the organiser for more information.
URL:https://gwentmc.club/event/weekend-climb-north-pembrokeshire-trad/
CATEGORIES:Rock climbing,Sport,Trad,Weekend climbing,Weekends/weeks away
END:VEVENT
BEGIN:VEVENT
DTSTART;TZID=Europe/London:20250827T150000
DTEND;TZID=Europe/London:20250827T213000
DTSTAMP:20260423T051201
CREATED:20250805T190809Z
LAST-MODIFIED:20250826T190758Z
UID:10000869-1756306800-1756330200@gwentmc.club
SUMMARY:Climb: Ban y Gor (Sport)
DESCRIPTION:Climbing at Ban y Gor\, Gloucestershire. Sport. \nTimings will be advised via climbing group comms. For more details please contact John Jones. \nUKC Logbook (ukclimbing.com): Ban y Gor \nClimbing meets are weather dependent and can change at short notice. Please contact the organiser for more information.
URL:https://gwentmc.club/event/climb-ban-y-gor-sport-3/
CATEGORIES:Rock climbing,Sport,Wednesday climbing
END:VEVENT
BEGIN:VEVENT
DTSTART;TZID=Europe/London:20250824T100000
DTEND;TZID=Europe/London:20250824T170000
DTSTAMP:20260423T051201
CREATED:20250805T190613Z
LAST-MODIFIED:20250805T190613Z
UID:10000868-1756029600-1756054800@gwentmc.club
SUMMARY:Climb: Southgate
DESCRIPTION:Meet at the National Trust carpark\, Southgate at 10am. \nFor more details please contact John Jones. \nClimbing meets are weather dependent and can change at short notice. Please contact the organiser for more information.
URL:https://gwentmc.club/event/climb-southgate/
CATEGORIES:Rock climbing,Trad,Training,Weekend climbing
ATTACH;FMTTYPE=image/jpeg:https://gwentmc.club/wp-content/uploads/2023/05/30Jul2023-climb-gower.jpg
END:VEVENT
BEGIN:VEVENT
DTSTART;TZID=Europe/London:20250820T150000
DTEND;TZID=Europe/London:20250820T210000
DTSTAMP:20260423T051201
CREATED:20250805T190423Z
LAST-MODIFIED:20250805T190423Z
UID:10000867-1755702000-1755723600@gwentmc.club
SUMMARY:Climb: Navigation Quarry (mostly sport\, some trad).
DESCRIPTION:Navigation Quarry climb (mostly sport\, some trad). \nOS Map 166/171 grid reference: ST087 939. \nPost code for car parking: CF45 4RS. \nTimings will be advised via climbing group comms for more details please contact John Jones. \nClimbing meets are weather dependent and can change at short notice. Please contact the organiser for more information.
URL:https://gwentmc.club/event/climb-navigation-quarry-mostly-sport-some-trad-2/
CATEGORIES:Rock climbing,Sport,Trad,Wednesday climbing
ATTACH;FMTTYPE=image/jpeg:https://gwentmc.club/wp-content/uploads/2024/02/Naviagtion-Quarry.jpg
END:VEVENT
BEGIN:VEVENT
DTSTART;TZID=Europe/London:20250817T093000
DTEND;TZID=Europe/London:20250817T183000
DTSTAMP:20260423T051201
CREATED:20250805T190349Z
LAST-MODIFIED:20250805T190349Z
UID:10000866-1755423000-1755455400@gwentmc.club
SUMMARY:Climb: Shorncliffe (Trad)
DESCRIPTION:Trad climbing at Shorncliffe. \nClimbing meets are weather dependent and can change at short notice. Please contact the organiser for more information.
URL:https://gwentmc.club/event/climb-shorncliffe-trad-2/
CATEGORIES:Rock climbing,Trad,Weekend climbing
END:VEVENT
BEGIN:VEVENT
DTSTART;TZID=Europe/London:20250813T093000
DTEND;TZID=Europe/London:20250813T170000
DTSTAMP:20260423T051201
CREATED:20250805T190305Z
LAST-MODIFIED:20250805T190305Z
UID:10000865-1755077400-1755104400@gwentmc.club
SUMMARY:Climb: Ferndale (Sport)
DESCRIPTION:Sunday sport climbing at Ferndale. \nGrid reference: SS 994 969. Post code for car parking: CF43 4LS. \nhttp://Ferndale – Main – https://www.ukclimbing.com/logbook/crags/ferndale-1044/ \nTimings will be advised via climbing group comms. For more details please contact John Jones. \nClimbing meets are weather dependent and can change at short notice. Please contact the organiser for more information.
URL:https://gwentmc.club/event/climb-ferndale-sport-2/
CATEGORIES:Rock climbing,Sport,Weekend climbing
ATTACH;FMTTYPE=image/jpeg:https://gwentmc.club/wp-content/uploads/2025/03/Ferndale-climb.jpg
END:VEVENT
END:VCALENDAR