BEGIN:VCALENDAR
VERSION:2.0
PRODID:-//Gwent Mountaineering Club - ECPv6.15.20//NONSGML v1.0//EN
CALSCALE:GREGORIAN
METHOD:PUBLISH
X-WR-CALNAME:Gwent Mountaineering Club
X-ORIGINAL-URL:https://gwentmc.club
X-WR-CALDESC:Events for Gwent Mountaineering Club
REFRESH-INTERVAL;VALUE=DURATION:PT1H
X-Robots-Tag:noindex
X-PUBLISHED-TTL:PT1H
BEGIN:VTIMEZONE
TZID:Europe/London
BEGIN:DAYLIGHT
TZOFFSETFROM:+0000
TZOFFSETTO:+0100
TZNAME:BST
DTSTART:20220327T010000
END:DAYLIGHT
BEGIN:STANDARD
TZOFFSETFROM:+0100
TZOFFSETTO:+0000
TZNAME:GMT
DTSTART:20221030T010000
END:STANDARD
BEGIN:DAYLIGHT
TZOFFSETFROM:+0000
TZOFFSETTO:+0100
TZNAME:BST
DTSTART:20230326T010000
END:DAYLIGHT
BEGIN:STANDARD
TZOFFSETFROM:+0100
TZOFFSETTO:+0000
TZNAME:GMT
DTSTART:20231029T010000
END:STANDARD
BEGIN:DAYLIGHT
TZOFFSETFROM:+0000
TZOFFSETTO:+0100
TZNAME:BST
DTSTART:20240331T010000
END:DAYLIGHT
BEGIN:STANDARD
TZOFFSETFROM:+0100
TZOFFSETTO:+0000
TZNAME:GMT
DTSTART:20241027T010000
END:STANDARD
END:VTIMEZONE
BEGIN:VEVENT
DTSTART;TZID=Europe/London:20230603T093000
DTEND;TZID=Europe/London:20230603T170000
DTSTAMP:20260424T053932
CREATED:20230327T185825Z
LAST-MODIFIED:20230327T201630Z
UID:10000174-1685784600-1685811600@gwentmc.club
SUMMARY:Climb: Temple Bay (Sport)
DESCRIPTION:Sport climbing at Temple Bay \nTimings and details of location will be advised via climbing group comms for more details please contact John Jones. \nTemple Bay Inlets – South Wales Climbing Wiki (SWCW) \n 
URL:https://gwentmc.club/event/climb-temple-bay-sport/
LOCATION:Temple Bay
CATEGORIES:Rock climbing,Weekend climbing
ATTACH;FMTTYPE=image/jpeg:https://gwentmc.club/wp-content/uploads/2023/03/Temple-Bay.jpg
END:VEVENT
BEGIN:VEVENT
DTSTART;VALUE=DATE:20230602
DTEND;VALUE=DATE:20230606
DTSTAMP:20260424T053932
CREATED:20230201T095143Z
LAST-MODIFIED:20230201T100338Z
UID:10000141-1685664000-1686009599@gwentmc.club
SUMMARY:BMC Gower Climbing Festival 2023 (third-party event)
DESCRIPTION:Organised by the BMC\, they’re hoping to welcome you all back and see lots of new faces too. They’re planning a weekend of climbing\, courses\, and meeting new friends. Last year was a massive success. The weekend is open to all Club members. \nWatch for further announcements (see Instagram link in Details/Website below) or find on the BMC main Website. \n#gowerclimbingfestival #bmcgcf
URL:https://gwentmc.club/event/bmc-gower-climbing-festival-2023/
LOCATION:Gower Peinsula
CATEGORIES:Rock climbing,Third-party event,Weekend climbing
ATTACH;FMTTYPE=image/jpeg:https://gwentmc.club/wp-content/uploads/2023/02/02Jun2023-bmcgcf-savedate-.jpg
END:VEVENT
BEGIN:VEVENT
DTSTART;TZID=Europe/London:20230531T150000
DTEND;TZID=Europe/London:20230531T210000
DTSTAMP:20260424T053932
CREATED:20230327T200351Z
LAST-MODIFIED:20230327T200818Z
UID:10000178-1685545200-1685566800@gwentmc.club
SUMMARY:Climb: Cwmcarn (sport)
DESCRIPTION:Sport climbing at Cwmcarn \nTimings will be advised via climbing group comms for more details please contact John Jones. \nUKC Logbook – Cwmcarn Quarry (ukclimbing.com) \nCwmcarn – South Wales Climbing Wiki (SWCW)
URL:https://gwentmc.club/event/climb-cwmcarn-sport/
LOCATION:Cwmcarn
CATEGORIES:Rock climbing,Wednesday climbing
ATTACH;FMTTYPE=image/jpeg:https://gwentmc.club/wp-content/uploads/2023/03/Cwmcarn-2.jpg
END:VEVENT
BEGIN:VEVENT
DTSTART;VALUE=DATE:20230527
DTEND;VALUE=DATE:20230530
DTSTAMP:20260424T053932
CREATED:20230327T195522Z
LAST-MODIFIED:20230327T201520Z
UID:10000176-1685145600-1685404799@gwentmc.club
SUMMARY:Climb Event: Bank Holiday Weekend - North Wales
DESCRIPTION:Climbing in North Wales \nTimings and location will be advised via climbing group comms for more details please contact John Jones.
URL:https://gwentmc.club/event/climb-event-bank-holiday-weekend-north-wales/
LOCATION:North Wales
CATEGORIES:Rock climbing,Weekend climbing,Weekends/weeks away
ATTACH;FMTTYPE=image/jpeg:https://gwentmc.club/wp-content/uploads/2023/03/North-Wales.jpg
END:VEVENT
BEGIN:VEVENT
DTSTART;TZID=Europe/London:20230524T150000
DTEND;TZID=Europe/London:20230524T210000
DTSTAMP:20260424T053932
CREATED:20230311T223527Z
LAST-MODIFIED:20230327T201426Z
UID:10000158-1684940400-1684962000@gwentmc.club
SUMMARY:Climb: Gelli (sport)
DESCRIPTION:Sport climbing at Gelli \nTimings will be advised via climbing group comms for more details please contact John Jones. \nUKC Logbook – Gelli (ukclimbing.com) \nGelli – South Wales Climbing Wiki (SWCW)
URL:https://gwentmc.club/event/climb-tirpentwys/
LOCATION:Gelli
CATEGORIES:Rock climbing,Wednesday climbing
ATTACH;FMTTYPE=image/jpeg:https://gwentmc.club/wp-content/uploads/2023/03/Gelli.jpg
END:VEVENT
BEGIN:VEVENT
DTSTART;TZID=Europe/London:20230521T093000
DTEND;TZID=Europe/London:20230521T170000
DTSTAMP:20260424T053932
CREATED:20230327T183423Z
LAST-MODIFIED:20230327T183758Z
UID:10000173-1684661400-1684688400@gwentmc.club
SUMMARY:Climb: Gower (Trad and sport)
DESCRIPTION:Trad and sport climbing at the Gower \nTimings and details of location will be advised via climbing group comms for more details please contact John Jones. \nGower – South Wales Climbing Wiki (SWCW)
URL:https://gwentmc.club/event/climb-gower-trad-and-sport/
LOCATION:Gower Peinsula
CATEGORIES:Rock climbing,Weekend climbing
ATTACH;FMTTYPE=image/jpeg:https://gwentmc.club/wp-content/uploads/2023/03/Group-at-Gower.jpg
END:VEVENT
BEGIN:VEVENT
DTSTART;TZID=Europe/London:20230517T150000
DTEND;TZID=Europe/London:20230517T210000
DTSTAMP:20260424T053932
CREATED:20230327T192127Z
LAST-MODIFIED:20230327T192218Z
UID:10000175-1684335600-1684357200@gwentmc.club
SUMMARY:Climb: Gilwern (Sport)
DESCRIPTION:Sport climbing at Gilwern \nTimings will be advised via climbing group comms for more details please contact John Jones. \nUKC Logbook – Gilwern (ukclimbing.com) \n  \n 
URL:https://gwentmc.club/event/climb-gilwern-sport/
LOCATION:Gilwern
CATEGORIES:Rock climbing,Wednesday climbing
ATTACH;FMTTYPE=image/jpeg:https://gwentmc.club/wp-content/uploads/2023/03/Gilwern.jpg
END:VEVENT
BEGIN:VEVENT
DTSTART;TZID=Europe/London:20230510T150000
DTEND;TZID=Europe/London:20230510T210000
DTSTAMP:20260424T053932
CREATED:20230327T163104Z
LAST-MODIFIED:20230327T181032Z
UID:10000171-1683730800-1683752400@gwentmc.club
SUMMARY:Climb: Taff's Well Main (Sport)
DESCRIPTION:Climbing at Taff’s Well Main \nTimings will be advised via climbing group comms for more details please contact John Jones. \nUKC Logbook – Taff’s Well (ukclimbing.com) \nTaffs Well – South Wales Climbing Wiki (SWCW) \n 
URL:https://gwentmc.club/event/climb-taffs-well-main-sport/
LOCATION:Taff’s Well Main
CATEGORIES:Rock climbing,Wednesday climbing
ATTACH;FMTTYPE=image/jpeg:https://gwentmc.club/wp-content/uploads/2023/03/Taffs-Well-Main-2.jpg
END:VEVENT
BEGIN:VEVENT
DTSTART;VALUE=DATE:20230506
DTEND;VALUE=DATE:20230509
DTSTAMP:20260424T053932
CREATED:20230315T225652Z
LAST-MODIFIED:20230315T225729Z
UID:10000168-1683331200-1683590399@gwentmc.club
SUMMARY:Climb Event: Location to be agreed
DESCRIPTION:Climbing Event to Swanage/Portland/Pembs/Culm Coast/South Devon \nTimings will be advised via climbing group comms for more details please contact John Jones.
URL:https://gwentmc.club/event/climb-event-location-to-be-agreed/
CATEGORIES:Rock climbing,Weekend climbing,Weekends/weeks away
ATTACH;FMTTYPE=image/jpeg:https://gwentmc.club/wp-content/uploads/2023/03/Climbing-Cliffs-2.jpg
END:VEVENT
BEGIN:VEVENT
DTSTART;TZID=Europe/London:20230503T150000
DTEND;TZID=Europe/London:20230503T210000
DTSTAMP:20260424T053932
CREATED:20230315T224152Z
LAST-MODIFIED:20230315T225204Z
UID:10000166-1683126000-1683147600@gwentmc.club
SUMMARY:Climb: Navigation Quarry (Sport with some trad)
DESCRIPTION:Climbing at Navigation Quarry \nTimings will be advised via climbing group comms for more details please contact John Jones. \nUKC Logbook – Navigation Quarry (ukclimbing.com) \nNavigation Quarry – Cilfynydd – South Wales Climbing Wiki (SWCW) \n 
URL:https://gwentmc.club/event/climb-navigation-quarry-sport-with-some-trad/
LOCATION:Navigation Quarry
CATEGORIES:Rock climbing,Wednesday climbing
ATTACH;FMTTYPE=image/jpeg:https://gwentmc.club/wp-content/uploads/2023/03/Navigation.jpg
END:VEVENT
BEGIN:VEVENT
DTSTART;VALUE=DATE:20230430
DTEND;VALUE=DATE:20230502
DTSTAMP:20260424T053932
CREATED:20230315T224525Z
LAST-MODIFIED:20230315T225121Z
UID:10000167-1682812800-1682985599@gwentmc.club
SUMMARY:Climb Event: Destination to be agreed
DESCRIPTION:Climbing at Portland/Pembroke/Culm Coast \nTimings/Destination will be agreed via climbing group comms for more details please contact John Jones.
URL:https://gwentmc.club/event/climb-event-destination-to-be-agreed/
CATEGORIES:Rock climbing,Weekend climbing,Weekends/weeks away
ATTACH;FMTTYPE=image/jpeg:https://gwentmc.club/wp-content/uploads/2023/03/Climbing-Cliffs.jpg
END:VEVENT
BEGIN:VEVENT
DTSTART;TZID=Europe/London:20230426T150000
DTEND;TZID=Europe/London:20230426T210000
DTSTAMP:20260424T053932
CREATED:20230311T232619Z
LAST-MODIFIED:20230311T232757Z
UID:10000162-1682521200-1682542800@gwentmc.club
SUMMARY:Climb: Mount Pleasant (sport)
DESCRIPTION:Sport climbing at Mount Pleasant \nTimings will be advised via climbing group comms for more details please contact John Jones. \nMount Pleasant – South Wales Climbing Wiki (SWCW) \nUKC Logbook – Mount Pleasant X1 (ukclimbing.com)
URL:https://gwentmc.club/event/climb-mount-pleasant-sport/
CATEGORIES:Rock climbing,Wednesday climbing
ATTACH;FMTTYPE=image/jpeg:https://gwentmc.club/wp-content/uploads/2023/03/Mount-Pleasant.jpg
END:VEVENT
BEGIN:VEVENT
DTSTART;TZID=Europe/London:20230422T093000
DTEND;TZID=Europe/London:20230422T170000
DTSTAMP:20260424T053932
CREATED:20230311T231903Z
LAST-MODIFIED:20230311T231903Z
UID:10000161-1682155800-1682182800@gwentmc.club
SUMMARY:Climb: Wintours Leap (trad and sport) - Novice/First Lead Day
DESCRIPTION:Trad and sport climbing at wintours leap – chance for novice’s to get out and have some training with our more seasoned members.  Time for debrief after at the newly reopened Rising Sun. \nTimings will be advised via climbing group comms for more details please contact John Jones. \nUKC Logbook – Wintour’s Leap (ukclimbing.com)
URL:https://gwentmc.club/event/climb-wintours-leap-trad-and-sport-novice-first-lead-day/
CATEGORIES:Rock climbing,Weekend climbing
ATTACH;FMTTYPE=image/jpeg:https://gwentmc.club/wp-content/uploads/2023/03/Wintours-Leap.jpg
END:VEVENT
BEGIN:VEVENT
DTSTART;TZID=Europe/London:20230419T150000
DTEND;TZID=Europe/London:20230419T210000
DTSTAMP:20260424T053932
CREATED:20230311T231112Z
LAST-MODIFIED:20230311T231218Z
UID:10000160-1681916400-1681938000@gwentmc.club
SUMMARY:Climb: The Gap (sport)
DESCRIPTION:Sport climbing at The Gap – lower quarry \nTimings will be advised via climbing group comms for more details please contact John Jones. \nUKC Logbook – The Gap (ukclimbing.com) \nThe Gap – South Wales Climbing Wiki (SWCW)
URL:https://gwentmc.club/event/climb-the-gap-sport/
LOCATION:The Gap
CATEGORIES:Rock climbing,Wednesday climbing
ATTACH;FMTTYPE=image/jpeg:https://gwentmc.club/wp-content/uploads/2023/03/The-Gap.jpg
END:VEVENT
BEGIN:VEVENT
DTSTART;TZID=Europe/London:20230416T093000
DTEND;TZID=Europe/London:20230416T170000
DTSTAMP:20260424T053932
CREATED:20230311T225444Z
LAST-MODIFIED:20230315T204421Z
UID:10000159-1681637400-1681664400@gwentmc.club
SUMMARY:Climb: Avon (sport and trad)
DESCRIPTION:Sport and trad climbing at Avon \nTimings will be advised via climbing group comms for more details please contact John Jones. \nUKC Logbook – Avon Gorge (Main Area) (ukclimbing.com) \nUKC Logbook – Avon Gorge (Sea Walls Area) (ukclimbing.com) \nUKC Logbook – Avon Gorge (Suspension Bridge Area) (ukclimbing.com)
URL:https://gwentmc.club/event/climb-avon-sport-and-trad/
LOCATION:Avon
CATEGORIES:Rock climbing,Weekend climbing
ATTACH;FMTTYPE=image/jpeg:https://gwentmc.club/wp-content/uploads/2023/03/Avon-Gorge.jpg
END:VEVENT
BEGIN:VEVENT
DTSTART;TZID=Europe/London:20230412T150000
DTEND;TZID=Europe/London:20230412T210000
DTSTAMP:20260424T053932
CREATED:20230327T195836Z
LAST-MODIFIED:20230327T195836Z
UID:10000177-1681311600-1681333200@gwentmc.club
SUMMARY:Climb: Tirpentwys (sport)
DESCRIPTION:Sport climbing at Tirpentwys \nTimings will be advised via climbing group comms for more details please contact John Jones. \nUKC Logbook – Tirpentwys (ukclimbing.com) \nTirpentwys – South Wales Climbing Wiki (SWCW)
URL:https://gwentmc.club/event/climb-tirpentwys-sport/
LOCATION:Tirpentwys
CATEGORIES:Rock climbing,Wednesday climbing
ATTACH;FMTTYPE=image/jpeg:https://gwentmc.club/wp-content/uploads/2023/03/Tirpentwys.jpg
END:VEVENT
BEGIN:VEVENT
DTSTART;VALUE=DATE:20230407
DTEND;VALUE=DATE:20230411
DTSTAMP:20260424T053932
CREATED:20230311T233902Z
LAST-MODIFIED:20230327T194659Z
UID:10000163-1680825600-1681171199@gwentmc.club
SUMMARY:Climb Event: Easter Weekend - Pembroke
DESCRIPTION:Climbing at Pembroke \nTimings and location will be advised via climbing group comms for more details please contact John Jones.
URL:https://gwentmc.club/event/climb-event-easter-weekend/
CATEGORIES:Rock climbing,Weekend climbing,Weekends/weeks away
ATTACH;FMTTYPE=image/jpeg:https://gwentmc.club/wp-content/uploads/2023/03/IMG-20221126-WA0006.jpg
END:VEVENT
BEGIN:VEVENT
DTSTART;VALUE=DATE:20230330
DTEND;VALUE=DATE:20230403
DTSTAMP:20260424T053932
CREATED:20221121T154817Z
LAST-MODIFIED:20230206T151931Z
UID:10000020-1680134400-1680479999@gwentmc.club
SUMMARY:Lake District weekend
DESCRIPTION:A long weekend in the Lake District for walking/hiking and climbing. Staying at Stair Cottage\, Newlands Valley\, Cumbria.
URL:https://gwentmc.club/event/lake-district-weekend/
LOCATION:Stair Cottage\, Newlands Valley
CATEGORIES:Hiking/walking,Rock climbing,Weekends/weeks away
ATTACH;FMTTYPE=image/jpeg:https://gwentmc.club/wp-content/uploads/2022/11/30Mar2023event-geograph-2902227-by-Michael-Graham.jpg
END:VEVENT
BEGIN:VEVENT
DTSTART;TZID=Europe/London:20230329T180000
DTEND;TZID=Europe/London:20230329T210000
DTSTAMP:20260424T053932
CREATED:20221220T160117Z
LAST-MODIFIED:20221221T095946Z
UID:10000125-1680112800-1680123600@gwentmc.club
SUMMARY:Indoor climbing (every 2nd\, 3rd\, 4th Wednesday\, October - March)
DESCRIPTION:Indoor climbing takes place every 2nd\, 3rd\, 4th Wednesday of the month through the winter from October – March at Boulders\, Cardiff St. Catherines Park\, Pengam Road\, Cardiff.
URL:https://gwentmc.club/event/indoor-climbing-every-2nd-3rd-4th-wednesday-october-march/2023-03-29/
LOCATION:Boulders\, Cardiff\, St. Catherines Park\, Pengam Road\, Cardiff\, CF24 2RZ
CATEGORIES:Climbing wall,Indoor,Wednesday climbing
ATTACH;FMTTYPE=image/jpeg:https://gwentmc.club/wp-content/uploads/2022/12/event-indoorclimbing-1.jpg
END:VEVENT
BEGIN:VEVENT
DTSTART;TZID=Europe/London:20230322T180000
DTEND;TZID=Europe/London:20230322T210000
DTSTAMP:20260424T053932
CREATED:20221220T160117Z
LAST-MODIFIED:20221221T095946Z
UID:10000124-1679508000-1679518800@gwentmc.club
SUMMARY:Indoor climbing (every 2nd\, 3rd\, 4th Wednesday\, October - March)
DESCRIPTION:Indoor climbing takes place every 2nd\, 3rd\, 4th Wednesday of the month through the winter from October – March at Boulders\, Cardiff St. Catherines Park\, Pengam Road\, Cardiff.
URL:https://gwentmc.club/event/indoor-climbing-every-2nd-3rd-4th-wednesday-october-march/2023-03-22/
LOCATION:Boulders\, Cardiff\, St. Catherines Park\, Pengam Road\, Cardiff\, CF24 2RZ
CATEGORIES:Climbing wall,Indoor,Wednesday climbing
ATTACH;FMTTYPE=image/jpeg:https://gwentmc.club/wp-content/uploads/2022/12/event-indoorclimbing-1.jpg
END:VEVENT
BEGIN:VEVENT
DTSTART;TZID=Europe/London:20230315T180000
DTEND;TZID=Europe/London:20230315T210000
DTSTAMP:20260424T053932
CREATED:20221220T160117Z
LAST-MODIFIED:20221221T095946Z
UID:10000123-1678903200-1678914000@gwentmc.club
SUMMARY:Indoor climbing (every 2nd\, 3rd\, 4th Wednesday\, October - March)
DESCRIPTION:Indoor climbing takes place every 2nd\, 3rd\, 4th Wednesday of the month through the winter from October – March at Boulders\, Cardiff St. Catherines Park\, Pengam Road\, Cardiff.
URL:https://gwentmc.club/event/indoor-climbing-every-2nd-3rd-4th-wednesday-october-march/2023-03-15/
LOCATION:Boulders\, Cardiff\, St. Catherines Park\, Pengam Road\, Cardiff\, CF24 2RZ
CATEGORIES:Climbing wall,Indoor,Wednesday climbing
ATTACH;FMTTYPE=image/jpeg:https://gwentmc.club/wp-content/uploads/2022/12/event-indoorclimbing-1.jpg
END:VEVENT
BEGIN:VEVENT
DTSTART;TZID=Europe/London:20230308T180000
DTEND;TZID=Europe/London:20230308T210000
DTSTAMP:20260424T053932
CREATED:20221220T160117Z
LAST-MODIFIED:20221221T095946Z
UID:10000122-1678298400-1678309200@gwentmc.club
SUMMARY:Indoor climbing (every 2nd\, 3rd\, 4th Wednesday\, October - March)
DESCRIPTION:Indoor climbing takes place every 2nd\, 3rd\, 4th Wednesday of the month through the winter from October – March at Boulders\, Cardiff St. Catherines Park\, Pengam Road\, Cardiff.
URL:https://gwentmc.club/event/indoor-climbing-every-2nd-3rd-4th-wednesday-october-march/2023-03-08/
LOCATION:Boulders\, Cardiff\, St. Catherines Park\, Pengam Road\, Cardiff\, CF24 2RZ
CATEGORIES:Climbing wall,Indoor,Wednesday climbing
ATTACH;FMTTYPE=image/jpeg:https://gwentmc.club/wp-content/uploads/2022/12/event-indoorclimbing-1.jpg
END:VEVENT
BEGIN:VEVENT
DTSTART;TZID=Europe/London:20230301T180000
DTEND;TZID=Europe/London:20230301T210000
DTSTAMP:20260424T053932
CREATED:20221220T161114Z
LAST-MODIFIED:20221221T100020Z
UID:10000138-1677693600-1677704400@gwentmc.club
SUMMARY:Indoor climbing (every 1st Wednesday\, October - March)
DESCRIPTION:Indoor climbing takes place every 1st Wednesday of the month through the winter from October – March at Rock UK Summit Centre\, Trelewis
URL:https://gwentmc.club/event/indoor-climbing-every-1st-wednesday-october-march/2023-03-01/
LOCATION:Summit Centre\, Trelewis\, The Old Drift Mine Trelewis\, Treharris\, CF46 6RD
CATEGORIES:Climbing wall,Indoor,Wednesday climbing
ATTACH;FMTTYPE=image/jpeg:https://gwentmc.club/wp-content/uploads/2022/12/event-indoorclimbing-2.jpg
END:VEVENT
BEGIN:VEVENT
DTSTART;TZID=Europe/London:20230222T180000
DTEND;TZID=Europe/London:20230222T210000
DTSTAMP:20260424T053932
CREATED:20221220T160117Z
LAST-MODIFIED:20221221T095946Z
UID:10000121-1677088800-1677099600@gwentmc.club
SUMMARY:Indoor climbing (every 2nd\, 3rd\, 4th Wednesday\, October - March)
DESCRIPTION:Indoor climbing takes place every 2nd\, 3rd\, 4th Wednesday of the month through the winter from October – March at Boulders\, Cardiff St. Catherines Park\, Pengam Road\, Cardiff.
URL:https://gwentmc.club/event/indoor-climbing-every-2nd-3rd-4th-wednesday-october-march/2023-02-22/
LOCATION:Boulders\, Cardiff\, St. Catherines Park\, Pengam Road\, Cardiff\, CF24 2RZ
CATEGORIES:Climbing wall,Indoor,Wednesday climbing
ATTACH;FMTTYPE=image/jpeg:https://gwentmc.club/wp-content/uploads/2022/12/event-indoorclimbing-1.jpg
END:VEVENT
BEGIN:VEVENT
DTSTART;TZID=Europe/London:20230215T180000
DTEND;TZID=Europe/London:20230215T210000
DTSTAMP:20260424T053932
CREATED:20221220T160117Z
LAST-MODIFIED:20221221T095946Z
UID:10000120-1676484000-1676494800@gwentmc.club
SUMMARY:Indoor climbing (every 2nd\, 3rd\, 4th Wednesday\, October - March)
DESCRIPTION:Indoor climbing takes place every 2nd\, 3rd\, 4th Wednesday of the month through the winter from October – March at Boulders\, Cardiff St. Catherines Park\, Pengam Road\, Cardiff.
URL:https://gwentmc.club/event/indoor-climbing-every-2nd-3rd-4th-wednesday-october-march/2023-02-15/
LOCATION:Boulders\, Cardiff\, St. Catherines Park\, Pengam Road\, Cardiff\, CF24 2RZ
CATEGORIES:Climbing wall,Indoor,Wednesday climbing
ATTACH;FMTTYPE=image/jpeg:https://gwentmc.club/wp-content/uploads/2022/12/event-indoorclimbing-1.jpg
END:VEVENT
BEGIN:VEVENT
DTSTART;TZID=Europe/London:20230208T180000
DTEND;TZID=Europe/London:20230208T210000
DTSTAMP:20260424T053932
CREATED:20221220T160117Z
LAST-MODIFIED:20221221T095946Z
UID:10000119-1675879200-1675890000@gwentmc.club
SUMMARY:Indoor climbing (every 2nd\, 3rd\, 4th Wednesday\, October - March)
DESCRIPTION:Indoor climbing takes place every 2nd\, 3rd\, 4th Wednesday of the month through the winter from October – March at Boulders\, Cardiff St. Catherines Park\, Pengam Road\, Cardiff.
URL:https://gwentmc.club/event/indoor-climbing-every-2nd-3rd-4th-wednesday-october-march/2023-02-08/
LOCATION:Boulders\, Cardiff\, St. Catherines Park\, Pengam Road\, Cardiff\, CF24 2RZ
CATEGORIES:Climbing wall,Indoor,Wednesday climbing
ATTACH;FMTTYPE=image/jpeg:https://gwentmc.club/wp-content/uploads/2022/12/event-indoorclimbing-1.jpg
END:VEVENT
BEGIN:VEVENT
DTSTART;TZID=Europe/London:20230201T180000
DTEND;TZID=Europe/London:20230201T210000
DTSTAMP:20260424T053932
CREATED:20221220T161114Z
LAST-MODIFIED:20221221T100020Z
UID:10000137-1675274400-1675285200@gwentmc.club
SUMMARY:Indoor climbing (every 1st Wednesday\, October - March)
DESCRIPTION:Indoor climbing takes place every 1st Wednesday of the month through the winter from October – March at Rock UK Summit Centre\, Trelewis
URL:https://gwentmc.club/event/indoor-climbing-every-1st-wednesday-october-march/2023-02-01/
LOCATION:Summit Centre\, Trelewis\, The Old Drift Mine Trelewis\, Treharris\, CF46 6RD
CATEGORIES:Climbing wall,Indoor,Wednesday climbing
ATTACH;FMTTYPE=image/jpeg:https://gwentmc.club/wp-content/uploads/2022/12/event-indoorclimbing-2.jpg
END:VEVENT
BEGIN:VEVENT
DTSTART;TZID=Europe/London:20230125T180000
DTEND;TZID=Europe/London:20230125T210000
DTSTAMP:20260424T053932
CREATED:20221220T160117Z
LAST-MODIFIED:20221221T095946Z
UID:10000118-1674669600-1674680400@gwentmc.club
SUMMARY:Indoor climbing (every 2nd\, 3rd\, 4th Wednesday\, October - March)
DESCRIPTION:Indoor climbing takes place every 2nd\, 3rd\, 4th Wednesday of the month through the winter from October – March at Boulders\, Cardiff St. Catherines Park\, Pengam Road\, Cardiff.
URL:https://gwentmc.club/event/indoor-climbing-every-2nd-3rd-4th-wednesday-october-march/2023-01-25/
LOCATION:Boulders\, Cardiff\, St. Catherines Park\, Pengam Road\, Cardiff\, CF24 2RZ
CATEGORIES:Climbing wall,Indoor,Wednesday climbing
ATTACH;FMTTYPE=image/jpeg:https://gwentmc.club/wp-content/uploads/2022/12/event-indoorclimbing-1.jpg
END:VEVENT
BEGIN:VEVENT
DTSTART;TZID=Europe/London:20230118T180000
DTEND;TZID=Europe/London:20230118T210000
DTSTAMP:20260424T053932
CREATED:20221220T160117Z
LAST-MODIFIED:20221221T095946Z
UID:10000117-1674064800-1674075600@gwentmc.club
SUMMARY:Indoor climbing (every 2nd\, 3rd\, 4th Wednesday\, October - March)
DESCRIPTION:Indoor climbing takes place every 2nd\, 3rd\, 4th Wednesday of the month through the winter from October – March at Boulders\, Cardiff St. Catherines Park\, Pengam Road\, Cardiff.
URL:https://gwentmc.club/event/indoor-climbing-every-2nd-3rd-4th-wednesday-october-march/2023-01-18/
LOCATION:Boulders\, Cardiff\, St. Catherines Park\, Pengam Road\, Cardiff\, CF24 2RZ
CATEGORIES:Climbing wall,Indoor,Wednesday climbing
ATTACH;FMTTYPE=image/jpeg:https://gwentmc.club/wp-content/uploads/2022/12/event-indoorclimbing-1.jpg
END:VEVENT
BEGIN:VEVENT
DTSTART;TZID=Europe/London:20230111T180000
DTEND;TZID=Europe/London:20230111T210000
DTSTAMP:20260424T053932
CREATED:20221220T160117Z
LAST-MODIFIED:20221221T095946Z
UID:10000116-1673460000-1673470800@gwentmc.club
SUMMARY:Indoor climbing (every 2nd\, 3rd\, 4th Wednesday\, October - March)
DESCRIPTION:Indoor climbing takes place every 2nd\, 3rd\, 4th Wednesday of the month through the winter from October – March at Boulders\, Cardiff St. Catherines Park\, Pengam Road\, Cardiff.
URL:https://gwentmc.club/event/indoor-climbing-every-2nd-3rd-4th-wednesday-october-march/2023-01-11/
LOCATION:Boulders\, Cardiff\, St. Catherines Park\, Pengam Road\, Cardiff\, CF24 2RZ
CATEGORIES:Climbing wall,Indoor,Wednesday climbing
ATTACH;FMTTYPE=image/jpeg:https://gwentmc.club/wp-content/uploads/2022/12/event-indoorclimbing-1.jpg
END:VEVENT
END:VCALENDAR