BEGIN:VCALENDAR
VERSION:2.0
PRODID:-//Gwent Mountaineering Club - ECPv6.15.20//NONSGML v1.0//EN
CALSCALE:GREGORIAN
METHOD:PUBLISH
X-WR-CALNAME:Gwent Mountaineering Club
X-ORIGINAL-URL:https://gwentmc.club
X-WR-CALDESC:Events for Gwent Mountaineering Club
REFRESH-INTERVAL;VALUE=DURATION:PT1H
X-Robots-Tag:noindex
X-PUBLISHED-TTL:PT1H
BEGIN:VTIMEZONE
TZID:Europe/London
BEGIN:DAYLIGHT
TZOFFSETFROM:+0000
TZOFFSETTO:+0100
TZNAME:BST
DTSTART:20220327T010000
END:DAYLIGHT
BEGIN:STANDARD
TZOFFSETFROM:+0100
TZOFFSETTO:+0000
TZNAME:GMT
DTSTART:20221030T010000
END:STANDARD
BEGIN:DAYLIGHT
TZOFFSETFROM:+0000
TZOFFSETTO:+0100
TZNAME:BST
DTSTART:20230326T010000
END:DAYLIGHT
BEGIN:STANDARD
TZOFFSETFROM:+0100
TZOFFSETTO:+0000
TZNAME:GMT
DTSTART:20231029T010000
END:STANDARD
BEGIN:DAYLIGHT
TZOFFSETFROM:+0000
TZOFFSETTO:+0100
TZNAME:BST
DTSTART:20240331T010000
END:DAYLIGHT
BEGIN:STANDARD
TZOFFSETFROM:+0100
TZOFFSETTO:+0000
TZNAME:GMT
DTSTART:20241027T010000
END:STANDARD
END:VTIMEZONE
BEGIN:VEVENT
DTSTART;VALUE=DATE:20231130
DTEND;VALUE=DATE:20231204
DTSTAMP:20260424T002114
CREATED:20230722T144340Z
LAST-MODIFIED:20230722T144606Z
UID:10000252-1701302400-1701647999@gwentmc.club
SUMMARY:Christmas meet-up\, Yorkshire Dales
DESCRIPTION:A convivial weekend of walking and pre-Christmas cheer including Christmas Dinner with all the trimmings on Saturday evening\, based in Chapel-le-Dale\, near Ingleton\, North Yorkshire. Handy for the limestone scenery of Ingleborough and the magnificent Ribblehead Viaduct. \nWe will stay for three nights in the Old School Bunkhouse\, Chapel-le-Dale.
URL:https://gwentmc.club/event/christmas-meet-up-yorkshire-dales/
CATEGORIES:Hiking/walking,Rock climbing,Weekends/weeks away
ATTACH;FMTTYPE=image/jpeg:https://gwentmc.club/wp-content/uploads/2023/07/Z6DSC0118822crop.jpg
END:VEVENT
BEGIN:VEVENT
DTSTART;VALUE=DATE:20231104
DTEND;VALUE=DATE:20231112
DTSTAMP:20260424T002114
CREATED:20230808T152053Z
LAST-MODIFIED:20230808T152101Z
UID:10000254-1699056000-1699747199@gwentmc.club
SUMMARY:El Chorro\, Spain: Rock climbing
DESCRIPTION:Dates are approximate. Contact John Jones for further information. Use the form below. \nFrom UKClimbing.com\, El Chorro\, Spain: \n“… lies just 50km from the shores of the Mediterranean and the Andalucian city of Málaga and is one of the world’s best known climbing destinations. … … The single and multi-pitch routes on offer and the grade range will satisfy all who are planning a visit. The routes range from world-class hard routes\, through a vast selection of superb mid-grade pitches\, to an ever-increasing number of sectors and whole crags that give climbers operating in the easier grades plenty of choices.” \n\n← Back Thank you for your response. ✨\n\n\n					\n						\n							\n							\n						\n						\n						\n						\n						\n							\n								\n									\n										\n										\n									\n									\n										\n										\n									\n								\n							\n						\n						\n							\n								\n									\n									\n										\n									\n									\n									\n								\n							\n						\n					\n				\n\n\n\nName(required)\n\n \n			\n				\n					\n						\n						\n						\n					\n				\n				\n			 \n	\n\n\nEmail(required)\n\n \n			\n				\n					\n						\n						\n						\n					\n				\n				\n			 \n	\n\n\nMessage\n\n \n			\n				\n					\n						\n						\n						\n					\n				\n				\n			\n	\n	\n\n				\n					\n				\n						Submit		\n		\n		\n	 \nΔ \n\n 
URL:https://gwentmc.club/event/el-chorro-spain-rock-climbing/
CATEGORIES:Rock climbing,Sport,Trad,Weekends/weeks away
ATTACH;FMTTYPE=image/jpeg:https://gwentmc.club/wp-content/uploads/2023/08/climb-nov2023-el-chorro.jpg
END:VEVENT
BEGIN:VEVENT
DTSTART;VALUE=DATE:20231013
DTEND;VALUE=DATE:20231016
DTSTAMP:20260424T002114
CREATED:20230223T113822Z
LAST-MODIFIED:20230530T100523Z
UID:10000149-1697155200-1697414399@gwentmc.club
SUMMARY:Mountain walking\, scrambling and climbing in North Wales
DESCRIPTION:A weekend of mountain walking\, scrambling and climbing in North Wales\, based in Betws y Coed. Contact Gareth Jones for further details.
URL:https://gwentmc.club/event/mountain-walking-scrambling-and-climbing-in-north-wales/
CATEGORIES:Hiking/walking,Rock climbing,Weekend climbing,Weekends/weeks away
ATTACH;FMTTYPE=image/jpeg:https://gwentmc.club/wp-content/uploads/2023/02/13Oct2023-Weekend-geograph-2871652-by-Chris-McAuley.jpg
END:VEVENT
BEGIN:VEVENT
DTSTART;TZID=Europe/London:20230930T093000
DTEND;TZID=Europe/London:20230930T170000
DTSTAMP:20260424T002114
CREATED:20230530T112716Z
LAST-MODIFIED:20230530T112716Z
UID:10000221-1696066200-1696093200@gwentmc.club
SUMMARY:Climb: Blaenllechau (Sport)
DESCRIPTION:Saturday climbing at Blaenllechau. Sport. \nTimings will be advised via climbing group comms. For more details please contact John Jones. \nUKC Logbook (ukclimbing.com): Blaenllechau \nSouth Wales Climbing Wiki (SWCW): Blaenllechau
URL:https://gwentmc.club/event/climb-blaenllechau-sport/
CATEGORIES:Rock climbing,Sport,Weekend climbing
END:VEVENT
BEGIN:VEVENT
DTSTART;TZID=Europe/London:20230927T150000
DTEND;TZID=Europe/London:20230927T210000
DTSTAMP:20260424T002114
CREATED:20230530T133541Z
LAST-MODIFIED:20230530T134502Z
UID:10000237-1695826800-1695848400@gwentmc.club
SUMMARY:Climb: To be announced
DESCRIPTION:Wednesday evening climbing – venue to be announced.
URL:https://gwentmc.club/event/climb-to-be-announced-2/
CATEGORIES:Rock climbing,Wednesday climbing
END:VEVENT
BEGIN:VEVENT
DTSTART;TZID=Europe/London:20230924T093000
DTEND;TZID=Europe/London:20230924T170000
DTSTAMP:20260424T002114
CREATED:20230530T112439Z
LAST-MODIFIED:20230530T112439Z
UID:10000220-1695547800-1695574800@gwentmc.club
SUMMARY:Climb: Blaise Castle Gorge\, Avon (Trad\, Sport)
DESCRIPTION:Sunday climbing at Blaise Castle Gorge\, Avon. Trad and Sport. \nTimings will be advised via climbing group comms. For more details please contact John Jones. \nUKC Logbook (ukclimbing.com): Blaise Castle Gorge (Avon)
URL:https://gwentmc.club/event/climb-blaise-castle-gorge-avon-trad-sport/
CATEGORIES:Rock climbing,Sport,Trad,Weekend climbing
END:VEVENT
BEGIN:VEVENT
DTSTART;TZID=Europe/London:20230920T150000
DTEND;TZID=Europe/London:20230920T210000
DTSTAMP:20260424T002114
CREATED:20230530T133516Z
LAST-MODIFIED:20230530T134458Z
UID:10000236-1695222000-1695243600@gwentmc.club
SUMMARY:Climb: To be announced
DESCRIPTION:Wednesday evening climbing – venue to be announced.
URL:https://gwentmc.club/event/climb-to-be-announced/
CATEGORIES:Rock climbing,Wednesday climbing
END:VEVENT
BEGIN:VEVENT
DTSTART;TZID=Europe/London:20230917T093000
DTEND;TZID=Europe/London:20230917T170000
DTSTAMP:20260424T002114
CREATED:20230530T112014Z
LAST-MODIFIED:20230530T112014Z
UID:10000218-1694943000-1694970000@gwentmc.club
SUMMARY:Climb: Llangattock Escarpment\, Eastern Edge (Trad)
DESCRIPTION:Sunday climbing at Llangattock. Trad. \nTimings will be advised via climbing group comms. For more details please contact John Jones. \nUKC Logbook (ukclimbing.com): Llangattock\, Eastern \nSouth Wales Climbing Wiki (SWCW): Llangattock
URL:https://gwentmc.club/event/climb-llangattock-escarpment-eastern-edge-trad/
CATEGORIES:Rock climbing,Trad,Weekend climbing
END:VEVENT
BEGIN:VEVENT
DTSTART;VALUE=DATE:20230915
DTEND;VALUE=DATE:20230922
DTSTAMP:20260424T002114
CREATED:20230223T113609Z
LAST-MODIFIED:20240326T185536Z
UID:10000148-1694736000-1695340799@gwentmc.club
SUMMARY:Coastal rock climbing\, Cornwall
DESCRIPTION:A few days of Cornish sea-cliff climbing at Bosigran\, staying at the Count House (Climber’s Club hut)\, Bosigran\, Cornwall. Contact John Jones for further details. \nUKC Logbook (ukclimbing.com): Bosigran
URL:https://gwentmc.club/event/coastal-rock-climbing-cornwall/
CATEGORIES:Rock climbing,Trad,Weekend climbing,Weekends/weeks away
ATTACH;FMTTYPE=image/jpeg:https://gwentmc.club/wp-content/uploads/2023/02/15Sep2023-climb-bosigran.jpg
END:VEVENT
BEGIN:VEVENT
DTSTART;TZID=Europe/London:20230913T150000
DTEND;TZID=Europe/London:20230913T210000
DTSTAMP:20260424T002114
CREATED:20230530T133850Z
LAST-MODIFIED:20230530T134507Z
UID:10000238-1694617200-1694638800@gwentmc.club
SUMMARY:Climb: To be announced
DESCRIPTION:Wednesday evening climbing – venue to be announced.
URL:https://gwentmc.club/event/climb-to-be-announced-3/
CATEGORIES:Rock climbing,Wednesday climbing
END:VEVENT
BEGIN:VEVENT
DTSTART;TZID=Europe/London:20230909T093000
DTEND;TZID=Europe/London:20230909T170000
DTSTAMP:20260424T002114
CREATED:20230530T112153Z
LAST-MODIFIED:20230530T112153Z
UID:10000219-1694251800-1694278800@gwentmc.club
SUMMARY:Climb: Wintour's Leap (Trad and Sport)
DESCRIPTION:Saturday climbing at Wintour’s Leap. \nTimings will be advised via climbing group comms. For more details please contact John Jones. \nUKC Logbook (ukclimbing.com): Wintour’s Leap
URL:https://gwentmc.club/event/climb-wintours-leap-trad-and-sport-2/
CATEGORIES:Rock climbing,Sport,Trad,Weekend climbing
ATTACH;FMTTYPE=image/jpeg:https://gwentmc.club/wp-content/uploads/2023/05/climb-wintours-leap.jpg
END:VEVENT
BEGIN:VEVENT
DTSTART;TZID=Europe/London:20230906T150000
DTEND;TZID=Europe/London:20230906T210000
DTSTAMP:20260424T002114
CREATED:20230530T134056Z
LAST-MODIFIED:20230530T134056Z
UID:10000239-1694012400-1694034000@gwentmc.club
SUMMARY:Climb: Cwmaman (Sport)
DESCRIPTION:Wednesday evening climbing at Cwmaman. Sport. \nTimings will be advised via climbing group comms. For more details please contact John Jones. \nUKC Logbook (ukclimbing.com): Cwmaman \nSouth Wales Climbing Wiki (SWCW): Cwmaman
URL:https://gwentmc.club/event/climb-cwmaman-sport/
CATEGORIES:Rock climbing,Sport,Wednesday climbing
END:VEVENT
BEGIN:VEVENT
DTSTART;TZID=Europe/London:20230902T093000
DTEND;TZID=Europe/London:20230902T170000
DTSTAMP:20260424T002114
CREATED:20230530T110505Z
LAST-MODIFIED:20230530T110505Z
UID:10000217-1693647000-1693674000@gwentmc.club
SUMMARY:Climb: YatFest 2023 (To be confirmed\, more info to follow)
DESCRIPTION:Saturday climbing at Symonds Yat. Trad – climb and clean\, more information to follow. \nTimings will be advised via climbing group comms. For more details please contact John Jones. \nUKC Logbook (ukclimbing.com): Symonds Yat
URL:https://gwentmc.club/event/climb-yatfest-2023-to-be-confirmed-more-info-to-follow/
CATEGORIES:Rock climbing,Trad,Weekend climbing
ATTACH;FMTTYPE=image/png:https://gwentmc.club/wp-content/uploads/2023/05/02Sep2023-climb-yatfest.png
END:VEVENT
BEGIN:VEVENT
DTSTART;TZID=Europe/London:20230830T150000
DTEND;TZID=Europe/London:20230830T210000
DTSTAMP:20260424T002114
CREATED:20230530T132924Z
LAST-MODIFIED:20230530T134614Z
UID:10000234-1693407600-1693429200@gwentmc.club
SUMMARY:Climb: Navigation Quarry (Sport with some trad)
DESCRIPTION:Climbing at Navigation Quarry. \nTimings will be advised via climbing group comms for more details please contact John Jones. \nUKC Logbook (ukclimbing.com): Navigation Quarry \nSouth Wales Climbing Wiki (SWCW): Navigation Quarry
URL:https://gwentmc.club/event/climb-navigation-quarry-sport-with-some-trad-3/
CATEGORIES:Rock climbing,Wednesday climbing
ATTACH;FMTTYPE=image/jpeg:https://gwentmc.club/wp-content/uploads/2023/03/Navigation.jpg
END:VEVENT
BEGIN:VEVENT
DTSTART;VALUE=DATE:20230826
DTEND;VALUE=DATE:20230829
DTSTAMP:20260424T002114
CREATED:20230530T130422Z
LAST-MODIFIED:20230808T152624Z
UID:10000226-1693008000-1693267199@gwentmc.club
SUMMARY:Climb: Elan Valley (Training\, Sport and Trad)
DESCRIPTION:Weekend climbing in the Elan Valley. Emphasis on training. Sport and Trad \nTimings will be advised via climbing group comms. For more details please contact John Jones. \nUKC Logbook (ukclimbing.com): \n\nCaban Coch\, Craig Gigfran\nCraig Cnwch\nCreigiau Dolfolau
URL:https://gwentmc.club/event/climb-elan-valley-sport-and-trad/
CATEGORIES:Rock climbing,Sport,Trad,Weekend climbing,Weekends/weeks away
END:VEVENT
BEGIN:VEVENT
DTSTART;TZID=Europe/London:20230823T150000
DTEND;TZID=Europe/London:20230823T210000
DTSTAMP:20260424T002114
CREATED:20230530T132809Z
LAST-MODIFIED:20230622T070610Z
UID:10000233-1692802800-1692824400@gwentmc.club
SUMMARY:Climb: Taff's Well (Sport)
DESCRIPTION:Wednesday evening climbing at Taff’s Well. Sport. \nTimings will be advised via climbing group comms. For more details please contact John Jones. \nUKC Logbook (ukclimbing.com): Taff’s Well \nSouth Wales Climbing Wiki (SWCW): Taff’s Well
URL:https://gwentmc.club/event/climb-taffs-well-sport/
CATEGORIES:Rock climbing,Sport,Wednesday climbing
ATTACH;FMTTYPE=image/jpeg:https://gwentmc.club/wp-content/uploads/2023/05/climb-taffswellmain-21jun2023.jpg
END:VEVENT
BEGIN:VEVENT
DTSTART;TZID=Europe/London:20230816T150000
DTEND;TZID=Europe/London:20230816T210000
DTSTAMP:20260424T002114
CREATED:20230530T133318Z
LAST-MODIFIED:20230620T074302Z
UID:10000235-1692198000-1692219600@gwentmc.club
SUMMARY:Climb: Ogmore (Trad)
DESCRIPTION:Wednesday evening sea cliff climbing at Ogmore. \nTimings will be advised via climbing group comms for more details please contact John Jones. \nUKC Logbook (ukclimbing.com): Ogmore Main \nSouth Wales Climbing Wiki (SWCW): Ogmore
URL:https://gwentmc.club/event/climb-ogmore-trad/
CATEGORIES:Rock climbing,Trad,Wednesday climbing
ATTACH;FMTTYPE=image/jpeg:https://gwentmc.club/wp-content/uploads/2023/05/16aug2023-ogmore-trad-climb.jpg
END:VEVENT
BEGIN:VEVENT
DTSTART;TZID=Europe/London:20230812T093000
DTEND;TZID=Europe/London:20230812T170000
DTSTAMP:20260424T002114
CREATED:20230530T123624Z
LAST-MODIFIED:20230530T123624Z
UID:10000224-1691832600-1691859600@gwentmc.club
SUMMARY:Climb: Fairy Cave Quarry (Trad)
DESCRIPTION:Saturday climbing at Fairy Cave Quarry\, Somerset. Trad. Some fixed gear. Slab heaven! \nTimings will be advised via climbing group comms. For more details please contact John Jones. \nUKC Logbook (ukclimbing.com): Fairy Cave Quarry
URL:https://gwentmc.club/event/climb-fairy-cave-quarry-trad/
CATEGORIES:Rock climbing,Trad,Weekend climbing
END:VEVENT
BEGIN:VEVENT
DTSTART;TZID=Europe/London:20230809T150000
DTEND;TZID=Europe/London:20230809T210000
DTSTAMP:20260424T002114
CREATED:20230530T132338Z
LAST-MODIFIED:20230530T132338Z
UID:10000231-1691593200-1691614800@gwentmc.club
SUMMARY:Climb: Castle Upon Alun (Sport)
DESCRIPTION:Wednesday evening climbing at Castle Upon Alun Quarry. Sport. \nTimings will be advised via climbing group comms. For more details please contact John Jones. \nUKC Logbook (ukclimbing.com): Castle Upon Alun Quarry \nSouth Wales Climbing Wiki (SWCW): Castle Upon Alun
URL:https://gwentmc.club/event/climb-castle-upon-alun-sport/
CATEGORIES:Rock climbing,Sport,Wednesday climbing
END:VEVENT
BEGIN:VEVENT
DTSTART;TZID=Europe/London:20230805T093000
DTEND;TZID=Europe/London:20230805T170000
DTSTAMP:20260424T002114
CREATED:20230530T123258Z
LAST-MODIFIED:20230530T123258Z
UID:10000223-1691227800-1691254800@gwentmc.club
SUMMARY:Climb: Ban y Gor (Sport)
DESCRIPTION:Saturday climbing at Ban y Gor\, Gloucestershire. Sport. \nTimings will be advised via climbing group comms. For more details please contact John Jones. \nUKC Logbook (ukclimbing.com): Ban y Gor
URL:https://gwentmc.club/event/climb-ban-y-gor-sport/
CATEGORIES:Rock climbing,Sport,Weekend climbing
END:VEVENT
BEGIN:VEVENT
DTSTART;TZID=Europe/London:20230802T150000
DTEND;TZID=Europe/London:20230802T210000
DTSTAMP:20260424T002114
CREATED:20230530T132023Z
LAST-MODIFIED:20230530T132023Z
UID:10000230-1690988400-1691010000@gwentmc.club
SUMMARY:Climb: Bargoed (Sport)
DESCRIPTION:Wednesday evening climbing at Bargoed. Sport. \nTimings will be advised via climbing group comms. For more details please contact John Jones. \nUKC Logbook (ukclimbing.com): Bargoed \nSouth Wales Climbing Wiki (SWCW): Bargoed
URL:https://gwentmc.club/event/climb-bargoed-sport/
CATEGORIES:Rock climbing,Sport,Wednesday climbing
END:VEVENT
BEGIN:VEVENT
DTSTART;TZID=Europe/London:20230730T093000
DTEND;TZID=Europe/London:20230730T170000
DTSTAMP:20260424T002114
CREATED:20230530T113605Z
LAST-MODIFIED:20230530T113605Z
UID:10000222-1690709400-1690736400@gwentmc.club
SUMMARY:Climb: Gower (Trad and sport)
DESCRIPTION:Sunday climbing at the Gower\, Trad and Sport. Precise venue to be decided. \nTimings and details of location will be advised via climbing group comms for more details please contact John Jones. \nSouth Wales Climbing Wiki (SWCW): Gower
URL:https://gwentmc.club/event/climb-gower-trad-and-sport-2/
LOCATION:Gower Peinsula
CATEGORIES:Rock climbing,Sport,Trad,Weekend climbing
ATTACH;FMTTYPE=image/jpeg:https://gwentmc.club/wp-content/uploads/2023/05/30Jul2023-climb-gower.jpg
END:VEVENT
BEGIN:VEVENT
DTSTART;TZID=Europe/London:20230726T150000
DTEND;TZID=Europe/London:20230726T210000
DTSTAMP:20260424T002114
CREATED:20230530T102252Z
LAST-MODIFIED:20230530T102252Z
UID:10000212-1690383600-1690405200@gwentmc.club
SUMMARY:Climb: Mountain Ash (Mostly sport\, some Trad)
DESCRIPTION:Wednesday evening climbing at Mountain Ash. \nTimings will be advised via climbing group comms. For more details please contact John Jones. \nUKC Logbook (ukclimbing.com): Mountain Ash \nSouth Wales Climbing Wiki (SWCW): Mountain Ash
URL:https://gwentmc.club/event/climb-mountain-ash-mostly-sport-some-trad-2/
CATEGORIES:Rock climbing,Sport,Trad,Wednesday climbing
END:VEVENT
BEGIN:VEVENT
DTSTART;TZID=Europe/London:20230722T093000
DTEND;TZID=Europe/London:20230722T170000
DTSTAMP:20260424T002114
CREATED:20230530T105247Z
LAST-MODIFIED:20230622T071917Z
UID:10000216-1690018200-1690045200@gwentmc.club
SUMMARY:Climb: Ferndale (Sport\, some Trad)
DESCRIPTION:Saturday climbing at Ferndale. Sport\, some trad. Mostly in the shade so good hot weather option. \nTimings will be advised via climbing group comms. For more details please contact John Jones. \nUKC Logbook (ukclimbing.com): Ferndale \nSouth Wales Climbing Wiki (SWCW): Ferndale
URL:https://gwentmc.club/event/climb-ferndale-sport-some-trad/
CATEGORIES:Rock climbing,Sport,Trad,Weekend climbing
ATTACH;FMTTYPE=image/jpeg:https://gwentmc.club/wp-content/uploads/2023/05/climb-ferndale-21jun2023.jpg
END:VEVENT
BEGIN:VEVENT
DTSTART;TZID=Europe/London:20230719T150000
DTEND;TZID=Europe/London:20230719T210000
DTSTAMP:20260424T002114
CREATED:20230530T131730Z
LAST-MODIFIED:20230530T131730Z
UID:10000229-1689778800-1689800400@gwentmc.club
SUMMARY:Climb: The Gap\, Upper Quarry (Sport)
DESCRIPTION:Wednesday evening climbing at The Gap\, Upper Quarry. Sport. Mostly bolted. \nTimings will be advised via climbing group comms. For more details please contact John Jones. \nUKC Logbook (ukclimbing.com): The Gap \nSouth Wales Climbing Wiki (SWCW): The Gap\, Upper Quarry
URL:https://gwentmc.club/event/climb-the-gap-upper-quarry-sport/
CATEGORIES:Rock climbing,Sport,Wednesday climbing
END:VEVENT
BEGIN:VEVENT
DTSTART;TZID=Europe/London:20230716T093000
DTEND;TZID=Europe/London:20230716T170000
DTSTAMP:20260424T002114
CREATED:20230530T104005Z
LAST-MODIFIED:20230530T104005Z
UID:10000215-1689499800-1689526800@gwentmc.club
SUMMARY:Climb: Portishead Quarry (Trad and Sport)
DESCRIPTION:Sunday climbing at Portishead Quarry (Avon). \nTimings will be advised via climbing group comms. For more details please contact John Jones. \nUKC Logbook (ukclimbing.com): Portishead Quarry
URL:https://gwentmc.club/event/climb-portishead-quarry-trad-and-sport/
CATEGORIES:Rock climbing,Sport,Trad,Weekend climbing
END:VEVENT
BEGIN:VEVENT
DTSTART;TZID=Europe/London:20230712T150000
DTEND;TZID=Europe/London:20230712T210000
DTSTAMP:20260424T002114
CREATED:20230530T130741Z
LAST-MODIFIED:20230530T134647Z
UID:10000227-1689174000-1689195600@gwentmc.club
SUMMARY:Climb: Navigation Quarry (Sport with some trad)
DESCRIPTION:Climbing at Navigation Quarry. \nTimings will be advised via climbing group comms for more details please contact John Jones. \nUKC Logbook (ukclimbing.com): Navigation Quarry \nSouth Wales Climbing Wiki (SWCW): Navigation Quarry
URL:https://gwentmc.club/event/climb-navigation-quarry-sport-with-some-trad-2/
CATEGORIES:Rock climbing,Wednesday climbing
ATTACH;FMTTYPE=image/jpeg:https://gwentmc.club/wp-content/uploads/2023/03/Navigation.jpg
END:VEVENT
BEGIN:VEVENT
DTSTART;TZID=Europe/London:20230708T093000
DTEND;TZID=Europe/London:20230708T170000
DTSTAMP:20260424T002114
CREATED:20230530T103445Z
LAST-MODIFIED:20230530T103627Z
UID:10000214-1688808600-1688835600@gwentmc.club
SUMMARY:Climb: Shorn Cliff (Trad)
DESCRIPTION:Saturday climbing at Shorn Cliff in the Wye Valley. \nTimings will be advised via climbing group comms. For more details please contact John Jones. \nUKC Logbook (ukclimbing.com): Shorn Cliff
URL:https://gwentmc.club/event/climb-shorn-cliff-trad/
CATEGORIES:Rock climbing,Trad,Weekend climbing
END:VEVENT
BEGIN:VEVENT
DTSTART;TZID=Europe/London:20230705T150000
DTEND;TZID=Europe/London:20230705T210000
DTSTAMP:20260424T002114
CREATED:20230530T131341Z
LAST-MODIFIED:20230615T105101Z
UID:10000228-1688569200-1688590800@gwentmc.club
SUMMARY:Climb: Sirhowy (Sport)
DESCRIPTION:Wednesday evening climbing at Sirhowy. Sport. \nTimings will be advised via climbing group comms. For more details please contact John Jones. \nUKC Logbook (ukclimbing.com): Sirhowy \nSouth Wales Climbing Wiki (SWCW): Sirhowy – Quarry Mawr
URL:https://gwentmc.club/event/climb-sirhowy-sport/
CATEGORIES:Rock climbing,Sport,Wednesday climbing
ATTACH;FMTTYPE=image/jpeg:https://gwentmc.club/wp-content/uploads/2023/05/05July2023-Sirhowy-Crag-1024x1024-1.jpg
END:VEVENT
BEGIN:VEVENT
DTSTART;TZID=Europe/London:20230702T093000
DTEND;TZID=Europe/London:20230702T170000
DTSTAMP:20260424T002114
CREATED:20230530T103106Z
LAST-MODIFIED:20230530T103106Z
UID:10000213-1688290200-1688317200@gwentmc.club
SUMMARY:Climb: Cilfrew Edge (Various\, mostly trad)
DESCRIPTION:Sunday climbing at Cilfrew Edge. \nTimings will be advised via climbing group comms. For more details please contact John Jones. \nUKC Logbook (ukclimbing.com): Cilfrew Edge \nSouth Wales Climbing Wiki (SWCW): Cilfrew Edge
URL:https://gwentmc.club/event/climb-cilfrew-edge-various-mostly-trad/
CATEGORIES:Rock climbing,Trad,Weekend climbing
END:VEVENT
END:VCALENDAR