BEGIN:VCALENDAR
VERSION:2.0
PRODID:-//Gwent Mountaineering Club - ECPv6.15.20//NONSGML v1.0//EN
CALSCALE:GREGORIAN
METHOD:PUBLISH
X-WR-CALNAME:Gwent Mountaineering Club
X-ORIGINAL-URL:https://gwentmc.club
X-WR-CALDESC:Events for Gwent Mountaineering Club
REFRESH-INTERVAL;VALUE=DURATION:PT1H
X-Robots-Tag:noindex
X-PUBLISHED-TTL:PT1H
BEGIN:VTIMEZONE
TZID:Europe/London
BEGIN:DAYLIGHT
TZOFFSETFROM:+0000
TZOFFSETTO:+0100
TZNAME:BST
DTSTART:20230326T010000
END:DAYLIGHT
BEGIN:STANDARD
TZOFFSETFROM:+0100
TZOFFSETTO:+0000
TZNAME:GMT
DTSTART:20231029T010000
END:STANDARD
BEGIN:DAYLIGHT
TZOFFSETFROM:+0000
TZOFFSETTO:+0100
TZNAME:BST
DTSTART:20240331T010000
END:DAYLIGHT
BEGIN:STANDARD
TZOFFSETFROM:+0100
TZOFFSETTO:+0000
TZNAME:GMT
DTSTART:20241027T010000
END:STANDARD
BEGIN:DAYLIGHT
TZOFFSETFROM:+0000
TZOFFSETTO:+0100
TZNAME:BST
DTSTART:20250330T010000
END:DAYLIGHT
BEGIN:STANDARD
TZOFFSETFROM:+0100
TZOFFSETTO:+0000
TZNAME:GMT
DTSTART:20251026T010000
END:STANDARD
END:VTIMEZONE
BEGIN:VEVENT
DTSTART;TZID=Europe/London:20240727T093000
DTEND;TZID=Europe/London:20240727T170000
DTSTAMP:20260423T191113
CREATED:20240428T082144Z
LAST-MODIFIED:20240428T082144Z
UID:10000378-1722072600-1722099600@gwentmc.club
SUMMARY:Climb: Gower (Trad and sport)
DESCRIPTION:Sunday climbing at the Gower\, Trad and Sport. Precise venue to be confirmed. \nTimings and details of location will be advised via climbing group comms for more details please contact John Jones. \nSouth Wales Climbing Wiki (SWCW): Gower \nClimbing meets are weather dependent and can change at short notice. Please contact the organiser for more information.
URL:https://gwentmc.club/event/climb-gower-trad-and-sport-27-07-2024/
LOCATION:Gower Peinsula
CATEGORIES:Rock climbing,Sport,Trad,Weekend climbing
ATTACH;FMTTYPE=image/jpeg:https://gwentmc.club/wp-content/uploads/2023/05/30Jul2023-climb-gower.jpg
END:VEVENT
BEGIN:VEVENT
DTSTART;TZID=Europe/London:20240724T150000
DTEND;TZID=Europe/London:20240724T210000
DTSTAMP:20260423T191113
CREATED:20240428T081950Z
LAST-MODIFIED:20240428T082007Z
UID:10000377-1721833200-1721854800@gwentmc.club
SUMMARY:Climb: Mountain Ash (Mostly sport\, some trad)
DESCRIPTION:Wednesday evening climbing at Mountain Ash. Mostly sport\, some trad. \nTimings will be advised via climbing group comms. For more details please contact John Jones. \nUKC Logbook (ukclimbing.com): Mountain Ash \nSouth Wales Climbing Wiki (SWCW): Mountain Ash \nClimbing meets are weather dependent and can change at short notice. Please contact the organiser for more information.
URL:https://gwentmc.club/event/climb-mountain-ash-mostly-sport-some-trad-24-07-2024/
CATEGORIES:Rock climbing,Sport,Trad,Wednesday climbing
END:VEVENT
BEGIN:VEVENT
DTSTART;TZID=Europe/London:20240721T093000
DTEND;TZID=Europe/London:20240721T170000
DTSTAMP:20260423T191113
CREATED:20240428T081240Z
LAST-MODIFIED:20240428T081240Z
UID:10000376-1721554200-1721581200@gwentmc.club
SUMMARY:Climb: Ferndale (Sport\, some Trad)
DESCRIPTION:Saturday climbing at Ferndale. Sport\, some trad. Mostly in the shade so good hot weather option. \nTimings will be advised via climbing group comms. For more details please contact John Jones. \nUKC Logbook (ukclimbing.com): Ferndale \nSouth Wales Climbing Wiki (SWCW): Ferndale \nClimbing meets are weather dependent and can change at short notice. Please contact the organiser for more information.
URL:https://gwentmc.club/event/climb-ferndale-sport-some-trad-21-07-2024/
CATEGORIES:Rock climbing,Sport,Trad,Weekend climbing
ATTACH;FMTTYPE=image/jpeg:https://gwentmc.club/wp-content/uploads/2023/05/climb-ferndale-21jun2023.jpg
END:VEVENT
BEGIN:VEVENT
DTSTART;TZID=Europe/London:20240717T150000
DTEND;TZID=Europe/London:20240717T210000
DTSTAMP:20260423T191113
CREATED:20240428T080901Z
LAST-MODIFIED:20240428T080901Z
UID:10000375-1721228400-1721250000@gwentmc.club
SUMMARY:Climb: The Gap (sport)
DESCRIPTION:Sport climbing at The Gap – lower quarry \nTimings will be advised via climbing group comms for more details please contact John Jones. \nUKC Logbook – The Gap (ukclimbing.com) \nThe Gap – South Wales Climbing Wiki (SWCW) \nClimbing meets are weather dependent and can change at short notice. Please contact the organiser for more information.
URL:https://gwentmc.club/event/climb-the-gap-sport-2/
LOCATION:The Gap
CATEGORIES:Rock climbing,Sport,Wednesday climbing
ATTACH;FMTTYPE=image/jpeg:https://gwentmc.club/wp-content/uploads/2023/03/The-Gap.jpg
END:VEVENT
BEGIN:VEVENT
DTSTART;TZID=Europe/London:20240713T093000
DTEND;TZID=Europe/London:20240713T170000
DTSTAMP:20260423T191113
CREATED:20240428T080617Z
LAST-MODIFIED:20240428T081455Z
UID:10000374-1720863000-1720890000@gwentmc.club
SUMMARY:Climb: Portishead Quarry (Trad and Sport)
DESCRIPTION:Saturday climbing at Portishead Quarry (Avon). \nTimings will be advised via climbing group comms. For more details please contact John Jones. \nUKC Logbook (ukclimbing.com): Portishead Quarry \nClimbing meets are weather dependent and can change at short notice. Please contact the organiser for more information.
URL:https://gwentmc.club/event/climb-portishead-quarry-trad-and-sport-13-07-2024/
CATEGORIES:Rock climbing,Sport,Trad,Weekend climbing
END:VEVENT
BEGIN:VEVENT
DTSTART;TZID=Europe/London:20240710T150000
DTEND;TZID=Europe/London:20240710T210000
DTSTAMP:20260423T191113
CREATED:20240428T080328Z
LAST-MODIFIED:20240428T080328Z
UID:10000373-1720623600-1720645200@gwentmc.club
SUMMARY:Climb: Navigation Quarry (mostly sport\, some trad).
DESCRIPTION:Navigation Quarry climb (mostly sport\, some trad). \nTimings will be advised via climbing group comms for more details please contact John Jones. \nClimbing meets are weather dependent and can change at short notice. Please contact the organiser for more information.
URL:https://gwentmc.club/event/climb-navigation-quarry-10-07-2024/
CATEGORIES:Rock climbing,Sport,Trad,Wednesday climbing
ATTACH;FMTTYPE=image/jpeg:https://gwentmc.club/wp-content/uploads/2024/02/Naviagtion-Quarry.jpg
END:VEVENT
BEGIN:VEVENT
DTSTART;TZID=Europe/London:20240707T093000
DTEND;TZID=Europe/London:20240707T170000
DTSTAMP:20260423T191113
CREATED:20240428T080027Z
LAST-MODIFIED:20240428T081607Z
UID:10000372-1720344600-1720371600@gwentmc.club
SUMMARY:Climb: Shornecliffe (trad)
DESCRIPTION:Trad climbing at Shornecliffe. \nTimings will be advised via climbing group comms for more details please contact John Jones. \nClimbing meets are weather dependent and can change at short notice. Please contact the organiser for more information.
URL:https://gwentmc.club/event/climb-avon-sport-and-trad09-07-2024/
CATEGORIES:Rock climbing,Weekend climbing
END:VEVENT
BEGIN:VEVENT
DTSTART;TZID=Europe/London:20240703T150000
DTEND;TZID=Europe/London:20240703T210000
DTSTAMP:20260423T191113
CREATED:20240428T075644Z
LAST-MODIFIED:20240428T081712Z
UID:10000371-1720018800-1720040400@gwentmc.club
SUMMARY:Climb: Sirhowy (Sport)
DESCRIPTION:Wednesday evening climbing at Sirhowy. Sport. \nTimings will be advised via climbing group comms. For more details please contact John Jones. \nUKC Logbook (ukclimbing.com): Sirhowy \nSouth Wales Climbing Wiki (SWCW): Sirhowy – Quarry Mawr \nClimbing meets are weather dependent and can change at short notice. Please contact the organiser for more information.
URL:https://gwentmc.club/event/climb-sirhowy-sport-2_03-07-2024/
CATEGORIES:Rock climbing,Sport,Wednesday climbing
ATTACH;FMTTYPE=image/jpeg:https://gwentmc.club/wp-content/uploads/2023/05/05July2023-Sirhowy-Crag-1024x1024-1.jpg
END:VEVENT
BEGIN:VEVENT
DTSTART;TZID=Europe/London:20240629T093000
DTEND;TZID=Europe/London:20240629T170000
DTSTAMP:20260423T191113
CREATED:20240428T075402Z
LAST-MODIFIED:20240428T081813Z
UID:10000370-1719653400-1719680400@gwentmc.club
SUMMARY:Climb: Avon (sport and trad)
DESCRIPTION:Sport and trad climbing at Avon \nTimings will be advised via climbing group comms for more details please contact John Jones. \nUKC Logbook – Avon Gorge (Main Area) (ukclimbing.com) \nUKC Logbook – Avon Gorge (Sea Walls Area) (ukclimbing.com) \nUKC Logbook – Avon Gorge (Suspension Bridge Area) (ukclimbing.com) \nClimbing meets are weather dependent and can change at short notice. Please contact the organiser for more information.
URL:https://gwentmc.club/event/climb-avon-sport-and-trad-29-06-2024/
LOCATION:Avon
CATEGORIES:Rock climbing,Weekend climbing
ATTACH;FMTTYPE=image/jpeg:https://gwentmc.club/wp-content/uploads/2023/03/Avon-Gorge.jpg
END:VEVENT
BEGIN:VEVENT
DTSTART;TZID=Europe/London:20240626T150000
DTEND;TZID=Europe/London:20240626T210000
DTSTAMP:20260423T191113
CREATED:20240227T204828Z
LAST-MODIFIED:20240410T204236Z
UID:10000346-1719414000-1719435600@gwentmc.club
SUMMARY:Climb: Mountain Ash (Mostly sport\, some trad)
DESCRIPTION:Wednesday evening climbing at Mountain Ash. Mostly sport\, some trad. \nTimings will be advised via climbing group comms. For more details please contact John Jones. \nUKC Logbook (ukclimbing.com): Mountain Ash \nSouth Wales Climbing Wiki (SWCW): Mountain Ash \nClimbing meets are weather dependent and can change at short notice. Please contact the organiser for more information.
URL:https://gwentmc.club/event/climb-mountain-ash-26-06-2024/
CATEGORIES:Rock climbing,Sport,Trad,Wednesday climbing
END:VEVENT
BEGIN:VEVENT
DTSTART;TZID=Europe/London:20240623T093000
DTEND;TZID=Europe/London:20240623T170000
DTSTAMP:20260423T191113
CREATED:20240227T204619Z
LAST-MODIFIED:20240410T204415Z
UID:10000345-1719135000-1719162000@gwentmc.club
SUMMARY:Climb: Treherbert Quarry (Rhondda Pillar) (sport mostly and trad)
DESCRIPTION:Sunday climbing at Treherbert Quarry (Rhondda Pillar). Sport mostly and trad. \nTimings will be advised via climbing group comms. For more details please contact John Jones. \nUKC Logbook (ukclimbing.com): Treherbert Quarry (Rhondda Pillar) \nSouth Wales Climbing Wiki (SWCW): Treherbert_Quarry \nClimbing meets are weather dependent and can change at short notice. Please contact the organiser for more information.
URL:https://gwentmc.club/event/climb-treherbert-quarry-rhondda-pillar-23-06-2024/
CATEGORIES:Rock climbing,Sport,Trad,Weekend climbing
ATTACH;FMTTYPE=image/jpeg:https://gwentmc.club/wp-content/uploads/2023/05/climb-rhondda-pillar.jpg
END:VEVENT
BEGIN:VEVENT
DTSTART;TZID=Europe/London:20240619T150000
DTEND;TZID=Europe/London:20240619T210000
DTSTAMP:20260423T191113
CREATED:20240227T204313Z
LAST-MODIFIED:20240410T204445Z
UID:10000344-1718809200-1718830800@gwentmc.club
SUMMARY:Climb: Ogmore (Trad)
DESCRIPTION:Wednesday evening sea cliff climbing at Ogmore. \nTimings will be advised via climbing group comms for more details please contact John Jones. \nUKC Logbook (ukclimbing.com): Ogmore Main \nSouth Wales Climbing Wiki (SWCW): Ogmore \nClimbing meets are weather dependent and can change at short notice. Please contact the organiser for more information.
URL:https://gwentmc.club/event/climb-ogmore-trad-19-06-2024/
CATEGORIES:Rock climbing,Trad,Wednesday climbing
ATTACH;FMTTYPE=image/jpeg:https://gwentmc.club/wp-content/uploads/2023/05/16aug2023-ogmore-trad-climb.jpg
END:VEVENT
BEGIN:VEVENT
DTSTART;TZID=Europe/London:20240615T093000
DTEND;TZID=Europe/London:20240615T183000
DTSTAMP:20260423T191113
CREATED:20240227T204115Z
LAST-MODIFIED:20240410T204511Z
UID:10000343-1718443800-1718476200@gwentmc.club
SUMMARY:Climb: Gilwern (sport)
DESCRIPTION:Saturday sport climbing at Gilwern \nTimings will be advised via climbing group comms for more details please contact John Jones. \nUKC Logbook – Gilwern (ukclimbing.com) \nClimbing meets are weather dependent and can change at short notice. Please contact the organiser for more information. \n 
URL:https://gwentmc.club/event/climb-gilwern-sport-15-06-2024/
LOCATION:Gilwern
CATEGORIES:Rock climbing,Sport,Weekend climbing
ATTACH;FMTTYPE=image/jpeg:https://gwentmc.club/wp-content/uploads/2023/03/Gilwern.jpg
END:VEVENT
BEGIN:VEVENT
DTSTART;TZID=Europe/London:20240612T150000
DTEND;TZID=Europe/London:20240612T210000
DTSTAMP:20260423T191113
CREATED:20240227T203850Z
LAST-MODIFIED:20240610T114711Z
UID:10000342-1718204400-1718226000@gwentmc.club
SUMMARY:Climb: Gap Upper Quarry
DESCRIPTION:Wednesday evening climbing at Gap Upper Quarry. \nTimings will be advised via climbing group comms. For more details please contact John Jones. \nClimbing meets are weather dependent and can change at short notice. Please contact the organiser for more information.
URL:https://gwentmc.club/event/climb-llanbradach-sport-12-06-2024/
CATEGORIES:Rock climbing,Sport,Wednesday climbing
END:VEVENT
BEGIN:VEVENT
DTSTART;TZID=Europe/London:20240609T093000
DTEND;TZID=Europe/London:20240609T170000
DTSTAMP:20260423T191113
CREATED:20240227T203647Z
LAST-MODIFIED:20240410T204621Z
UID:10000341-1717925400-1717952400@gwentmc.club
SUMMARY:Climb: Gower (Trad and sport)
DESCRIPTION:Sunday climbing at the Gower\, Trad and Sport. Precise venue to be confirmed. \nTimings and details of location will be advised via climbing group comms for more details please contact John Jones. \nSouth Wales Climbing Wiki (SWCW): Gower \nClimbing meets are weather dependent and can change at short notice. Please contact the organiser for more information.
URL:https://gwentmc.club/event/climb-gower-trad-and-sport-09-06-2024/
LOCATION:Gower Peinsula
CATEGORIES:Rock climbing,Sport,Trad,Weekend climbing
ATTACH;FMTTYPE=image/jpeg:https://gwentmc.club/wp-content/uploads/2023/05/30Jul2023-climb-gower.jpg
END:VEVENT
BEGIN:VEVENT
DTSTART;TZID=Europe/London:20240608T100000
DTEND;TZID=Europe/London:20240608T170000
DTSTAMP:20260423T191113
CREATED:20240226T205800Z
LAST-MODIFIED:20240428T090207Z
UID:10000327-1717840800-1717866000@gwentmc.club
SUMMARY:Climb: Three Cliffs Bay (getting into/back into Trad) - Novice/First Lead Day
DESCRIPTION:Trad/1st lead climbing at Three Cliffs Bay. If you’re joining the day you will need to have some experience of sport climbing (better if you’ve done some sport leading) and have seconded some trad routes. \nMeet at the National Trust carpark\, Southgate at 10am. \nFor more details please contact John Jones. \nClimbing meets are weather dependent and can change at short notice. Please contact the organiser for more information.
URL:https://gwentmc.club/event/climb-three-cliffs-bay-getting-into-back-into-trad-08-06-2024/
CATEGORIES:Rock climbing,Trad,Training,Weekend climbing
ATTACH;FMTTYPE=image/jpeg:https://gwentmc.club/wp-content/uploads/2023/05/30Jul2023-climb-gower.jpg
END:VEVENT
BEGIN:VEVENT
DTSTART;TZID=Europe/London:20240605T150000
DTEND;TZID=Europe/London:20240605T210000
DTSTAMP:20260423T191113
CREATED:20240227T203435Z
LAST-MODIFIED:20240410T204823Z
UID:10000340-1717599600-1717621200@gwentmc.club
SUMMARY:Climb: Taff's Well West (sport)
DESCRIPTION:Climbing at Taff’s Well West (sport) \nTimings will be advised via climbing group comms for more details please contact John Jones. \nUKC Logbook – Taff’s Well (ukclimbing.com) \nTaffs Well – South Wales Climbing Wiki (SWCW) \nClimbing meets are weather dependent and can change at short notice. Please contact the organiser for more information.
URL:https://gwentmc.club/event/climb-taffs-well-west-sport-05-06-2024/
LOCATION:Taff’s Well West
CATEGORIES:Rock climbing,Sport,Wednesday climbing
ATTACH;FMTTYPE=image/jpeg:https://gwentmc.club/wp-content/uploads/2023/03/Taffs-Well-Main-2.jpg
END:VEVENT
BEGIN:VEVENT
DTSTART;TZID=Europe/London:20240601T093000
DTEND;TZID=Europe/London:20240601T170000
DTSTAMP:20260423T191113
CREATED:20240227T203154Z
LAST-MODIFIED:20240410T204900Z
UID:10000339-1717234200-1717261200@gwentmc.club
SUMMARY:Climb: Temple Bay (sport)
DESCRIPTION:Sport climbing at Temple Bay \nTimings and details of location will be advised via climbing group comms for more details please contact John Jones. \nTemple Bay Inlets – South Wales Climbing Wiki (SWCW) \nClimbing meets are weather dependent and can change at short notice. Please contact the organiser for more information.
URL:https://gwentmc.club/event/climb-temple-bay-sport-01-06-2024/
LOCATION:Temple Bay
CATEGORIES:Rock climbing,Sport,Weekend climbing
ATTACH;FMTTYPE=image/jpeg:https://gwentmc.club/wp-content/uploads/2023/03/Temple-Bay.jpg
END:VEVENT
BEGIN:VEVENT
DTSTART;TZID=Europe/London:20240529T150000
DTEND;TZID=Europe/London:20240529T210000
DTSTAMP:20260423T191113
CREATED:20240227T202855Z
LAST-MODIFIED:20240410T204932Z
UID:10000338-1716994800-1717016400@gwentmc.club
SUMMARY:Climb: Cwmcarn (sport)
DESCRIPTION:Sport climbing at Cwmcarn \nTimings will be advised via climbing group comms for more details please contact John Jones. \nUKC Logbook – Cwmcarn Quarry (ukclimbing.com) \nCwmcarn – South Wales Climbing Wiki (SWCW) \nClimbing meets are weather dependent and can change at short notice. Please contact the organiser for more information.
URL:https://gwentmc.club/event/climb-cwmcarn-sport-29-05-2024/
LOCATION:Cwmcarn
CATEGORIES:Rock climbing,Sport,Wednesday climbing
ATTACH;FMTTYPE=image/jpeg:https://gwentmc.club/wp-content/uploads/2023/03/Cwmcarn-2.jpg
END:VEVENT
BEGIN:VEVENT
DTSTART;VALUE=DATE:20240525
DTEND;VALUE=DATE:20240528
DTSTAMP:20260423T191113
CREATED:20240227T202251Z
LAST-MODIFIED:20240418T125939Z
UID:10000337-1716595200-1716854399@gwentmc.club
SUMMARY:Weekend climb: Eryri (trad)
DESCRIPTION:Bank holiday weekend of climbing (trad) in Eryri National Park. \nLocation will be confirmed nearer the time. For more details please contact John Jones \nClimbing meets are weather dependent and can change at short notice. Please contact the organiser for more information.
URL:https://gwentmc.club/event/weekend-climb-eryri-25-27-05-2024/
CATEGORIES:Rock climbing,Trad,Weekend climbing,Weekends/weeks away
ATTACH;FMTTYPE=image/jpeg:https://gwentmc.club/wp-content/uploads/2024/02/Eryri_25-27-May-2024.jpg
END:VEVENT
BEGIN:VEVENT
DTSTART;TZID=Europe/London:20240522T150000
DTEND;TZID=Europe/London:20240522T210000
DTSTAMP:20260423T191113
CREATED:20240227T201635Z
LAST-MODIFIED:20240410T205132Z
UID:10000336-1716390000-1716411600@gwentmc.club
SUMMARY:Climb: Gelli (sport)
DESCRIPTION:Sport climbing at Gelli \nTimings will be advised via climbing group comms for more details please contact John Jones. \nUKC Logbook – Gelli (ukclimbing.com) \nGelli – South Wales Climbing Wiki (SWCW) \nClimbing meets are weather dependent and can change at short notice. Please contact the organiser for more information.
URL:https://gwentmc.club/event/climb-gelli-sport_22-05-2024/
LOCATION:Gelli
CATEGORIES:Rock climbing,Sport,Wednesday climbing
ATTACH;FMTTYPE=image/jpeg:https://gwentmc.club/wp-content/uploads/2023/03/Gelli.jpg
END:VEVENT
BEGIN:VEVENT
DTSTART;TZID=Europe/London:20240515T150000
DTEND;TZID=Europe/London:20240515T210000
DTSTAMP:20260423T191113
CREATED:20240226T214308Z
LAST-MODIFIED:20240226T214308Z
UID:10000333-1715785200-1715806800@gwentmc.club
SUMMARY:Climb: Gilwern (Sport)
DESCRIPTION:Sport climbing at Gilwern \nTimings will be advised via climbing group comms for more details please contact John Jones. \nUKC Logbook – Gilwern (ukclimbing.com) \n  \n 
URL:https://gwentmc.club/event/climb-gilwern-sport-15-05-2024/
LOCATION:Gilwern
CATEGORIES:Rock climbing,Sport,Wednesday climbing
ATTACH;FMTTYPE=image/jpeg:https://gwentmc.club/wp-content/uploads/2023/03/Gilwern.jpg
END:VEVENT
BEGIN:VEVENT
DTSTART;TZID=Europe/London:20240512T093000
DTEND;TZID=Europe/London:20240512T170000
DTSTAMP:20260423T191113
CREATED:20240226T214718Z
LAST-MODIFIED:20240410T205229Z
UID:10000334-1715506200-1715533200@gwentmc.club
SUMMARY:Climb: Llangattock/Gilwern (Trad\, some sport)
DESCRIPTION:Sunday climbing at Llangattock/Gilwern. Trad/some sport. \nTimings will be advised via climbing group comms. For more details please contact John Jones. \nClimbing meets are weather dependent and can change at short notice. Please contact the organiser for more information. \n 
URL:https://gwentmc.club/event/climb-llangattock-gilwern_12-05-2024/
CATEGORIES:Rock climbing,Sport,Trad,Weekend climbing
END:VEVENT
BEGIN:VEVENT
DTSTART;TZID=Europe/London:20240508T150000
DTEND;TZID=Europe/London:20240508T210000
DTSTAMP:20260423T191113
CREATED:20240226T213919Z
LAST-MODIFIED:20240410T205340Z
UID:10000332-1715180400-1715202000@gwentmc.club
SUMMARY:Climb: Taff's Well Main (Sport)
DESCRIPTION:Wednesday evening climbing at Taff’s Well Main. Sport. \nTimings will be advised via climbing group comms. For more details please contact John Jones. \nUKC Logbook (ukclimbing.com): Taff’s Well \nSouth Wales Climbing Wiki (SWCW): Taff’s Well \nClimbing meets are weather dependent and can change at short notice. Please contact the organiser for more information.
URL:https://gwentmc.club/event/climb-taffs-well-sport-08-05-2024/
CATEGORIES:Rock climbing,Sport,Wednesday climbing
ATTACH;FMTTYPE=image/jpeg:https://gwentmc.club/wp-content/uploads/2023/05/climb-taffswellmain-21jun2023.jpg
END:VEVENT
BEGIN:VEVENT
DTSTART;VALUE=DATE:20240504
DTEND;VALUE=DATE:20240507
DTSTAMP:20260423T191113
CREATED:20240226T213630Z
LAST-MODIFIED:20240410T205410Z
UID:10000331-1714780800-1715039999@gwentmc.club
SUMMARY:Weekend climb: West Wales or South Devon TBC (trad)
DESCRIPTION:The location of either West Wales (North Pembrokeshire/Culm coast) or South Devon will be confirmed nearer the time but will be different to the Easter Bank Holiday weekend climb. Weather/tide dependent location. \nTrad. \nClimbing meets are weather dependent and can change at short notice. Please contact the organiser for more information.
URL:https://gwentmc.club/event/weekend-climb-west-wales-south-devon-04-06-05-2024/
CATEGORIES:Rock climbing,Trad,Weekend climbing
ATTACH;FMTTYPE=image/jpeg:https://gwentmc.club/wp-content/uploads/2024/02/May-Bank-Hol-climb-2024.jpg
END:VEVENT
BEGIN:VEVENT
DTSTART;TZID=Europe/London:20240501T150000
DTEND;TZID=Europe/London:20240501T210000
DTSTAMP:20260423T191113
CREATED:20240226T212631Z
LAST-MODIFIED:20240410T205530Z
UID:10000330-1714575600-1714597200@gwentmc.club
SUMMARY:Climb: Navigation Quarry (mostly sport\, some trad).
DESCRIPTION:Navigation Quarry climb (mostly sport\, some trad). \nTimings will be advised via climbing group comms for more details please contact John Jones. \nClimbing meets are weather dependent and can change at short notice. Please contact the organiser for more information.
URL:https://gwentmc.club/event/climb-navigation_01-05-2024/
CATEGORIES:Rock climbing,Sport,Trad,Wednesday climbing
ATTACH;FMTTYPE=image/jpeg:https://gwentmc.club/wp-content/uploads/2024/02/Naviagtion-Quarry.jpg
END:VEVENT
BEGIN:VEVENT
DTSTART;TZID=Europe/London:20240427T093000
DTEND;TZID=Europe/London:20240427T180000
DTSTAMP:20260423T191113
CREATED:20240226T210458Z
LAST-MODIFIED:20240410T205559Z
UID:10000329-1714210200-1714240800@gwentmc.club
SUMMARY:Climb: Wyndecliffe (trad)
DESCRIPTION:Trad climbing at Wyndecliffe \nTimings will be advised via climbing group comms for more details please contact John Jones. \nClimbing meets are weather dependent and can change at short notice. Please contact the organiser for more information. \n 
URL:https://gwentmc.club/event/climb-mount-pleasant-sport-27-04-2024/
CATEGORIES:Rock climbing,Trad,Weekend climbing
END:VEVENT
BEGIN:VEVENT
DTSTART;TZID=Europe/London:20240424T150000
DTEND;TZID=Europe/London:20240424T210000
DTSTAMP:20260423T191113
CREATED:20240226T210046Z
LAST-MODIFIED:20240410T205717Z
UID:10000328-1713970800-1713992400@gwentmc.club
SUMMARY:Climb: Mount Pleasant (sport)
DESCRIPTION:Sport climbing at Mount Pleasant \nTimings will be advised via climbing group comms for more details please contact John Jones. \nMount Pleasant – South Wales Climbing Wiki (SWCW) \nUKC Logbook – Mount Pleasant X1 (ukclimbing.com) \nClimbing meets are weather dependent and can change at short notice. Please contact the organiser for more information.
URL:https://gwentmc.club/event/climb-mount-pleasant-sport-24-04-2024/
CATEGORIES:Rock climbing,Sport,Wednesday climbing
ATTACH;FMTTYPE=image/jpeg:https://gwentmc.club/wp-content/uploads/2023/03/Mount-Pleasant.jpg
END:VEVENT
BEGIN:VEVENT
DTSTART;TZID=Europe/London:20240420T093000
DTEND;TZID=Europe/London:20240420T170000
DTSTAMP:20260423T191113
CREATED:20240410T202740Z
LAST-MODIFIED:20240410T205853Z
UID:10000360-1713605400-1713632400@gwentmc.club
SUMMARY:Climb: Details to be confirmed
DESCRIPTION:Venue details to follow. \n  \nClimbing meets are weather dependent and can change at short notice. Please contact the organiser for more information.
URL:https://gwentmc.club/event/climb-details-to-be-confirmed_20-04-2024/
CATEGORIES:Rock climbing,To be announced,Weekend climbing
END:VEVENT
BEGIN:VEVENT
DTSTART;TZID=Europe/London:20240417T150000
DTEND;TZID=Europe/London:20240417T210000
DTSTAMP:20260423T191113
CREATED:20240226T204140Z
LAST-MODIFIED:20240410T210040Z
UID:10000326-1713366000-1713387600@gwentmc.club
SUMMARY:Climb: The Gap (sport)
DESCRIPTION:Sport climbing at The Gap – lower quarry \nTimings will be advised via climbing group comms for more details please contact John Jones. \nUKC Logbook – The Gap (ukclimbing.com) \nThe Gap – South Wales Climbing Wiki (SWCW) \nClimbing meets are weather dependent and can change at short notice. Please contact the organiser for more information.
URL:https://gwentmc.club/event/climb-the-gap-sport-2_17-04-2024/
LOCATION:The Gap
CATEGORIES:Rock climbing,Sport,Wednesday climbing
ATTACH;FMTTYPE=image/jpeg:https://gwentmc.club/wp-content/uploads/2023/03/The-Gap.jpg
END:VEVENT
END:VCALENDAR