BEGIN:VCALENDAR
VERSION:2.0
PRODID:-//Gwent Mountaineering Club - ECPv6.15.20//NONSGML v1.0//EN
CALSCALE:GREGORIAN
METHOD:PUBLISH
X-WR-CALNAME:Gwent Mountaineering Club
X-ORIGINAL-URL:https://gwentmc.club
X-WR-CALDESC:Events for Gwent Mountaineering Club
REFRESH-INTERVAL;VALUE=DURATION:PT1H
X-Robots-Tag:noindex
X-PUBLISHED-TTL:PT1H
BEGIN:VTIMEZONE
TZID:Europe/London
BEGIN:DAYLIGHT
TZOFFSETFROM:+0000
TZOFFSETTO:+0100
TZNAME:BST
DTSTART:20250330T010000
END:DAYLIGHT
BEGIN:STANDARD
TZOFFSETFROM:+0100
TZOFFSETTO:+0000
TZNAME:GMT
DTSTART:20251026T010000
END:STANDARD
BEGIN:DAYLIGHT
TZOFFSETFROM:+0000
TZOFFSETTO:+0100
TZNAME:BST
DTSTART:20260329T010000
END:DAYLIGHT
BEGIN:STANDARD
TZOFFSETFROM:+0100
TZOFFSETTO:+0000
TZNAME:GMT
DTSTART:20261025T010000
END:STANDARD
BEGIN:DAYLIGHT
TZOFFSETFROM:+0000
TZOFFSETTO:+0100
TZNAME:BST
DTSTART:20270328T010000
END:DAYLIGHT
BEGIN:STANDARD
TZOFFSETFROM:+0100
TZOFFSETTO:+0000
TZNAME:GMT
DTSTART:20271031T010000
END:STANDARD
END:VTIMEZONE
BEGIN:VEVENT
DTSTART;TZID=Europe/London:20260225T180000
DTEND;TZID=Europe/London:20260304T213000
DTSTAMP:20260422T090827
CREATED:20250909T200123Z
LAST-MODIFIED:20260315T154450Z
UID:10000935-1772042400-1772659800@gwentmc.club
SUMMARY:Indoor climb: Every Wednesday (September - March)
DESCRIPTION:Join us every Wednesday from 6pm for indoor climbing over the winter months from September through to the end of March 2026. There is a choice of 2 climbing venues so we hope to see you at one of them! \nBoulders Cardiff\, St. Catherines Park\, Cardiff\, CF24 2RZ \nThe Summit Centre\, The Old Drift Mine Trelewis\, Treharris South Wales\, CF46 6RD
URL:https://gwentmc.club/event/indoor-climb-every-wednesday-september-march/2026-02-25/
LOCATION:Summit Centre\, Trelewis\, The Old Drift Mine Trelewis\, Treharris\, CF46 6RD
CATEGORIES:Climbing wall,Indoor,Wednesday climbing
ATTACH;FMTTYPE=image/jpeg:https://gwentmc.club/wp-content/uploads/2022/12/event-indoorclimbing-2.jpg
END:VEVENT
BEGIN:VEVENT
DTSTART;TZID=Europe/London:20260304T180000
DTEND;TZID=Europe/London:20260311T213000
DTSTAMP:20260422T090827
CREATED:20250909T200123Z
LAST-MODIFIED:20260315T154450Z
UID:10000936-1772647200-1773264600@gwentmc.club
SUMMARY:Indoor climb: Every Wednesday (September - March)
DESCRIPTION:Join us every Wednesday from 6pm for indoor climbing over the winter months from September through to the end of March 2026. There is a choice of 2 climbing venues so we hope to see you at one of them! \nBoulders Cardiff\, St. Catherines Park\, Cardiff\, CF24 2RZ \nThe Summit Centre\, The Old Drift Mine Trelewis\, Treharris South Wales\, CF46 6RD
URL:https://gwentmc.club/event/indoor-climb-every-wednesday-september-march/2026-03-04/
LOCATION:Summit Centre\, Trelewis\, The Old Drift Mine Trelewis\, Treharris\, CF46 6RD
CATEGORIES:Climbing wall,Indoor,Wednesday climbing
ATTACH;FMTTYPE=image/jpeg:https://gwentmc.club/wp-content/uploads/2022/12/event-indoorclimbing-2.jpg
END:VEVENT
BEGIN:VEVENT
DTSTART;TZID=Europe/London:20260305T200000
DTEND;TZID=Europe/London:20260305T213000
DTSTAMP:20260422T090827
CREATED:20260205T174006Z
LAST-MODIFIED:20260205T174006Z
UID:10000979-1772740800-1772746200@gwentmc.club
SUMMARY:Talk: Oberland Traverse Glacier Trek
DESCRIPTION:Join Jon & friends for this talk on the Oberland Traverse Glacier Trek.
URL:https://gwentmc.club/event/talk-oberland-traverse-glacier-trek/
LOCATION:Goytre Village Hall (GVH)\, Newtown Road\, Penperlleni\, Pontypool\, NP4 0AW\, United Kingdom
CATEGORIES:Goytre Village Hall,Indoor
GEO:51.73642;-2.9802108
X-APPLE-STRUCTURED-LOCATION;VALUE=URI;X-ADDRESS=Goytre Village Hall (GVH) Newtown Road Penperlleni Pontypool NP4 0AW United Kingdom;X-APPLE-RADIUS=500;X-TITLE=Newtown Road\, Penperlleni:geo:-2.9802108,51.73642
END:VEVENT
BEGIN:VEVENT
DTSTART;TZID=Europe/London:20260311T180000
DTEND;TZID=Europe/London:20260318T213000
DTSTAMP:20260422T090827
CREATED:20250909T200123Z
LAST-MODIFIED:20260315T154450Z
UID:10000937-1773252000-1773869400@gwentmc.club
SUMMARY:Indoor climb: Every Wednesday (September - March)
DESCRIPTION:Join us every Wednesday from 6pm for indoor climbing over the winter months from September through to the end of March 2026. There is a choice of 2 climbing venues so we hope to see you at one of them! \nBoulders Cardiff\, St. Catherines Park\, Cardiff\, CF24 2RZ \nThe Summit Centre\, The Old Drift Mine Trelewis\, Treharris South Wales\, CF46 6RD
URL:https://gwentmc.club/event/indoor-climb-every-wednesday-september-march/2026-03-11/
LOCATION:Summit Centre\, Trelewis\, The Old Drift Mine Trelewis\, Treharris\, CF46 6RD
CATEGORIES:Climbing wall,Indoor,Wednesday climbing
ATTACH;FMTTYPE=image/jpeg:https://gwentmc.club/wp-content/uploads/2022/12/event-indoorclimbing-2.jpg
END:VEVENT
BEGIN:VEVENT
DTSTART;TZID=Europe/London:20260315T090000
DTEND;TZID=Europe/London:20260315T180000
DTSTAMP:20260422T090827
CREATED:20260205T182431Z
LAST-MODIFIED:20260205T182431Z
UID:10000981-1773565200-1773597600@gwentmc.club
SUMMARY:Indoor climb: '50@50' climbing special! Celebrating 50 years of Gwentmc
DESCRIPTION:Kicking off the first of our 50@50 GMC celebrations with an indoor climb event! \nAs part of the Club’s 50 year celebration Mick Learoyd and Haydn Griffiths are planning a “full” days climbing at Boulders on the 15th March 2026. The plan is to make an early start and for each pair to climb 50 routes or for the 50 to be shared between team members ie. climbing 25 each. The climbs can be led\, seconded\, top roped or made using the self belay equipment\, they can be any grade and repeats are allowed. You will need to team up with another club member\, both be competent belayers and have passed Boulders roped climbing entrance test. \nNormal entry fees apply. Contact Haydn if you want to take part (see WhatsApp chat for full details).
URL:https://gwentmc.club/event/indoor-climb-5050-climbing-special-celebrating-50-years-of-gwentmc/
LOCATION:Boulders\, Cardiff\, St. Catherines Park\, Pengam Road\, Cardiff\, CF24 2RZ
CATEGORIES:Climbing wall,Indoor,Weekend climbing
END:VEVENT
BEGIN:VEVENT
DTSTART;TZID=Europe/London:20260318T180000
DTEND;TZID=Europe/London:20260325T213000
DTSTAMP:20260422T090827
CREATED:20250909T200123Z
LAST-MODIFIED:20260315T154450Z
UID:10000938-1773856800-1774474200@gwentmc.club
SUMMARY:Indoor climb: Every Wednesday (September - March)
DESCRIPTION:Join us every Wednesday from 6pm for indoor climbing over the winter months from September through to the end of March 2026. There is a choice of 2 climbing venues so we hope to see you at one of them! \nBoulders Cardiff\, St. Catherines Park\, Cardiff\, CF24 2RZ \nThe Summit Centre\, The Old Drift Mine Trelewis\, Treharris South Wales\, CF46 6RD
URL:https://gwentmc.club/event/indoor-climb-every-wednesday-september-march/2026-03-18/
LOCATION:Summit Centre\, Trelewis\, The Old Drift Mine Trelewis\, Treharris\, CF46 6RD
CATEGORIES:Climbing wall,Indoor,Wednesday climbing
ATTACH;FMTTYPE=image/jpeg:https://gwentmc.club/wp-content/uploads/2022/12/event-indoorclimbing-2.jpg
END:VEVENT
BEGIN:VEVENT
DTSTART;TZID=Europe/London:20260319T200000
DTEND;TZID=Europe/London:20260319T213000
DTSTAMP:20260422T090827
CREATED:20260205T174401Z
LAST-MODIFIED:20260206T180602Z
UID:10000980-1773950400-1773955800@gwentmc.club
SUMMARY:Talk: The Icarus Ascent: Ghosts of the Matterhorn
DESCRIPTION:Invited guest speaker Mike Lewis will talk about the The Icarus Ascent: Ghosts of the Matterhorn: \nSeven men\, seven stories\, one mountain … \nJuly 14\, 1865: Seven men stand atop the Matterhorn\, Switzerland’s most famous peak. Led by Englishman Edward Whymper\, they have beaten a rival Italian party to attain the summit of ‘The Impossible Mountain’. Triumph turns to disaster on the descent when young Douglas Hadow\, the novice of the party\, slips and drags the Rev Charles Hudson\, Lord Francis Douglas and guide Michel Croz 4\,000 feet to their deaths. At least that is the conclusion of the official inquiry … The three left\, Whymper and the father-and-son guiding team of old Peter and young Peter Taugwalder\, only survive because the rope broke in mid-air between old Peter and Lord Douglas. \nThe fall on the Matterhorn remains the most notorious mountaineering tragedy of all; grisly speculation as to why the rope broke – or even whether it was cut – persists to this day. \n‘The Icarus Ascent’\, a new historical fiction novel by long-time journalist Mike Lewis uniquely allows those seven men\, including the four who were lost\, the opportunity to relate their stories in the first person – from beyond the grave. Based on true events in the countdown to tragedy\, The Icarus Ascent tells of a tarnished prize; how safety\, diligence and prudence were sacrificed in the pursuit of glory and how one moment of ill-luck ruined lives and reputations. \n 
URL:https://gwentmc.club/event/talk-the-icarus-ascent-ghosts-of-the-matterhorn/
LOCATION:Goytre Village Hall (GVH)\, Newtown Road\, Penperlleni\, Pontypool\, NP4 0AW\, United Kingdom
CATEGORIES:Indoor,Talk
ATTACH;FMTTYPE=image/jpeg:https://gwentmc.club/wp-content/uploads/2026/02/The-Icarus-Ascent-scaled.jpg
GEO:51.73642;-2.9802108
X-APPLE-STRUCTURED-LOCATION;VALUE=URI;X-ADDRESS=Goytre Village Hall (GVH) Newtown Road Penperlleni Pontypool NP4 0AW United Kingdom;X-APPLE-RADIUS=500;X-TITLE=Newtown Road\, Penperlleni:geo:-2.9802108,51.73642
END:VEVENT
BEGIN:VEVENT
DTSTART;TZID=Europe/London:20260325T180000
DTEND;TZID=Europe/London:20260401T223000
DTSTAMP:20260422T090827
CREATED:20250909T200123Z
LAST-MODIFIED:20260315T154450Z
UID:10000939-1774461600-1775082600@gwentmc.club
SUMMARY:Indoor climb: Every Wednesday (September - March)
DESCRIPTION:Join us every Wednesday from 6pm for indoor climbing over the winter months from September through to the end of March 2026. There is a choice of 2 climbing venues so we hope to see you at one of them! \nBoulders Cardiff\, St. Catherines Park\, Cardiff\, CF24 2RZ \nThe Summit Centre\, The Old Drift Mine Trelewis\, Treharris South Wales\, CF46 6RD
URL:https://gwentmc.club/event/indoor-climb-every-wednesday-september-march/2026-03-25/
LOCATION:Summit Centre\, Trelewis\, The Old Drift Mine Trelewis\, Treharris\, CF46 6RD
CATEGORIES:Climbing wall,Indoor,Wednesday climbing
ATTACH;FMTTYPE=image/jpeg:https://gwentmc.club/wp-content/uploads/2022/12/event-indoorclimbing-2.jpg
END:VEVENT
END:VCALENDAR