BEGIN:VCALENDAR
VERSION:2.0
PRODID:-//Gwent Mountaineering Club - ECPv6.15.20//NONSGML v1.0//EN
CALSCALE:GREGORIAN
METHOD:PUBLISH
X-ORIGINAL-URL:https://gwentmc.club
X-WR-CALDESC:Events for Gwent Mountaineering Club
REFRESH-INTERVAL;VALUE=DURATION:PT1H
X-Robots-Tag:noindex
X-PUBLISHED-TTL:PT1H
BEGIN:VTIMEZONE
TZID:Europe/London
BEGIN:DAYLIGHT
TZOFFSETFROM:+0000
TZOFFSETTO:+0100
TZNAME:BST
DTSTART:20230326T010000
END:DAYLIGHT
BEGIN:STANDARD
TZOFFSETFROM:+0100
TZOFFSETTO:+0000
TZNAME:GMT
DTSTART:20231029T010000
END:STANDARD
BEGIN:DAYLIGHT
TZOFFSETFROM:+0000
TZOFFSETTO:+0100
TZNAME:BST
DTSTART:20240331T010000
END:DAYLIGHT
BEGIN:STANDARD
TZOFFSETFROM:+0100
TZOFFSETTO:+0000
TZNAME:GMT
DTSTART:20241027T010000
END:STANDARD
BEGIN:DAYLIGHT
TZOFFSETFROM:+0000
TZOFFSETTO:+0100
TZNAME:BST
DTSTART:20250330T010000
END:DAYLIGHT
BEGIN:STANDARD
TZOFFSETFROM:+0100
TZOFFSETTO:+0000
TZNAME:GMT
DTSTART:20251026T010000
END:STANDARD
END:VTIMEZONE
BEGIN:VEVENT
DTSTART;TZID=Europe/London:20240403T180000
DTEND;TZID=Europe/London:20240403T210000
DTSTAMP:20260419T201323
CREATED:20240226T201528Z
LAST-MODIFIED:20240226T201528Z
UID:10000324-1712167200-1712178000@gwentmc.club
SUMMARY:Indoor climb
DESCRIPTION:Wednesday evening climbing at The Summit Centre\, Trelewis starting at 6pm.
URL:https://gwentmc.club/event/indoor-climb_03-04-2024/
LOCATION:Summit Centre\, Trelewis\, The Old Drift Mine Trelewis\, Treharris\, CF46 6RD
CATEGORIES:Climbing wall,Indoor,Rock climbing,Wednesday climbing
ATTACH;FMTTYPE=image/jpeg:https://gwentmc.club/wp-content/uploads/2022/12/event-indoorclimbing-2.jpg
END:VEVENT
END:VCALENDAR