BEGIN:VCALENDAR
VERSION:2.0
PRODID:-//Gwent Mountaineering Club - ECPv6.15.20//NONSGML v1.0//EN
CALSCALE:GREGORIAN
METHOD:PUBLISH
X-ORIGINAL-URL:https://gwentmc.club
X-WR-CALDESC:Events for Gwent Mountaineering Club
REFRESH-INTERVAL;VALUE=DURATION:PT1H
X-Robots-Tag:noindex
X-PUBLISHED-TTL:PT1H
BEGIN:VTIMEZONE
TZID:Europe/London
BEGIN:DAYLIGHT
TZOFFSETFROM:+0000
TZOFFSETTO:+0100
TZNAME:BST
DTSTART:20230326T010000
END:DAYLIGHT
BEGIN:STANDARD
TZOFFSETFROM:+0100
TZOFFSETTO:+0000
TZNAME:GMT
DTSTART:20231029T010000
END:STANDARD
BEGIN:DAYLIGHT
TZOFFSETFROM:+0000
TZOFFSETTO:+0100
TZNAME:BST
DTSTART:20240331T010000
END:DAYLIGHT
BEGIN:STANDARD
TZOFFSETFROM:+0100
TZOFFSETTO:+0000
TZNAME:GMT
DTSTART:20241027T010000
END:STANDARD
BEGIN:DAYLIGHT
TZOFFSETFROM:+0000
TZOFFSETTO:+0100
TZNAME:BST
DTSTART:20250330T010000
END:DAYLIGHT
BEGIN:STANDARD
TZOFFSETFROM:+0100
TZOFFSETTO:+0000
TZNAME:GMT
DTSTART:20251026T010000
END:STANDARD
END:VTIMEZONE
BEGIN:VEVENT
DTSTART;TZID=Europe/London:20240111T190000
DTEND;TZID=Europe/London:20240111T220000
DTSTAMP:20260421T211841
CREATED:20230924T140355Z
LAST-MODIFIED:20240108T212212Z
UID:10000274-1704999600-1705010400@gwentmc.club
SUMMARY:Walk: Gray Hill. 6.5km/4miles\, 212m/700ft ascent (Easy)
DESCRIPTION:A circular walk of 6.5km/4miles\, 220m/670ft ascent over and around Gray Hill with beautiful views across the River Severn\, on a clear night! \nWe’ll start at 7pm from the Forester Oak Car Park. OL14 Explorer Map\, grid reference ST 428938. Don’t forget your head torch! \nRock & Fountain pub for a social beverage after. \n  \n 
URL:https://gwentmc.club/event/walk-gray-hill_11jan2024/
CATEGORIES:Hiking/walking,Thursday evening walks
ATTACH;FMTTYPE=image/png:https://gwentmc.club/wp-content/uploads/2023/09/image_11.01.2024.png
END:VEVENT
END:VCALENDAR