BEGIN:VCALENDAR
VERSION:2.0
PRODID:-//Gwent Mountaineering Club - ECPv6.15.20//NONSGML v1.0//EN
CALSCALE:GREGORIAN
METHOD:PUBLISH
X-ORIGINAL-URL:https://gwentmc.club
X-WR-CALDESC:Events for Gwent Mountaineering Club
REFRESH-INTERVAL;VALUE=DURATION:PT1H
X-Robots-Tag:noindex
X-PUBLISHED-TTL:PT1H
BEGIN:VTIMEZONE
TZID:Europe/London
BEGIN:DAYLIGHT
TZOFFSETFROM:+0000
TZOFFSETTO:+0100
TZNAME:BST
DTSTART:20220327T010000
END:DAYLIGHT
BEGIN:STANDARD
TZOFFSETFROM:+0100
TZOFFSETTO:+0000
TZNAME:GMT
DTSTART:20221030T010000
END:STANDARD
BEGIN:DAYLIGHT
TZOFFSETFROM:+0000
TZOFFSETTO:+0100
TZNAME:BST
DTSTART:20230326T010000
END:DAYLIGHT
BEGIN:STANDARD
TZOFFSETFROM:+0100
TZOFFSETTO:+0000
TZNAME:GMT
DTSTART:20231029T010000
END:STANDARD
BEGIN:DAYLIGHT
TZOFFSETFROM:+0000
TZOFFSETTO:+0100
TZNAME:BST
DTSTART:20240331T010000
END:DAYLIGHT
BEGIN:STANDARD
TZOFFSETFROM:+0100
TZOFFSETTO:+0000
TZNAME:GMT
DTSTART:20241027T010000
END:STANDARD
END:VTIMEZONE
BEGIN:VEVENT
DTSTART;TZID=Europe/London:20230907T190000
DTEND;TZID=Europe/London:20230907T220000
DTSTAMP:20260422T043133
CREATED:20230530T144736Z
LAST-MODIFIED:20230530T144736Z
UID:10000245-1694113200-1694124000@gwentmc.club
SUMMARY:Evening walk: Fan Fawr navigation
DESCRIPTION:An evening walk on Fan Fawr with opportunity to practice navigation skills. \nStart: Storey Arms car park. OS Explorer map OL12\, grid reference SN982202. \nPub: Nant Ddu Lodge\, grid reference SO004147.
URL:https://gwentmc.club/event/evening-walk-fan-fawr-navigation/
CATEGORIES:Hiking/walking,Thursday evening walks
END:VEVENT
BEGIN:VEVENT
DTSTART;TZID=Europe/London:20230914T190000
DTEND;TZID=Europe/London:20230914T220000
DTSTAMP:20260422T043133
CREATED:20230530T145141Z
LAST-MODIFIED:20230530T145141Z
UID:10000246-1694718000-1694728800@gwentmc.club
SUMMARY:Evening walk: Skirrid Fach
DESCRIPTION:An evening walk on to Skirrid Fach. \nStart: Car park at Abergavenny bus station. OS Explorer map OL13\, grid reference SO301140. \nPub: Kings Arms\, Nevill Street\, Abergavenny NP7 5AA.
URL:https://gwentmc.club/event/evening-walk-skirrid-fach/
CATEGORIES:Hiking/walking,Thursday evening walks
END:VEVENT
BEGIN:VEVENT
DTSTART;TZID=Europe/London:20230921T183000
DTEND;TZID=Europe/London:20230921T220000
DTSTAMP:20260422T043133
CREATED:20230530T145250Z
LAST-MODIFIED:20230904T172735Z
UID:10000247-1695321000-1695333600@gwentmc.club
SUMMARY:Evening walk: The River Severn Estuary\, 14km/8.7 miles\, no/minimal ascent. (Easy)
DESCRIPTION:An easy but slightly longer evening walk than usual – 14Km/8.7miles. Beginning at 18:30\, allows to view the ‘coastline’\, ‘Severn bridge’\, ‘fairy lights’ and some other special aspects both during the daylight and in the dark. The walk is almost completely flat with no/minimal ascent. \nStart: 18:30 (Note\, this is an earlier start time than usual) at the Black Rock Picnic Area\, Portskewett. OS Explorer Map 154\, grid reference ST512880. \nSatnav coordinates:\nLatitude\, Longitude (decimal)\n51.589543\, -2.7047905\nLatitude\, Longitude (degs\, mins\, secs)\n51°35′22″N\, 002°42′17″W \nPub: To be announced.
URL:https://gwentmc.club/event/evening-walk-river-severn-estuary/
CATEGORIES:Hiking/walking,Thursday evening walks
ATTACH;FMTTYPE=image/jpeg:https://gwentmc.club/wp-content/uploads/2023/05/walk-blackrock-geograph-5593365.jpg
END:VEVENT
BEGIN:VEVENT
DTSTART;TZID=Europe/London:20230928T190000
DTEND;TZID=Europe/London:20230928T220000
DTSTAMP:20260422T043133
CREATED:20230530T150123Z
LAST-MODIFIED:20230926T175723Z
UID:10000248-1695927600-1695938400@gwentmc.club
SUMMARY:Evening walk: Usk circuit via Cefn Isla. 4.5miles/7.2km\, 182m/600ft ascent
DESCRIPTION:An evening walk – Usk circuit via Cefn Isla. \nStart: Llanbadoc Island car park (behind St.Madoc’s Church\, Llanbadoc) OS Explorer Map 152\, grid reference SO376000. \nHead torches essential. \nPub: The Kings Head\, Usk.
URL:https://gwentmc.club/event/evening-walk-usk-circuit-via-cefn-isla/
CATEGORIES:Hiking/walking,Thursday evening walks
END:VEVENT
END:VCALENDAR