BEGIN:VCALENDAR
VERSION:2.0
PRODID:-//Gwent Mountaineering Club - ECPv6.15.20//NONSGML v1.0//EN
CALSCALE:GREGORIAN
METHOD:PUBLISH
X-ORIGINAL-URL:https://gwentmc.club
X-WR-CALDESC:Events for Gwent Mountaineering Club
REFRESH-INTERVAL;VALUE=DURATION:PT1H
X-Robots-Tag:noindex
X-PUBLISHED-TTL:PT1H
BEGIN:VTIMEZONE
TZID:Europe/London
BEGIN:DAYLIGHT
TZOFFSETFROM:+0000
TZOFFSETTO:+0100
TZNAME:BST
DTSTART:20220327T010000
END:DAYLIGHT
BEGIN:STANDARD
TZOFFSETFROM:+0100
TZOFFSETTO:+0000
TZNAME:GMT
DTSTART:20221030T010000
END:STANDARD
BEGIN:DAYLIGHT
TZOFFSETFROM:+0000
TZOFFSETTO:+0100
TZNAME:BST
DTSTART:20230326T010000
END:DAYLIGHT
BEGIN:STANDARD
TZOFFSETFROM:+0100
TZOFFSETTO:+0000
TZNAME:GMT
DTSTART:20231029T010000
END:STANDARD
BEGIN:DAYLIGHT
TZOFFSETFROM:+0000
TZOFFSETTO:+0100
TZNAME:BST
DTSTART:20240331T010000
END:DAYLIGHT
BEGIN:STANDARD
TZOFFSETFROM:+0100
TZOFFSETTO:+0000
TZNAME:GMT
DTSTART:20241027T010000
END:STANDARD
END:VTIMEZONE
BEGIN:VEVENT
DTSTART;TZID=Europe/London:20230706T190000
DTEND;TZID=Europe/London:20230706T220000
DTSTAMP:20260422T081256
CREATED:20230529T181826Z
LAST-MODIFIED:20230622T073625Z
UID:10000208-1688670000-1688680800@gwentmc.club
SUMMARY:Evening Walk: Talybont
DESCRIPTION:Fields and forests\, streams and sunshine\, but the highlight is definitely the prize (pint and crisps) for spotting where the Folk from the Far Away Tree live.\nEnjoy the stunning views along the Usk Valley Walk from Talybont and walk back via the canal from Pencelli\, and enjoy a drink in the garden of the White Hart.\nA few stiles\, but most (not all) have gates you can open alongside. Long sleeve shirt and trousers recommended (a few brambles but mainly horse flies). \nStart: Meet outside Talybont Post Office/Shop (grid reference SO113227\, Map OS Explorer OL13).\nYou can park on the street for free or at the Village Hall\, for which there is a charge of £3. \nPub: The White Hart
URL:https://gwentmc.club/event/evening-walk-tbc/
CATEGORIES:Hiking/walking,Thursday evening walks
ATTACH;FMTTYPE=image/jpeg:https://gwentmc.club/wp-content/uploads/2023/05/walk-usk-valley-06jul2023-geograph-6834431.jpg
END:VEVENT
BEGIN:VEVENT
DTSTART;TZID=Europe/London:20230713T190000
DTEND;TZID=Europe/London:20230713T220000
DTSTAMP:20260422T081256
CREATED:20230529T182051Z
LAST-MODIFIED:20240828T153855Z
UID:10000209-1689274800-1689285600@gwentmc.club
SUMMARY:Evening Walk: Glanusk
DESCRIPTION:The walk is through the Glanusk Estate. \nStart: 7pm. Crickhowell Main Car Park\, Beaufort Street. Map OL13/161\, grid reference SO218183. \nPub: The Bear\, Crickhowell.
URL:https://gwentmc.club/event/evening-walk-glanusk/
LOCATION:Crickhowell\, Beaufort Street (main) car park
CATEGORIES:Hiking/walking,Thursday evening walks
ATTACH;FMTTYPE=image/jpeg:https://gwentmc.club/wp-content/uploads/2023/05/walk-13jul2023-glanusk-geograph-4444350.jpg
GEO:51.858544;-3.1356384
END:VEVENT
BEGIN:VEVENT
DTSTART;TZID=Europe/London:20230720T190000
DTEND;TZID=Europe/London:20230720T220000
DTSTAMP:20260422T081256
CREATED:20230529T182532Z
LAST-MODIFIED:20230715T145851Z
UID:10000210-1689879600-1689890400@gwentmc.club
SUMMARY:Evening Walk: Edmund's Tump
DESCRIPTION:We will aim to reach the trig point at Edmund’s Tump at 423m. This is a higher point than Twmbarlwm Mountain. \nStart: Meet at Grosmont Village. OS Explorer map 189\, grid reference SO404244. On-street car parking only. \nPub: The Angel\, Grosmont.
URL:https://gwentmc.club/event/evening-walk-tor-y-foel/
CATEGORIES:Hiking/walking,Thursday evening walks
ATTACH;FMTTYPE=image/jpeg:https://gwentmc.club/wp-content/uploads/2023/05/20July2023-edmundstump-geograph-2752012.jpg
END:VEVENT
BEGIN:VEVENT
DTSTART;TZID=Europe/London:20230727T190000
DTEND;TZID=Europe/London:20230727T220000
DTSTAMP:20260422T081256
CREATED:20230529T182913Z
LAST-MODIFIED:20230529T182913Z
UID:10000211-1690484400-1690495200@gwentmc.club
SUMMARY:Evening Walk: Skirrid
DESCRIPTION:Title: Skirrid \nStart: Car park on B4521 OL13 329 164 \nPub: tbc
URL:https://gwentmc.club/event/evening-walk-skirrid/
LOCATION:Car Park on B4521
CATEGORIES:Hiking/walking,Thursday evening walks
END:VEVENT
END:VCALENDAR