BEGIN:VCALENDAR
VERSION:2.0
PRODID:-//Gwent Mountaineering Club - ECPv6.15.20//NONSGML v1.0//EN
CALSCALE:GREGORIAN
METHOD:PUBLISH
X-ORIGINAL-URL:https://gwentmc.club
X-WR-CALDESC:Events for Gwent Mountaineering Club
REFRESH-INTERVAL;VALUE=DURATION:PT1H
X-Robots-Tag:noindex
X-PUBLISHED-TTL:PT1H
BEGIN:VTIMEZONE
TZID:Europe/London
BEGIN:DAYLIGHT
TZOFFSETFROM:+0000
TZOFFSETTO:+0100
TZNAME:BST
DTSTART:20250330T010000
END:DAYLIGHT
BEGIN:STANDARD
TZOFFSETFROM:+0100
TZOFFSETTO:+0000
TZNAME:GMT
DTSTART:20251026T010000
END:STANDARD
BEGIN:DAYLIGHT
TZOFFSETFROM:+0000
TZOFFSETTO:+0100
TZNAME:BST
DTSTART:20260329T010000
END:DAYLIGHT
BEGIN:STANDARD
TZOFFSETFROM:+0100
TZOFFSETTO:+0000
TZNAME:GMT
DTSTART:20261025T010000
END:STANDARD
BEGIN:DAYLIGHT
TZOFFSETFROM:+0000
TZOFFSETTO:+0100
TZNAME:BST
DTSTART:20270328T010000
END:DAYLIGHT
BEGIN:STANDARD
TZOFFSETFROM:+0100
TZOFFSETTO:+0000
TZNAME:GMT
DTSTART:20271031T010000
END:STANDARD
END:VTIMEZONE
BEGIN:VEVENT
DTSTART;TZID=Europe/London:20260104T090000
DTEND;TZID=Europe/London:20260104T170000
DTSTAMP:20260422T180811
CREATED:20251020T072713Z
LAST-MODIFIED:20251203T200403Z
UID:10000959-1767517200-1767546000@gwentmc.club
SUMMARY:Walk: Corn Du & Fan Fawr Circuit. 20km/12.5 miles\, 1100m/3600feet of ascent (Hard)
DESCRIPTION:Kay is taking us on this hard graded Corn Du & Fan Fawr Circuit walk . Starting from Craig Cerrig Gleisiad\, over to Corn Du & back around via Fan Fawr. 20km/12.5 miles\, 1100m/3600feet of ascent. \nStart at the layby at Craig Cerrig Gleisiad nature reserve. OS Explorer Map OL12 grid reference SN 972 221. 9am start. Head torches essential. \nFor your safety and the safety of other members\, we advise minimum personal equipment requirements for all our walks.
URL:https://gwentmc.club/event/walk-around-the-a470-20km-12-5-miles-1100m-3600feet-of-ascent-hard/
CATEGORIES:Hiking/walking,Sunday walks
ATTACH;FMTTYPE=image/jpeg:https://gwentmc.club/wp-content/uploads/2025/10/Fan-Fawr_04.01.2026-scaled.jpg
END:VEVENT
BEGIN:VEVENT
DTSTART;TZID=Europe/London:20260111T100000
DTEND;TZID=Europe/London:20260111T170000
DTSTAMP:20260422T180811
CREATED:20251223T130919Z
LAST-MODIFIED:20251230T191935Z
UID:10000973-1768125600-1768150800@gwentmc.club
SUMMARY:Walk: Wentwood Forest. 15km/9miles (Easy/Moderate)
DESCRIPTION:Join Annemarie for this Easy-Moderate graded walk around the Wentwood Forest area. Further details will follow in the email and WhatsApp info shared a week prior to the walk. \nStart at 10am from Foresters Oaks carpark. OL14 Explorer Map\, grid reference ST428939. \nFor your safety and the safety of other members\, we advise minimum personal equipment requirements for all our walks.
URL:https://gwentmc.club/event/walk-wentwood-forest-easy-moderate_11-01-2026/
CATEGORIES:Hiking/walking,Sunday walks
ATTACH;FMTTYPE=image/jpeg:https://gwentmc.club/wp-content/uploads/2025/12/11-Jan-2026.jpg
END:VEVENT
BEGIN:VEVENT
DTSTART;TZID=Europe/London:20260118T093000
DTEND;TZID=Europe/London:20260118T170000
DTSTAMP:20260422T180811
CREATED:20260113T191016Z
LAST-MODIFIED:20260113T191041Z
UID:10000975-1768728600-1768755600@gwentmc.club
SUMMARY:Walk: Possible Talybont circuit (email will follow if going ahead*)
DESCRIPTION:*Potential late addition to the walk programme. This walk may or may not go ahead so please check emails and the walk WhatsApp group for information and details nearer to the time. \nFor your safety and the safety of other members\, we advise minimum personal equipment requirements for all our walks.
URL:https://gwentmc.club/event/walk-possible-talybont-circuit-email-to-follow-if-going-ahead/
CATEGORIES:Hiking/walking,Sunday walks,To be announced
END:VEVENT
BEGIN:VEVENT
DTSTART;TZID=Europe/London:20260125T100000
DTEND;TZID=Europe/London:20260125T170000
DTSTAMP:20260422T180811
CREATED:20251113T202542Z
LAST-MODIFIED:20251218T203631Z
UID:10000960-1769335200-1769360400@gwentmc.club
SUMMARY:Walk: Senghenydd Circular Walk\, 13-18km/8-11.25miles\, 804-1814ft/245-553m ascent (Moderate)
DESCRIPTION:Join Tom on this Senghenydd Circular Walk which offers both a shorter and longer distance option walk. The shorter distance walk is 8 miles with 245 metres of ascent. The longer distance walk is 11.25 miles with 553 metres of ascent. \nOS Explorer Map 166\, grid reference ST11459066.\nFor your safety and the safety of other members\, we advise minimum personal equipment requirements for all our walks.
URL:https://gwentmc.club/event/walk-senghenydd-circular-walk_25-01-2026/
CATEGORIES:Hiking/walking,Sunday walks
ATTACH;FMTTYPE=image/jpeg:https://gwentmc.club/wp-content/uploads/2025/11/25.01.2026_Senghenydd-scaled.jpg
END:VEVENT
END:VCALENDAR