BEGIN:VCALENDAR
VERSION:2.0
PRODID:-//Gwent Mountaineering Club - ECPv6.15.20//NONSGML v1.0//EN
CALSCALE:GREGORIAN
METHOD:PUBLISH
X-ORIGINAL-URL:https://gwentmc.club
X-WR-CALDESC:Events for Gwent Mountaineering Club
REFRESH-INTERVAL;VALUE=DURATION:PT1H
X-Robots-Tag:noindex
X-PUBLISHED-TTL:PT1H
BEGIN:VTIMEZONE
TZID:Europe/London
BEGIN:DAYLIGHT
TZOFFSETFROM:+0000
TZOFFSETTO:+0100
TZNAME:BST
DTSTART:20240331T010000
END:DAYLIGHT
BEGIN:STANDARD
TZOFFSETFROM:+0100
TZOFFSETTO:+0000
TZNAME:GMT
DTSTART:20241027T010000
END:STANDARD
BEGIN:DAYLIGHT
TZOFFSETFROM:+0000
TZOFFSETTO:+0100
TZNAME:BST
DTSTART:20250330T010000
END:DAYLIGHT
BEGIN:STANDARD
TZOFFSETFROM:+0100
TZOFFSETTO:+0000
TZNAME:GMT
DTSTART:20251026T010000
END:STANDARD
BEGIN:DAYLIGHT
TZOFFSETFROM:+0000
TZOFFSETTO:+0100
TZNAME:BST
DTSTART:20260329T010000
END:DAYLIGHT
BEGIN:STANDARD
TZOFFSETFROM:+0100
TZOFFSETTO:+0000
TZNAME:GMT
DTSTART:20261025T010000
END:STANDARD
END:VTIMEZONE
BEGIN:VEVENT
DTSTART;TZID=Europe/London:20251005T090000
DTEND;TZID=Europe/London:20251005T190000
DTSTAMP:20260422T223441
CREATED:20250615T125931Z
LAST-MODIFIED:20250904T183302Z
UID:10000841-1759654800-1759690800@gwentmc.club
SUMMARY:Walk: Long circuit of the Black Mountains. 33km/20.5miles\, 1197m/3950feet ascent (Hard/Challenge)
DESCRIPTION:Join Courtney for this long circuit of the Black Mountains from Llanthony Priory covering 33km/20.5miles with 1197m/3950feet ascent.\nInitially tough underfoot with 2 steep ascents and 1 descent to take in Waun Fach\, Twmpa & Hay Bluff before returning to the start via Offa’s Dyke Path. \nThis is likely to be a 10-11 hour day so bring plenty of food\, water & head torches. \nStart 9am. Llanthony Priory Car park OS Explorer Map OL13\, grid reference SO289278. \nFor your safety and the safety of other members\, we advise minimum personal equipment requirements for all our walks.
URL:https://gwentmc.club/event/walk-long-circuit-of-the-black-mountains-33km-20-5miles-1197m-3950feet-ascent-hard-challenge/
LOCATION:LLanthony Priory Car Park
CATEGORIES:Hiking/walking,Sunday walks
ATTACH;FMTTYPE=image/jpeg:https://gwentmc.club/wp-content/uploads/2023/08/walk-10sep2023-haybluff.jpg
END:VEVENT
BEGIN:VEVENT
DTSTART;TZID=Europe/London:20251012T100000
DTEND;TZID=Europe/London:20251012T170000
DTSTAMP:20260422T223441
CREATED:20251007T134734Z
LAST-MODIFIED:20251007T134734Z
UID:10000951-1760263200-1760288400@gwentmc.club
SUMMARY:Walk: Black Hill and Hay Bluff\, 16km/10miles\, 500m/1\,640ft (Easy)
DESCRIPTION:Starting from the Cat’s Back Car Park\, this is an easy walk of 16km/10miles with around 500m/1\,640feet of ascent. After ascending Black Hill\, the walk proceeds to Hay Bluff and returns by taking in part of the Offa’s Dyke path. \nPlease tell Havard if you intend coming. \nStart 10am. Cat’s Back Car Park\, OS Explorer Map OL13 Grid reference SO 288 329. \nFor your safety and the safety of other members\, we advise minimum personal equipment requirements for all our walks. \n 
URL:https://gwentmc.club/event/walk-black-hill-and-hay-bluff-16km-10miles-500m-1640ft-easy/
LOCATION:Cat’s Back / Black Hill Car Park
CATEGORIES:Hiking/walking,Sunday walks
GEO:51.989568;-3.0378666
END:VEVENT
BEGIN:VEVENT
DTSTART;TZID=Europe/London:20251019T093000
DTEND;TZID=Europe/London:20251019T170000
DTSTAMP:20260422T223441
CREATED:20250904T183625Z
LAST-MODIFIED:20251007T185400Z
UID:10000881-1760866200-1760893200@gwentmc.club
SUMMARY:Walk: Ystradfellte & Fan Frynych\, 25km/16miles\, 600m/2000ft ascent (Hard)
DESCRIPTION:Join Mark for this Ystradfellte & Fan Frynych walk of 25km/16miles with 600m/2000 feet of ascent.\nTaking a route to Carnau Gwynion\, Sarn Helen\, Cwm Du & Fan Frynych before returning south via Fan Llia and through fields to the start. \nStart time 9.30am. Meet at Ystradfellte village car park. OS Explorer Map OL12\, grid reference SN 929134. \nFor your safety and the safety of other members\, we advise minimum personal equipment requirements for all our walks.
URL:https://gwentmc.club/event/walk-ystradfellte-fan-frynych-24km-15miles_19-10-2025/
LOCATION:Ystradfellte\, village car park
CATEGORIES:Hiking/walking,Sunday walks
ATTACH;FMTTYPE=image/jpeg:https://gwentmc.club/wp-content/uploads/2025/09/Fan-Frynych_19.10.2025-scaled.jpg
GEO:51.809364;-3.5540208
END:VEVENT
BEGIN:VEVENT
DTSTART;TZID=Europe/London:20251026T093000
DTEND;TZID=Europe/London:20251026T170000
DTSTAMP:20260422T223441
CREATED:20251020T072202Z
LAST-MODIFIED:20251021T191133Z
UID:10000958-1761471000-1761498000@gwentmc.club
SUMMARY:Walk: Southern Wye Valley\, 21km/13miles\, 850m/2800ft ascent (Moderate)
DESCRIPTION:Around the southern end of the Wye Valley. We start in Chepstow. Via a series of well-known and lesser-known paths we make our way to Tintern\, returning to the start on the west side of the river Wye Valley footpath. Paths are mostly good\, but steep in places. \nStart at 9.30am\, meeting at Drill Hall carpark (GR; ST 536 941)\, off Lower Church St. You will need to follow the one-way system through Chepstow. Small charge for car parking £1.30 at Drill Hall or over £6 at other car parks.\n21km/13miles with 850m/2800feet of ascent. \nNote BST ends. Headtorches required. \nFor your safety and the safety of other members\, we advise minimum personal equipment requirements for all our walks.
URL:https://gwentmc.club/event/walk-southern-wye_26-10-2025/
CATEGORIES:Hiking/walking,Sunday walks,To be announced
ATTACH;FMTTYPE=image/jpeg:https://gwentmc.club/wp-content/uploads/2025/10/Tutshill-cycle-track-and-tunnel_28.10.2025-scaled.jpg
END:VEVENT
END:VCALENDAR