BEGIN:VCALENDAR
VERSION:2.0
PRODID:-//Gwent Mountaineering Club - ECPv6.15.20//NONSGML v1.0//EN
CALSCALE:GREGORIAN
METHOD:PUBLISH
X-WR-CALNAME:Gwent Mountaineering Club
X-ORIGINAL-URL:https://gwentmc.club
X-WR-CALDESC:Events for Gwent Mountaineering Club
REFRESH-INTERVAL;VALUE=DURATION:PT1H
X-Robots-Tag:noindex
X-PUBLISHED-TTL:PT1H
BEGIN:VTIMEZONE
TZID:Europe/London
BEGIN:DAYLIGHT
TZOFFSETFROM:+0000
TZOFFSETTO:+0100
TZNAME:BST
DTSTART:20240331T010000
END:DAYLIGHT
BEGIN:STANDARD
TZOFFSETFROM:+0100
TZOFFSETTO:+0000
TZNAME:GMT
DTSTART:20241027T010000
END:STANDARD
BEGIN:DAYLIGHT
TZOFFSETFROM:+0000
TZOFFSETTO:+0100
TZNAME:BST
DTSTART:20250330T010000
END:DAYLIGHT
BEGIN:STANDARD
TZOFFSETFROM:+0100
TZOFFSETTO:+0000
TZNAME:GMT
DTSTART:20251026T010000
END:STANDARD
BEGIN:DAYLIGHT
TZOFFSETFROM:+0000
TZOFFSETTO:+0100
TZNAME:BST
DTSTART:20260329T010000
END:DAYLIGHT
BEGIN:STANDARD
TZOFFSETFROM:+0100
TZOFFSETTO:+0000
TZNAME:GMT
DTSTART:20261025T010000
END:STANDARD
END:VTIMEZONE
BEGIN:VEVENT
DTSTART;TZID=Europe/London:20250803T093000
DTEND;TZID=Europe/London:20250803T170000
DTSTAMP:20260423T015355
CREATED:20250422T134524Z
LAST-MODIFIED:20250422T134524Z
UID:10000815-1754213400-1754240400@gwentmc.club
SUMMARY:Walk: Sugar Loaf Traverse (Linear). 16km/10miles\, 650m/2130ft ascent (Moderate)
DESCRIPTION:Join Alex for this linear traverse of the Sugar Loaf from Crickhowell to Abergavenny. The route is graded moderate (16km/10miles\, 850m/2130ft ascent). \nFrom Byefield Lane Car Park\, Abergavenny we will walk a short distance (half mile) to a bus stop. We will take the 09:54 X43 bus service to Crickhowell. Alighting at Beaufort Square\, we will make our way using minor roads and footpaths towards Llangenny for our ascent of the Sugar Loaf via its west ridge. After reaching the summit trig point we will descend via Deri and then through ancient woodland to the residential streets below; and thence to our cars. \nStart 9:30am prompt\, Byefield Lane Car Park. Please bring bus fare (cash\, debit card\, bus pass). \nFor your safety and the safety of other members\, we advise minimum personal equipment requirements for all our walks.
URL:https://gwentmc.club/event/walk-sugar-loaf-traverse-linear-16km-10miles-650m-2130ft-ascent-moderate/
LOCATION:Abergavenny\, Byefield Lane Car Park
CATEGORIES:Hiking/walking,Sunday walks
GEO:51.820699;-3.021538
END:VEVENT
BEGIN:VEVENT
DTSTART;TZID=Europe/London:20250817T093000
DTEND;TZID=Europe/London:20250817T170000
DTSTAMP:20260423T015355
CREATED:20250807T181218Z
LAST-MODIFIED:20250807T181218Z
UID:10000871-1755423000-1755450000@gwentmc.club
SUMMARY:Walk: Llanthony Loop. 17.5km/11miles\, 730m/2400feet ascent (Moderate)
DESCRIPTION:Join Gareth for this circular walk around the Black Mountain ridges\, on mostly good paths. Distance of 17.5km/11miles and 730m/2400feet ascent. \nStart 9.30am from Llanthony Priory car park OS Explorer Map OL13\, grid reference SO290278. \nFor your safety and the safety of other members\, we advise minimum personal equipment requirements for all our walks.
URL:https://gwentmc.club/event/walk-llanthony-loop-17-08-2025/
LOCATION:LLanthony Priory Car Park
CATEGORIES:Hiking/walking,Sunday walks
ATTACH;FMTTYPE=image/jpeg:https://gwentmc.club/wp-content/uploads/2025/08/17.08.2025_Llanthony-Priory.jpeg
END:VEVENT
BEGIN:VEVENT
DTSTART;TZID=Europe/London:20250831T093000
DTEND;TZID=Europe/London:20250831T170000
DTSTAMP:20260423T015355
CREATED:20250719T110046Z
LAST-MODIFIED:20250730T200105Z
UID:10000861-1756632600-1756659600@gwentmc.club
SUMMARY:Walk: Black Mountains: a circuit from Rhos Fach common. 25km/15.5 miles\, 1269m/4163 ft ascent (Hard)
DESCRIPTION:Join Ralph for this hard graded walk of 25km/15.5 miles\, 1269m/4163 ft ascent. \nAn ascent from the north via Cwm Cwnstab and continuing to Waun Fach and Pen y Gadair Fawr. Dropping into the Grwyne Fechan valley the route then climbs to Pen Twyn Glas and continues over Mynydd Llysiau to the col (Macnamara’s road 616m). A gradual descent to cross the river in Cwm Rhiangoll followed by a pull up to Bwlch Bach a’r Grib. From the summit of Y Grib the edge is followed to Mynydd Bychan from where the path zig zags it’s descent and then returns to the start. 15.5 miles\, 4163 ft ascent. \nStart from Rhos Fawr common\, OS Explorer Map OL13\, grid reference: SO187 333. \n\n\n\n\n\n\n\n\n\nFor your safety and the safety of other members\, we advise minimum personal equipment requirements for all our walks.
URL:https://gwentmc.club/event/walk-black-mountains-a-circuit-from-rhos-fach-common-24-9km-15-5-miles-4163-ft-1268m-ascent-hard/
CATEGORIES:Hiking/walking,Sunday walks
ATTACH;FMTTYPE=image/jpeg:https://gwentmc.club/wp-content/uploads/2025/07/31.08.2025_Ralph.jpg
END:VEVENT
END:VCALENDAR