BEGIN:VCALENDAR
VERSION:2.0
PRODID:-//Gwent Mountaineering Club - ECPv6.15.20//NONSGML v1.0//EN
CALSCALE:GREGORIAN
METHOD:PUBLISH
X-ORIGINAL-URL:https://gwentmc.club
X-WR-CALDESC:Events for Gwent Mountaineering Club
REFRESH-INTERVAL;VALUE=DURATION:PT1H
X-Robots-Tag:noindex
X-PUBLISHED-TTL:PT1H
BEGIN:VTIMEZONE
TZID:Europe/London
BEGIN:DAYLIGHT
TZOFFSETFROM:+0000
TZOFFSETTO:+0100
TZNAME:BST
DTSTART:20220327T010000
END:DAYLIGHT
BEGIN:STANDARD
TZOFFSETFROM:+0100
TZOFFSETTO:+0000
TZNAME:GMT
DTSTART:20221030T010000
END:STANDARD
BEGIN:DAYLIGHT
TZOFFSETFROM:+0000
TZOFFSETTO:+0100
TZNAME:BST
DTSTART:20230326T010000
END:DAYLIGHT
BEGIN:STANDARD
TZOFFSETFROM:+0100
TZOFFSETTO:+0000
TZNAME:GMT
DTSTART:20231029T010000
END:STANDARD
BEGIN:DAYLIGHT
TZOFFSETFROM:+0000
TZOFFSETTO:+0100
TZNAME:BST
DTSTART:20240331T010000
END:DAYLIGHT
BEGIN:STANDARD
TZOFFSETFROM:+0100
TZOFFSETTO:+0000
TZNAME:GMT
DTSTART:20241027T010000
END:STANDARD
END:VTIMEZONE
BEGIN:VEVENT
DTSTART;TZID=Europe/London:20230716T093000
DTEND;TZID=Europe/London:20230716T170000
DTSTAMP:20260422T004251
CREATED:20230521T122236Z
LAST-MODIFIED:20230529T181357Z
UID:10000202-1689499800-1689526800@gwentmc.club
SUMMARY:Walk: Craig Cerrig-gleisiad\, Ystradfellte resevoir\, Fan Llia\, Fan Dringarth\, Fan Frynach. 20km/12.5miles\, 800m/2640ft ascent (Moderate)
DESCRIPTION:A walk in taking in Craig Cerrig-gleisiad\, Ystradfellte resevoir\, Fan Llia\, Fan Dringarth\, Fan Frynach. This walk is a moderate walk of 20km/12.5miles\, 800m/2640ft ascent. \nStart 9.30am.\nOL12 SO 971222 next to nature reserve.
URL:https://gwentmc.club/event/walk-craig-cerrig-gleisiad-ystradfellte-resevoir-fan-llia-fan-dringarth-fan-frynach-20km-12-5miles-800m-2640ft-ascent-moderate/
LOCATION:SO 971222 next to nature reserve
CATEGORIES:Hiking/walking,Sunday walks
ATTACH;FMTTYPE=image/jpeg:https://gwentmc.club/wp-content/uploads/2023/05/16jul2023-walk-cerrig-gleisiad.jpg
END:VEVENT
BEGIN:VEVENT
DTSTART;TZID=Europe/London:20230723T093000
DTEND;TZID=Europe/London:20230723T170000
DTSTAMP:20260422T004251
CREATED:20230523T191929Z
LAST-MODIFIED:20230523T191929Z
UID:10000203-1690104600-1690131600@gwentmc.club
SUMMARY:Walk: Llangors Circle. 20.8km/13miles\, 830m/2740ft ascent (Moderate)
DESCRIPTION:A moderate walk around Llangors Circle. 20.8km/13miles\, 830m/2740ft ascent. \nStart 9.30 am. OL13 SO128273
URL:https://gwentmc.club/event/walk-llangors-circle-20-8km-13miles-830m-2740ft-ascent-moderate/
LOCATION:OL13 SO128273
CATEGORIES:Hiking/walking,Sunday walks
ATTACH;FMTTYPE=image/jpeg:https://gwentmc.club/wp-content/uploads/2023/05/23jul2023-walk-llangorse.jpg
END:VEVENT
BEGIN:VEVENT
DTSTART;TZID=Europe/London:20230730T093000
DTEND;TZID=Europe/London:20230730T170000
DTSTAMP:20260422T004251
CREATED:20230523T192325Z
LAST-MODIFIED:20230529T180750Z
UID:10000204-1690709400-1690736400@gwentmc.club
SUMMARY:Walk: Pumlumon Circuit (Hard)
DESCRIPTION:A hard walk around Pumlumon Circuit. (Y Garn\, Pen Pumlumon Fawr\, Pen Penlumon Arwystli\, Carnfachbugeilyn\, Carn Foel Uchaf\, Carn Gwilym (Hyddgen)) \n21km/13miles\, 846m/2776ft ascent. \nStart 9.30 am. OS Explorer 213 SN758847
URL:https://gwentmc.club/event/walk-pumlumon-y-garn-pen-pumlumon-fawr-penlumon-arwystli-cwm-fawr-foel-uchaf-cairn-gwilym-hard/
LOCATION:OS Explorer 213 SN 758847
CATEGORIES:Hiking/walking,Sunday walks
ATTACH;FMTTYPE=image/jpeg:https://gwentmc.club/wp-content/uploads/2023/05/30jul2023-walk-punlumon-fawr.jpg
END:VEVENT
END:VCALENDAR