BEGIN:VCALENDAR
VERSION:2.0
PRODID:-//Gwent Mountaineering Club - ECPv6.15.20//NONSGML v1.0//EN
CALSCALE:GREGORIAN
METHOD:PUBLISH
X-ORIGINAL-URL:https://gwentmc.club
X-WR-CALDESC:Events for Gwent Mountaineering Club
REFRESH-INTERVAL;VALUE=DURATION:PT1H
X-Robots-Tag:noindex
X-PUBLISHED-TTL:PT1H
BEGIN:VTIMEZONE
TZID:Europe/London
BEGIN:DAYLIGHT
TZOFFSETFROM:+0000
TZOFFSETTO:+0100
TZNAME:BST
DTSTART:20220327T010000
END:DAYLIGHT
BEGIN:STANDARD
TZOFFSETFROM:+0100
TZOFFSETTO:+0000
TZNAME:GMT
DTSTART:20221030T010000
END:STANDARD
BEGIN:DAYLIGHT
TZOFFSETFROM:+0000
TZOFFSETTO:+0100
TZNAME:BST
DTSTART:20230326T010000
END:DAYLIGHT
BEGIN:STANDARD
TZOFFSETFROM:+0100
TZOFFSETTO:+0000
TZNAME:GMT
DTSTART:20231029T010000
END:STANDARD
BEGIN:DAYLIGHT
TZOFFSETFROM:+0000
TZOFFSETTO:+0100
TZNAME:BST
DTSTART:20240331T010000
END:DAYLIGHT
BEGIN:STANDARD
TZOFFSETFROM:+0100
TZOFFSETTO:+0000
TZNAME:GMT
DTSTART:20241027T010000
END:STANDARD
END:VTIMEZONE
BEGIN:VEVENT
DTSTART;TZID=Europe/London:20230604T093000
DTEND;TZID=Europe/London:20230604T170000
DTSTAMP:20260422T023113
CREATED:20230330T084159Z
LAST-MODIFIED:20230509T132138Z
UID:10000180-1685871000-1685898000@gwentmc.club
SUMMARY:Walk: Carn Fadog/Carreg yr Ogof/Tyle Garw. 24km/15miles. Ascent 780m/2600ft. (Hard)
DESCRIPTION:Carn Fadog/Carreg yr Ogof/Tyle Garw. 24km/15miles. Ascent 780m/2600ft. \nStart 9.30am. Cwm Giedd Forest Car Park SN 791127
URL:https://gwentmc.club/event/walk-carn-fadog-carreg-yr-ogof-tyle-garw-24km-15miles-ascent-780m-2600ft-hard/
LOCATION:Cwm Giedd Forest Car Park
CATEGORIES:Hiking/walking,Sunday walks
ATTACH;FMTTYPE=image/jpeg:https://gwentmc.club/wp-content/uploads/2023/03/Tyle-Garw-geograph-96893-by-Nigel-Davies.jpg
GEO:51.800288;-3.7539197
END:VEVENT
BEGIN:VEVENT
DTSTART;TZID=Europe/London:20230611T093000
DTEND;TZID=Europe/London:20230611T170000
DTSTAMP:20260422T023113
CREATED:20230519T173725Z
LAST-MODIFIED:20230607T074610Z
UID:10000199-1686475800-1686502800@gwentmc.club
SUMMARY:Walk: Pen y Fan\, Cefn Cwm Llwch\, Cribin & Fan y Big. 16km/10miles\, 886m/2907ft ascent (Moderate)
DESCRIPTION:At 886m/2907ft\, Pen y Fan is the highest peak in southern Britain and is located in the Bannau Brycheiniog National Park.  \nThis moderate walk (16km/10miles\, 886m/2907ft ascent) takes one of the lesser-trodden paths to the top – up the long ridge line of Cefn Cwm Llwch\, before ticking off the neighbouring beacons of Cribyn and Fan y Big. The latter is shome to the famous airy slab known as the Diving Board. From there\, the Cefn Cyff ridge makes a good descent to the bottom (one ford to cross at this point) with a further four miles through field and lanes back to the start. \nStart 9.30am. Cwm Gwdi Carpark\, Pay and Display £3 or free to NT members. OS Explorer OL12 SO024248
URL:https://gwentmc.club/event/walk-pen-y-fan-cefn-cwm-llwch-cribin-fan-y-big-16km-10miles-886m-2907ft-ascent-moderate/
LOCATION:Cwm Gwdi\, SO024248
CATEGORIES:Hiking/walking,Sunday walks
ATTACH;FMTTYPE=image/jpeg:https://gwentmc.club/wp-content/uploads/2023/05/11jun2023-walk-penyfan.jpg
GEO:51.913929;-3.4190358
END:VEVENT
BEGIN:VEVENT
DTSTART;TZID=Europe/London:20230618T100000
DTEND;TZID=Europe/London:20230618T170000
DTSTAMP:20260422T023113
CREATED:20230519T180650Z
LAST-MODIFIED:20230617T075938Z
UID:10000200-1687082400-1687107600@gwentmc.club
SUMMARY:Walk: Carreg Cadno and Fan Fraith (Fforest Fawr). 17.5km/11miles\, 610m/2000ft ascent (Moderate)
DESCRIPTION:A moderate walk of 17.5km/11miles with 610m/2000ft ascent. For the discerning hillwalker\, we explore rarely visited above-ground features in the Ogof Ffynnon Ddu National Nature Reserve. After attaining the rocky summit of Carreg Cadno we will proceed across the moor via Pant Mawr Pot and through the forest to head for the grassy summit of Fan Fraith\, a peak often overlooked in favour of its higher and more well-known neighbour. After Fan Fraith we will return across the moor to find limestone pavements\, and the locked entrance of the OFD cave below; finally descending back to the starting point via a disused quarry tramway with wood sleepers still in situ in places. \nStart 10.00am. Penwyllt Quarry. OS Explorer map OL12\, grid reference SN856155
URL:https://gwentmc.club/event/walk-carreg-cadno-and-fan-fraith-fforest-fawr-17-5km-11miles-610m-2000ft-ascent-moderate/
LOCATION:Penwyllt Quarry\, SN856155
CATEGORIES:Hiking/walking,Sunday walks
ATTACH;FMTTYPE=image/jpeg:https://gwentmc.club/wp-content/uploads/2023/05/18jun2023-walk-carregcadno.jpg
END:VEVENT
BEGIN:VEVENT
DTSTART;TZID=Europe/London:20230625T100000
DTEND;TZID=Europe/London:20230625T170000
DTSTAMP:20260422T023113
CREATED:20230519T181623Z
LAST-MODIFIED:20230521T121417Z
UID:10000201-1687687200-1687712400@gwentmc.club
SUMMARY:Walk: Radnor Area. 23km/14miles\, 740m/2427ft ascent (Hard)
DESCRIPTION:Radnor Area\, Colva Hill. 23km/14miles\, 740m/2427ft ascent. \nStart 10am. Parking (free) at Llynheilyn\, just off A481 before it’s junction with A44.\nOS Explorer map 200\, grid reference SO 16595 58208
URL:https://gwentmc.club/event/walk-radnor-area-23km-14miles-740m-2427ft-ascent-hard/
CATEGORIES:Hiking/walking,Sunday walks
ATTACH;FMTTYPE=image/jpeg:https://gwentmc.club/wp-content/uploads/2023/05/25jun2023-walk-colvahillradnor.jpg
END:VEVENT
END:VCALENDAR