BEGIN:VCALENDAR
VERSION:2.0
PRODID:-//Gwent Mountaineering Club - ECPv6.15.20//NONSGML v1.0//EN
CALSCALE:GREGORIAN
METHOD:PUBLISH
X-WR-CALNAME:Gwent Mountaineering Club
X-ORIGINAL-URL:https://gwentmc.club
X-WR-CALDESC:Events for Gwent Mountaineering Club
REFRESH-INTERVAL;VALUE=DURATION:PT1H
X-Robots-Tag:noindex
X-PUBLISHED-TTL:PT1H
BEGIN:VTIMEZONE
TZID:Europe/London
BEGIN:DAYLIGHT
TZOFFSETFROM:+0000
TZOFFSETTO:+0100
TZNAME:BST
DTSTART:20220327T010000
END:DAYLIGHT
BEGIN:STANDARD
TZOFFSETFROM:+0100
TZOFFSETTO:+0000
TZNAME:GMT
DTSTART:20221030T010000
END:STANDARD
BEGIN:DAYLIGHT
TZOFFSETFROM:+0000
TZOFFSETTO:+0100
TZNAME:BST
DTSTART:20230326T010000
END:DAYLIGHT
BEGIN:STANDARD
TZOFFSETFROM:+0100
TZOFFSETTO:+0000
TZNAME:GMT
DTSTART:20231029T010000
END:STANDARD
BEGIN:DAYLIGHT
TZOFFSETFROM:+0000
TZOFFSETTO:+0100
TZNAME:BST
DTSTART:20240331T010000
END:DAYLIGHT
BEGIN:STANDARD
TZOFFSETFROM:+0100
TZOFFSETTO:+0000
TZNAME:GMT
DTSTART:20241027T010000
END:STANDARD
END:VTIMEZONE
BEGIN:VEVENT
DTSTART;TZID=Europe/London:20230209T190000
DTEND;TZID=Europe/London:20230209T213000
DTSTAMP:20260419T185724
CREATED:20221202T164743Z
LAST-MODIFIED:20221213T121939Z
UID:10000032-1675969200-1675978200@gwentmc.club
SUMMARY:Training: Night navigation (outdoor session)
DESCRIPTION:The second of two training sessions on night navigation. This one\, led by Jeff Matthews takes place outdoors on the slopes of Fan Fawr and provides an opportunity to practice navigating in the dark. Please bring a compass and head torch with you. 7pm at Storey Arms car park.
URL:https://gwentmc.club/event/night-navigation-outdoor-training-session/
LOCATION:Storey Arms car park\, OL12 SN982202
CATEGORIES:Hiking/walking,Thursday evening walks,Training
ATTACH;FMTTYPE=image/jpeg:https://gwentmc.club/wp-content/uploads/2022/12/nightnav-2.jpg
END:VEVENT
BEGIN:VEVENT
DTSTART;TZID=Europe/London:20230212T093000
DTEND;TZID=Europe/London:20230212T170000
DTSTAMP:20260419T185724
CREATED:20221121T161402Z
LAST-MODIFIED:20230206T122413Z
UID:10000021-1676194200-1676221200@gwentmc.club
SUMMARY:Wentwood area\, 16km/10miles\, 610m/2000ft ascent (easy walk)
DESCRIPTION:An easy walk in the Wentwood area for a change from the mountains. Distance 16km/10miles with 610m/2000ft ascent. Start 9.30am at Foresters Oaks Car Park.\nMap OS Explorer OL14\, grid reference ST428938.
URL:https://gwentmc.club/event/forest-of-dean-sculpture-trail-17km-10-5miles-300m-1000ft-ascent-easy-walk/
CATEGORIES:Hiking/walking,Sunday walks
ATTACH;FMTTYPE=image/jpeg:https://gwentmc.club/wp-content/uploads/2022/11/12Feb2023event-geograph-3199559.jpg
END:VEVENT
BEGIN:VEVENT
DTSTART;TZID=Europe/London:20230219T093000
DTEND;TZID=Europe/London:20230219T170000
DTSTAMP:20260419T185724
CREATED:20221121T161728Z
LAST-MODIFIED:20230216T101614Z
UID:10000022-1676799000-1676826000@gwentmc.club
SUMMARY:Walk: Taff Ely & Ogwr Ridgeway\, 22km/13.5miles\, 550m/1900ft ascent (moderate walk)
DESCRIPTION:A moderate walk of 22km/13.5miles with 550m/1900ft ascent\, taking in Taff Ely and the Ogwr Ridgeway. Start 9.30am at Llanharan Railway Station. Map OS Explorer 151\, grid reference ST001831.
URL:https://gwentmc.club/event/taff-ely-ogwr-ridgeway-walk-20km-12-5miles-610m-2000ft-ascent-moderate-walk/
CATEGORIES:Hiking/walking,Sunday walks
ATTACH;FMTTYPE=image/jpeg:https://gwentmc.club/wp-content/uploads/2022/11/19Feb2023event-geograph-4557905-by-Rude-Health-.jpg
END:VEVENT
BEGIN:VEVENT
DTSTART;TZID=Europe/London:20230226T093000
DTEND;TZID=Europe/London:20230226T170000
DTSTAMP:20260419T185724
CREATED:20221121T161859Z
LAST-MODIFIED:20230223T112112Z
UID:10000023-1677403800-1677430800@gwentmc.club
SUMMARY:Walk: Rhondda Fawr 19.7km/12.2m\, 720m/2362ft ascent (moderate walk)
DESCRIPTION:Start at 9.30am. Map OS Explorer 166\, grid reference SS954962. Cwm Parc\, parking on road is good.
URL:https://gwentmc.club/event/to-be-announced-hard-walk/
CATEGORIES:Hiking/walking,Sunday walks
ATTACH;FMTTYPE=image/jpeg:https://gwentmc.club/wp-content/uploads/2022/11/26Feb2023event-geograph-6118108-by-Alan-Hughes.jpg
END:VEVENT
BEGIN:VEVENT
DTSTART;TZID=Europe/London:20230305T093000
DTEND;TZID=Europe/London:20230305T170000
DTSTAMP:20260419T185724
CREATED:20221121T161943Z
LAST-MODIFIED:20230206T144626Z
UID:10000024-1678008600-1678035600@gwentmc.club
SUMMARY:Walk: Cwm Ystwyth & Llynnau Teifi. 25.5km/16m\, 865m/2850ft ascent (hard walk)
DESCRIPTION:A hard walk in Cwm Ystwyth and Llynnau Teifi – the Teifi pools. Distance is 25.5km/16miles with 865m/2850ft ascent. Start 9.30am. Map OS Explorer sheets 213 and 187\, grid reference SN802745.
URL:https://gwentmc.club/event/to-be-announced-easy-walk/
CATEGORIES:Hiking/walking,Sunday walks
ATTACH;FMTTYPE=image/jpeg:https://gwentmc.club/wp-content/uploads/2022/11/05Mar2023event-geograph-2842639-by-Rudi-Winter.jpg
END:VEVENT
BEGIN:VEVENT
DTSTART;TZID=Europe/London:20230309T190000
DTEND;TZID=Europe/London:20230309T213000
DTSTAMP:20260419T185724
CREATED:20221202T180037Z
LAST-MODIFIED:20230306T141737Z
UID:10000036-1678388400-1678397400@gwentmc.club
SUMMARY:Night walk
DESCRIPTION:Location to be advised.
URL:https://gwentmc.club/event/night-walk/
LOCATION:Location to be advised
CATEGORIES:Hiking/walking,Thursday evening walks
END:VEVENT
BEGIN:VEVENT
DTSTART;TZID=Europe/London:20230312T090000
DTEND;TZID=Europe/London:20230312T170000
DTSTAMP:20260419T185724
CREATED:20221121T162321Z
LAST-MODIFIED:20230308T143429Z
UID:10000025-1678611600-1678640400@gwentmc.club
SUMMARY:Central Beacons from Ystradfellte\, 23km/14.5miles\, 945m/3100ft ascent (hard walk)
DESCRIPTION:A harder walk in the Fforest Fawr area\, beginning north of the village of Ystradfellte. The distance is 23km/14.5miles with 945m/3100ft ascent. Start at 09:00am at the Blaen Llia Forest car park by the Roman Camp north of Ystradfellte. Map OS Explorer OL12\, grid reference SN927164.\nHead torch advised in case of finish in the dark.
URL:https://gwentmc.club/event/central-beacons-from-ystradfellte-22-5km-14miles-915m-3000ft-ascent-hard-walk/
LOCATION:Blaen Llia Forest car park\, United Kingdom
CATEGORIES:Hiking/walking,Sunday walks
ATTACH;FMTTYPE=image/jpeg:https://gwentmc.club/wp-content/uploads/2022/11/12Mar2023event-geograph-4393238-by-Gareth-James.jpg
GEO:51.836521;-3.558431
END:VEVENT
BEGIN:VEVENT
DTSTART;TZID=Europe/London:20230319T093000
DTEND;TZID=Europe/London:20230319T170000
DTSTAMP:20260419T185724
CREATED:20230313T161612Z
LAST-MODIFIED:20230313T161629Z
UID:10000026-1679218200-1679245200@gwentmc.club
SUMMARY:Mynydd Troed & Mynydd Llangorse\, 18km/11 miles\, 700m/2300ft ascent (moderate walk)
DESCRIPTION:A moderate walk over Mynydd Troed & Mynydd Llangorse\, 18km/11miles with 700m/2300ft ascent. Start 9.30am at Pengenffordd Carpark. £2 for parking. Map OS Explorer OL13\, grid reference SO173296.
URL:https://gwentmc.club/event/mynydd-troed-mynydd-llangorse-18km-11-miles-700m-2300ft-ascent-moderate-walk/
LOCATION:Pengenffordd car park
CATEGORIES:Hiking/walking,Sunday walks
ATTACH;FMTTYPE=image/jpeg:https://gwentmc.club/wp-content/uploads/2022/11/19Mar2023event-geograph-4548522-by-Alan-Richards.jpg
GEO:51.959421;-3.20389
END:VEVENT
BEGIN:VEVENT
DTSTART;TZID=Europe/London:20230326T100000
DTEND;TZID=Europe/London:20230326T170000
DTSTAMP:20260419T185724
CREATED:20221121T162635Z
LAST-MODIFIED:20230321T192543Z
UID:10000027-1679824800-1679850000@gwentmc.club
SUMMARY:Lonely Shepherd and Clydach Gorge 18km/11 miles 738m/2425ft ascent (moderate) with option to shorten to 7 miles with less ascent (easy)
DESCRIPTION:Lonely Shepherd and Clydach Gorge 18km/11 miles 738m/2425ft ascent (moderate) with option to shorten to 7 miles with less ascent (easy) \nStart 10.00am (note: this is a new start time as clocks go forward) at Gilwern High Street car park. OL13 SO247146 \nClocks forward. BST begins. 
URL:https://gwentmc.club/event/to-be-announced-easy-walk-2/
LOCATION:Gilwern High Street Car Park
CATEGORIES:Hiking/walking,Sunday walks
ATTACH;FMTTYPE=image/jpeg:https://gwentmc.club/wp-content/uploads/2022/11/Lonely-Shepherd-geograph-3211043-by-Jeremy-Bolwell.jpg
END:VEVENT
BEGIN:VEVENT
DTSTART;VALUE=DATE:20230330
DTEND;VALUE=DATE:20230403
DTSTAMP:20260419T185724
CREATED:20221121T154817Z
LAST-MODIFIED:20230206T151931Z
UID:10000020-1680134400-1680479999@gwentmc.club
SUMMARY:Lake District weekend
DESCRIPTION:A long weekend in the Lake District for walking/hiking and climbing. Staying at Stair Cottage\, Newlands Valley\, Cumbria.
URL:https://gwentmc.club/event/lake-district-weekend/
LOCATION:Stair Cottage\, Newlands Valley
CATEGORIES:Hiking/walking,Rock climbing,Weekends/weeks away
ATTACH;FMTTYPE=image/jpeg:https://gwentmc.club/wp-content/uploads/2022/11/30Mar2023event-geograph-2902227-by-Michael-Graham.jpg
END:VEVENT
BEGIN:VEVENT
DTSTART;TZID=Europe/London:20230406T190000
DTEND;TZID=Europe/London:20230406T220000
DTSTAMP:20260419T185724
CREATED:20230311T205837Z
LAST-MODIFIED:20230327T155434Z
UID:10000154-1680807600-1680818400@gwentmc.club
SUMMARY:Evening Walk: Garn Wen
DESCRIPTION:Garn Wen \nStart: Abersychan main car park Map 152 SO 268 032 \nPub: The Rising Sun\, Abersychan NP4 8PP
URL:https://gwentmc.club/event/night-walk-garn-wen/
CATEGORIES:Hiking/walking,Thursday evening walks
ATTACH;FMTTYPE=image/jpeg:https://gwentmc.club/wp-content/uploads/2023/03/Garn-Wen-geograph-4544570-by-Alan-Richards.jpg
END:VEVENT
BEGIN:VEVENT
DTSTART;TZID=Europe/London:20230409T093000
DTEND;TZID=Europe/London:20230409T170000
DTSTAMP:20260419T185724
CREATED:20230311T200622Z
LAST-MODIFIED:20230311T203334Z
UID:10000150-1681032600-1681059600@gwentmc.club
SUMMARY:Walk: Cefn yr Ystrad and Chartist's Cave. 22km/14miles\, 760m/2500ft ascent. (Hard)
DESCRIPTION:Cefn yr Ystrad and Chartist’s Cave. 22km/14miles\, 760m/2500ft ascent. \nStart 9:30am. Llangynidr village main car park OL13 SO155195
URL:https://gwentmc.club/event/walk-cefn-yr-ystrad-and-chartists-cave-22km-14miles-760m-2500ft-ascent/
LOCATION:Llangynidr\, village main car park
CATEGORIES:Hiking/walking,Sunday walks
ATTACH;FMTTYPE=image/jpeg:https://gwentmc.club/wp-content/uploads/2023/03/Chartist-Cave-geograph-2906157-by-Jeremy-Bolwell.jpg
GEO:51.86836;-3.227545
END:VEVENT
BEGIN:VEVENT
DTSTART;TZID=Europe/London:20230413T190000
DTEND;TZID=Europe/London:20230413T220000
DTSTAMP:20260419T185724
CREATED:20230311T212124Z
LAST-MODIFIED:20230327T155513Z
UID:10000155-1681412400-1681423200@gwentmc.club
SUMMARY:Evening Walk: Cefn Onn Ridge
DESCRIPTION:Cefn Onn Ridge \nStart: Ty Mawr pub car park Map 151 ST 183 842 \nPub: Ty Mawr CF14 0UF
URL:https://gwentmc.club/event/night-walk-cefn-onn-ridge/
LOCATION:Ty Mawr pub car park
CATEGORIES:Hiking/walking,Thursday evening walks
ATTACH;FMTTYPE=image/jpeg:https://gwentmc.club/wp-content/uploads/2023/03/Cefn-Onn-geograph-6161590-by-M-J-Roscoe.jpg
END:VEVENT
BEGIN:VEVENT
DTSTART;TZID=Europe/London:20230416T093000
DTEND;TZID=Europe/London:20230416T170000
DTSTAMP:20260419T185724
CREATED:20230311T202151Z
LAST-MODIFIED:20230311T202151Z
UID:10000151-1681637400-1681664400@gwentmc.club
SUMMARY:Walk: Capel y Ffin Southern Circuit. 16km/10m. 770/2540ft of ascent (Moderate)
DESCRIPTION:Capel y Ffin Southern Circuit. 16km/10m. 770/2540ft of ascent. \n10am start. Llanthony Priory Car Park OL13 SO289278
URL:https://gwentmc.club/event/walk-capel-y-ffin-southern-circuit-16km-10m-770-2540ft-of-ascent-moderate/
LOCATION:LLanthony Priory Car Park
CATEGORIES:Hiking/walking,Sunday walks
ATTACH;FMTTYPE=image/jpeg:https://gwentmc.club/wp-content/uploads/2023/03/Capel-y-Ffin-view-geograph-3546123-by-Hugh-Chevallier.jpg
END:VEVENT
BEGIN:VEVENT
DTSTART;TZID=Europe/London:20230420T190000
DTEND;TZID=Europe/London:20230420T220000
DTSTAMP:20260419T185724
CREATED:20230311T213631Z
LAST-MODIFIED:20230327T155557Z
UID:10000156-1682017200-1682028000@gwentmc.club
SUMMARY:Evening Walk: Cwm Byg
DESCRIPTION:Cwm Byg \nStart: Car park behind Brewery Terrace\, Aberbeeg Map 152 SO 208 020 NP13 2EW \nPub: Pentwyn Inn\, Trinant Map 152 SO 206 007 NP11 3JD
URL:https://gwentmc.club/event/night-walk-cwm-byg/
LOCATION:Brewery Terrace Car Park
CATEGORIES:Hiking/walking,Thursday evening walks
ATTACH;FMTTYPE=image/jpeg:https://gwentmc.club/wp-content/uploads/2023/03/Cwm-Big-geograph-6503535-by-M-J-Roscoe.jpg
END:VEVENT
BEGIN:VEVENT
DTSTART;TZID=Europe/London:20230423T093000
DTEND;TZID=Europe/London:20230423T170000
DTSTAMP:20260419T185724
CREATED:20230311T203134Z
LAST-MODIFIED:20230311T203134Z
UID:10000152-1682242200-1682269200@gwentmc.club
SUMMARY:Walk: Grwyne y Fawr Circuit. 16km/10m & 335m/1100ft ascent (Short)
DESCRIPTION:Grwyne y Fawr Circuit. 16km/10m & 335m/1100ft ascent \nStart 10am. Blaen y Cwm carpark OL13 SO 252 284
URL:https://gwentmc.club/event/walk-grwyne-y-fawr-circuit-16km-10m-335m-1100ft-ascent-short/
LOCATION:Blaen-y-Cwm car park\, SO252284
CATEGORIES:Hiking/walking,Sunday walks
ATTACH;FMTTYPE=image/jpeg:https://gwentmc.club/wp-content/uploads/2023/03/Grwyne-Fawr-Reservoir-geograph-405147-by-RICHARD-THOMPSON.jpg
END:VEVENT
BEGIN:VEVENT
DTSTART;TZID=Europe/London:20230423T093000
DTEND;TZID=Europe/London:20230423T170000
DTSTAMP:20260419T185724
CREATED:20230419T141259Z
LAST-MODIFIED:20230419T141259Z
UID:10000189-1682242200-1682269200@gwentmc.club
SUMMARY:Walk: Chwarel y Fan and Y Twmpa\, from the north. 22.5km/14miles\, 990m/3250ft ascent (hard)
DESCRIPTION:A longer alternative to the other walk scheduled for today. \nWith 22.5km/14miles and 990m/3250ft ascent\, this hard walk ascends Rhiw Wen\, descends upper Cwm Nant Bwch before following the Nant Isaf to reach Bird House and thence the ridge top at Twyn Tal y Cefn.\nContinue to Chwarel y Fan\, backtrack to Blacksmith’s Anvil\, descend to Capel y Ffin. Ascend Darren Lwyd and continue to summit of Y Twmpa and return to start. \nStart 9:30am. Road head at Pen yr Heol\, above Tregoyd. Park on grass verge adjacent to chapel hedge…. facing lane helps to allow space for any chapel visitors.\nGrid ref. SO 209359\nOS Explorer map: OL 13
URL:https://gwentmc.club/event/walk-chwarel-y-fan-and-y-twmpa-from-the-north-22-5km-14miles-990m-3250ft-ascent-hard/
LOCATION:Tregoyd\, SO 209359
CATEGORIES:Hiking/walking,Sunday walks
ATTACH;FMTTYPE=image/jpeg:https://gwentmc.club/wp-content/uploads/2023/04/23Apr2023-RhiwyFan-scaled.jpg
END:VEVENT
BEGIN:VEVENT
DTSTART;TZID=Europe/London:20230427T190000
DTEND;TZID=Europe/London:20230427T220000
DTSTAMP:20260419T185724
CREATED:20230311T214549Z
LAST-MODIFIED:20230327T155631Z
UID:10000157-1682622000-1682632800@gwentmc.club
SUMMARY:Evening Walk: Craig Ruperra & Ruperra Castle
DESCRIPTION:Craig Ruperra & Ruperra Castle \nStart: Map 152  ST 228 871 \nPub: tbc
URL:https://gwentmc.club/event/night-walk-craig-ruperra-ruperra-castle/
CATEGORIES:Hiking/walking,Thursday evening walks
ATTACH;FMTTYPE=image/jpeg:https://gwentmc.club/wp-content/uploads/2023/03/Ruperra-Castle-geograph-2833130-by-Jeremy-Bolwell.jpg
END:VEVENT
BEGIN:VEVENT
DTSTART;TZID=Europe/London:20230430T093000
DTEND;TZID=Europe/London:20230430T170000
DTSTAMP:20260419T185724
CREATED:20230311T203549Z
LAST-MODIFIED:20230311T204111Z
UID:10000153-1682847000-1682874000@gwentmc.club
SUMMARY:Walk: To be announced (Short/Moderate)
DESCRIPTION:Details to follow
URL:https://gwentmc.club/event/walk-details-to-follow-short-moderate/
CATEGORIES:Hiking/walking,Sunday walks
END:VEVENT
BEGIN:VEVENT
DTSTART;TZID=Europe/London:20230504T190000
DTEND;TZID=Europe/London:20230504T220000
DTSTAMP:20260419T185724
CREATED:20230315T231336Z
LAST-MODIFIED:20230502T041651Z
UID:10000169-1683226800-1683237600@gwentmc.club
SUMMARY:Evening Walk: Twmbarlwm
DESCRIPTION:Twmbarlwm \nStart: The Darran pub car park\, Risca Map 152 SO 234 914 NP11 6GU \nPub: The Darran
URL:https://gwentmc.club/event/night-walk-twmbarlwm/
LOCATION:Darran Pub Car Park
CATEGORIES:Hiking/walking,Thursday evening walks
ATTACH;FMTTYPE=image/jpeg:https://gwentmc.club/wp-content/uploads/2023/03/Twmbarlwm-244496781_1683460405197463_4622195757799521582_n.jpg
END:VEVENT
BEGIN:VEVENT
DTSTART;VALUE=DATE:20230508
DTEND;VALUE=DATE:20230513
DTSTAMP:20260419T185724
CREATED:20230315T221937Z
LAST-MODIFIED:20230315T222631Z
UID:10000165-1683504000-1683935999@gwentmc.club
SUMMARY:Trip to Isle of Wight
DESCRIPTION:Walking Trip to Isle of Wight \n 
URL:https://gwentmc.club/event/trip-to-isle-of-wight/
LOCATION:Isle of Wight
CATEGORIES:Hiking/walking,Weekends/weeks away
ATTACH;FMTTYPE=image/jpeg:https://gwentmc.club/wp-content/uploads/2023/03/Needles-Isle-of-Wight-geograph-1366263-by-Christine-Matthews.jpg
END:VEVENT
BEGIN:VEVENT
DTSTART;TZID=Europe/London:20230511T190000
DTEND;TZID=Europe/London:20230511T220000
DTSTAMP:20260419T185724
CREATED:20230405T114059Z
LAST-MODIFIED:20230405T114145Z
UID:10000179-1683831600-1683842400@gwentmc.club
SUMMARY:Evening Walk: Cwm Sychan
DESCRIPTION:Cwm Sychan \nStart: Map 152 SO 258 044 \nPub: The Globe NP4 7JH
URL:https://gwentmc.club/event/evening-walk-cwm-sychan/
LOCATION:Map 152 SO 258 044
CATEGORIES:Hiking/walking,Thursday evening walks
ATTACH;FMTTYPE=image/jpeg:https://gwentmc.club/wp-content/uploads/2023/04/Cwm-Sychan-geograph-676715-by-Graham-Horn.jpg
END:VEVENT
BEGIN:VEVENT
DTSTART;TZID=Europe/London:20230514T093000
DTEND;TZID=Europe/London:20230514T170000
DTSTAMP:20260419T185724
CREATED:20230330T091505Z
LAST-MODIFIED:20230509T104405Z
UID:10000182-1684056600-1684083600@gwentmc.club
SUMMARY:Walk: Bal Mawr Capel y ffin Twmpa & Pen y Gadair Fawr. 27km/17m with 910m/3000ft ascent. (Moderate)
DESCRIPTION:Bal Mawr Capel y ffin Twmpa & Pen y Gadair Fawr. 27km/17m with 910m/3000ft ascent. \nStart 9.30am. Grynne Fawr car park SO 251284
URL:https://gwentmc.club/event/walk-bal-mawr-capel-y-ffin-twmpa-pen-y-gadair-fawr-27km-17m-with-910m-3000ft-ascent-moderate/
LOCATION:Grynne Fawr Car Park
CATEGORIES:Hiking/walking,Sunday walks
ATTACH;FMTTYPE=image/jpeg:https://gwentmc.club/wp-content/uploads/2023/03/from-pen-y-gadair-fawr-geograph-1072236-by-Jeremy-Bolwell.jpg
END:VEVENT
BEGIN:VEVENT
DTSTART;TZID=Europe/London:20230518T190000
DTEND;TZID=Europe/London:20230518T220000
DTSTAMP:20260419T185724
CREATED:20230405T115410Z
LAST-MODIFIED:20230405T115410Z
UID:10000185-1684436400-1684447200@gwentmc.club
SUMMARY:Evening Walk: Llanthony
DESCRIPTION:Llanthony \nStart: Llanthony Priory car park OL13 SO 289 278 \nPub: Llanthony Priory Hotel
URL:https://gwentmc.club/event/evening-walk-llanthony-2/
LOCATION:Map 152 SO 258 044
CATEGORIES:Hiking/walking,Thursday evening walks
ATTACH;FMTTYPE=image/jpeg:https://gwentmc.club/wp-content/uploads/2023/04/Above-llanthony-geograph-7107968-by-Ian-Capper.jpg
END:VEVENT
BEGIN:VEVENT
DTSTART;TZID=Europe/London:20230521T100000
DTEND;TZID=Europe/London:20230521T170000
DTSTAMP:20260419T185724
CREATED:20230330T085032Z
LAST-MODIFIED:20230517T145133Z
UID:10000181-1684663200-1684688400@gwentmc.club
SUMMARY:Walk: Bal Mawr Circuit. 16km/10miles. Ascent around 600m/2000ft (Short)
DESCRIPTION:This 11 or so mile circuit of Bal Mawr in the Black Mountains takes the usual path up Bal Mawr but after a short distance heads off left into Llanthony Wood (lots of bluebells) and ascends to the ridge via the pretty little valley below Graig Ddu. We then traverse the ridge to the Anvil where we take the path towards Capel y Ffin\, breaking off that path to follow a wiggly route around the mountain to Cwm Bwchel and back to the car park.  \nStart 10am. Llanthony Abbey Car Park Map OL13 SO 288278
URL:https://gwentmc.club/event/walk-bal-mawr-circuit-16km-10miles-ascent-around-600m-2000ft-short/
LOCATION:Llanthony Abbey Car Park
CATEGORIES:Hiking/walking,Sunday walks
ATTACH;FMTTYPE=image/jpeg:https://gwentmc.club/wp-content/uploads/2023/03/Bal-Mawrgeograph-2576254-by-Jeremy-Bolwell.jpg
END:VEVENT
BEGIN:VEVENT
DTSTART;TZID=Europe/London:20230525T190000
DTEND;TZID=Europe/London:20230525T220000
DTSTAMP:20260419T185724
CREATED:20230522T174404Z
LAST-MODIFIED:20230522T174330Z
UID:10000184-1685041200-1685052000@gwentmc.club
SUMMARY:Evening Walk: Allt Yr Esgair and Afon Wysg
DESCRIPTION:Allt Yr Esgair and Afon Wysg\, Distance 6.5km Ascent 220m  \nStart:Meet at lay by off A40 at Grid Reference SO129226 at 7.00pm  \nPub:The Star\, Talybont
URL:https://gwentmc.club/event/evening-walk-tba/
LOCATION:Layby\, A40 – SO129226
CATEGORIES:Hiking/walking,Thursday evening walks
END:VEVENT
BEGIN:VEVENT
DTSTART;TZID=Europe/London:20230528T100000
DTEND;TZID=Europe/London:20230528T170000
DTSTAMP:20260419T185724
CREATED:20230315T214042Z
LAST-MODIFIED:20230509T104226Z
UID:10000164-1685268000-1685293200@gwentmc.club
SUMMARY:Walk: Linear Walk In the Malvern Hills. Great Malvern back to Ledbury along the ridge 24km/15 miles. 1245m/4100ft ascent. (Hard) (Moderate)
DESCRIPTION:Linear Walk In the Malvern Hills. Great Malvern back to Ledbury along the ridge 24km/15 miles. 1245m/4100ft ascent. \nMeet 10am. Ledbury train station (SO 709385) to catch 10.20am train to Great Malvern. Cost £6.10 approx.
URL:https://gwentmc.club/event/carn-fadog-carreg-yr-ogof-tyle-garw-24km-15miles-ascent-780m-2600ft-hard/
LOCATION:Ledbury Train Station
CATEGORIES:Hiking/walking,Sunday walks
ATTACH;FMTTYPE=image/jpeg:https://gwentmc.club/wp-content/uploads/2023/03/Midsummer-Hill-Malvernsgeograph-5639644-by-Philip-Halling.jpg
END:VEVENT
BEGIN:VEVENT
DTSTART;TZID=Europe/London:20230601T190000
DTEND;TZID=Europe/London:20230601T220000
DTSTAMP:20260419T185724
CREATED:20230405T114546Z
LAST-MODIFIED:20230529T181049Z
UID:10000183-1685646000-1685656800@gwentmc.club
SUMMARY:Evening Walk: Coppett Hill
DESCRIPTION:Coppett Hill \nStart: The walk starts from a car park ref: SO 581 188 which is just south of Kerne Bridge and “The Inn on the Wye” on the west side of the B4234. \nOn the OS 1/25\,000 scale map it is immediately adjoining the site marked “Adventure Activities”. \nPub: Inn on the Wye
URL:https://gwentmc.club/event/evening-walk-llanthony/
LOCATION:Inn on the Wye Car Park
CATEGORIES:Hiking/walking,Thursday evening walks
ATTACH;FMTTYPE=image/jpeg:https://gwentmc.club/wp-content/uploads/2023/04/Coppett-Hill-geograph-1445934-by-Roger-Davies.jpg
END:VEVENT
BEGIN:VEVENT
DTSTART;TZID=Europe/London:20230604T093000
DTEND;TZID=Europe/London:20230604T170000
DTSTAMP:20260419T185724
CREATED:20230330T084159Z
LAST-MODIFIED:20230509T132138Z
UID:10000180-1685871000-1685898000@gwentmc.club
SUMMARY:Walk: Carn Fadog/Carreg yr Ogof/Tyle Garw. 24km/15miles. Ascent 780m/2600ft. (Hard)
DESCRIPTION:Carn Fadog/Carreg yr Ogof/Tyle Garw. 24km/15miles. Ascent 780m/2600ft. \nStart 9.30am. Cwm Giedd Forest Car Park SN 791127
URL:https://gwentmc.club/event/walk-carn-fadog-carreg-yr-ogof-tyle-garw-24km-15miles-ascent-780m-2600ft-hard/
LOCATION:Cwm Giedd Forest Car Park
CATEGORIES:Hiking/walking,Sunday walks
ATTACH;FMTTYPE=image/jpeg:https://gwentmc.club/wp-content/uploads/2023/03/Tyle-Garw-geograph-96893-by-Nigel-Davies.jpg
GEO:51.800288;-3.7539197
END:VEVENT
BEGIN:VEVENT
DTSTART;TZID=Europe/London:20230608T190000
DTEND;TZID=Europe/London:20230608T220000
DTSTAMP:20260419T185724
CREATED:20230421T215247Z
LAST-MODIFIED:20230421T215314Z
UID:10000190-1686250800-1686261600@gwentmc.club
SUMMARY:Evening Walk: Lancaut Loop
DESCRIPTION:Lancaut Loop 8.7kms\, 359m ascent Map OL14 \nStart: Castle Dell car park Chepstow NP16 5GA \nPub: The Boat Inn Chepstow NP16 5HH
URL:https://gwentmc.club/event/evening-walk-lancaut-loop/
LOCATION:Castle Dell Car Park\, Chepstow
CATEGORIES:Hiking/walking,Thursday evening walks
ATTACH;FMTTYPE=image/jpeg:https://gwentmc.club/wp-content/uploads/2023/04/Lancaut-geograph-3061823-by-Jeremy-Bolwell.jpg
END:VEVENT
END:VCALENDAR