BEGIN:VCALENDAR
VERSION:2.0
PRODID:-//Gwent Mountaineering Club - ECPv6.15.20//NONSGML v1.0//EN
CALSCALE:GREGORIAN
METHOD:PUBLISH
X-ORIGINAL-URL:https://gwentmc.club
X-WR-CALDESC:Events for Gwent Mountaineering Club
REFRESH-INTERVAL;VALUE=DURATION:PT1H
X-Robots-Tag:noindex
X-PUBLISHED-TTL:PT1H
BEGIN:VTIMEZONE
TZID:Europe/London
BEGIN:DAYLIGHT
TZOFFSETFROM:+0000
TZOFFSETTO:+0100
TZNAME:BST
DTSTART:20250330T010000
END:DAYLIGHT
BEGIN:STANDARD
TZOFFSETFROM:+0100
TZOFFSETTO:+0000
TZNAME:GMT
DTSTART:20251026T010000
END:STANDARD
BEGIN:DAYLIGHT
TZOFFSETFROM:+0000
TZOFFSETTO:+0100
TZNAME:BST
DTSTART:20260329T010000
END:DAYLIGHT
BEGIN:STANDARD
TZOFFSETFROM:+0100
TZOFFSETTO:+0000
TZNAME:GMT
DTSTART:20261025T010000
END:STANDARD
BEGIN:DAYLIGHT
TZOFFSETFROM:+0000
TZOFFSETTO:+0100
TZNAME:BST
DTSTART:20270328T010000
END:DAYLIGHT
BEGIN:STANDARD
TZOFFSETFROM:+0100
TZOFFSETTO:+0000
TZNAME:GMT
DTSTART:20271031T010000
END:STANDARD
END:VTIMEZONE
BEGIN:VEVENT
DTSTART;TZID=Europe/London:20260430T190000
DTEND;TZID=Europe/London:20260430T210000
DTSTAMP:20260420T084718
CREATED:20260315T160248Z
LAST-MODIFIED:20260405T114714Z
UID:10001005-1777575600-1777582800@gwentmc.club
SUMMARY:Evening Walk: The Skirrid\, 3.16 miles 320 metres ascent
DESCRIPTION:SO329165 ///narrates.florists.fine. \nFree parking for national trust members\, but £2 if not a member. \nFor your safety and the safety of other members\, we advise minimum personal equipment requirements for all our walks.
URL:https://gwentmc.club/event/evening-walk-the-skirrid-3-16-miles-320-metres-ascent/
CATEGORIES:Hiking/walking,Thursday evening walks
ATTACH;FMTTYPE=image/jpeg:https://gwentmc.club/wp-content/uploads/2026/03/IMG_20260311_120824_edit_437958154644908-scaled.jpg
END:VEVENT
BEGIN:VEVENT
DTSTART;TZID=Europe/London:20260510T100000
DTEND;TZID=Europe/London:20260510T170000
DTSTAMP:20260420T084718
CREATED:20251203T200929Z
LAST-MODIFIED:20260308T171122Z
UID:10000967-1778407200-1778432400@gwentmc.club
SUMMARY:Walk: Goodrich to Symonds Yat. 17.5km/11miles\, 415m/1300ft ascent (Moderate)
DESCRIPTION:Join Steve on this moderately graded Goodrich to Symonds Yat route walking around the Wye Valley. The route is 17.5km/11miles with 415m/1300 feet of ascent. \n10am start from Goodrich Castle Carpark\, HR9 6HY (carpark fee payable)\, OS Explorer Map OL14\, grid reference SO 576196. \nFor your safety and the safety of other members\, we advise minimum personal equipment requirements for all our walks.
URL:https://gwentmc.club/event/walk-goodrich-to-symonds-yat-17-5km-11miles-415m-1300ft-ascent-moderate_01-02-2026/
CATEGORIES:Hiking/walking,Sunday walks
ATTACH;FMTTYPE=image/png:https://gwentmc.club/wp-content/uploads/2025/12/01.02.2026_Goodrich_Symonds-Yat.png
END:VEVENT
BEGIN:VEVENT
DTSTART;TZID=Europe/London:20260517T093000
DTEND;TZID=Europe/London:20260517T170000
DTSTAMP:20260420T084718
CREATED:20260308T171305Z
LAST-MODIFIED:20260308T171521Z
UID:10000987-1779010200-1779037200@gwentmc.club
SUMMARY:Walk: Llyn Brianne\, Soar y Mynydd & Pen y Gurnos. 24km/15miles (Hard)
DESCRIPTION:More details to follow. \n  \nFor your safety and the safety of other members\, we advise minimum personal equipment requirements for all our walks.
URL:https://gwentmc.club/event/walk-llyn-brianne-soar-y-mynydd-pen-y-gurnos-24km-15miles-hard/
CATEGORIES:Hiking/walking,Sunday walks
END:VEVENT
BEGIN:VEVENT
DTSTART;TZID=Europe/London:20260524T093000
DTEND;TZID=Europe/London:20260524T170000
DTSTAMP:20260420T084719
CREATED:20260318T192659Z
LAST-MODIFIED:20260318T192659Z
UID:10001030-1779615000-1779642000@gwentmc.club
SUMMARY:Walk: Blaen y Cwm Circuit. 16km/10miles\, 440m/1440 feet ascent (Moderate)
DESCRIPTION:Blaen y Cwm Circuit. Taking in Pen y Gadair Fawr\, Waun Fach & around the top of Grwyne Fawr to the trig point on Rhos Dirion. 16km/10miles\, 440m/1440 feet ascent. \nStart time to be confirmed. \nStart: Blaen y cwm carpark. Map OL13 SO 252285. \nFor your safety and the safety of other members\, we advise minimum personal equipment requirements for all our walks. \n 
URL:https://gwentmc.club/event/walk-blaen-y-cwm-circuit-16km-10miles-440m-1440-feet-ascent-moderate/
CATEGORIES:Hiking/walking,Sunday walks
END:VEVENT
BEGIN:VEVENT
DTSTART;TZID=Europe/London:20260528T190000
DTEND;TZID=Europe/London:20260528T213000
DTSTAMP:20260420T084719
CREATED:20260315T160609Z
LAST-MODIFIED:20260315T160609Z
UID:10001007-1779994800-1780003800@gwentmc.club
SUMMARY:Evening walk: Eagles nest\, Penterry Church and Severn bridge viewpoint\, 4.2miles\, 181ft ascent.
DESCRIPTION:Eagles nest\, Penterry Church and Severn bridge viewpoint. Easy- though some hills with 181 ft ascent. 4.25 miles and taking approx. 2 hours on a almost full moon evening.  \nST 524972 Lower Wyndcliffe Car Park WTW – shuttled.skunks.reports
URL:https://gwentmc.club/event/evening-walk-eagles-nest-penterry-church-and-severn-bridge-viewpoint-4-2miles-181ft-ascent/
CATEGORIES:Hiking/walking,Thursday evening walks
END:VEVENT
BEGIN:VEVENT
DTSTART;TZID=Europe/London:20260531T093000
DTEND;TZID=Europe/London:20260531T170000
DTSTAMP:20260420T084719
CREATED:20260415T190022Z
LAST-MODIFIED:20260415T190022Z
UID:10001037-1780219800-1780246800@gwentmc.club
SUMMARY:Walk: Parc Cwm Darran to Parc Penallta linear walk. 16km/10m\, 450m/1500ft ascent (Easy/Moderate)
DESCRIPTION:Starting with a short train ride from Ystrad Mynach to Pontlottyn station. Walk from Pontlottyn to Rhiw Cantorion\, Parc Cwm Darran onto Cefn Gelligaer & Fforest Gwladys. Then following the Rhymney Valley Ridgeway to Gelligaer & Parc Penallta back to the start.\n16km/10miles\, 450m/ 1500 feet ascent. \nStart 9.10am at Ystrad Mynach train station.\nTrain departs at 9.25am\, cost £3.80. Parking is free at this station. OS Map 166 GR ST 142943. \nFor your safety and the safety of other members\, we advise minimum personal equipment requirements for all our walks.
URL:https://gwentmc.club/event/walk-parc-cwm-darran-to-parc-penallta-linear-walk-16km-10m-450m-1500ft-ascent-easy-moderate/
CATEGORIES:Hiking/walking,Sunday walks
END:VEVENT
BEGIN:VEVENT
DTSTART;VALUE=DATE:20260606
DTEND;VALUE=DATE:20260607
DTSTAMP:20260420T084719
CREATED:20260301T134047Z
LAST-MODIFIED:20260330T152026Z
UID:10000985-1780704000-1780790399@gwentmc.club
SUMMARY:Walk: 50 Peaks Grand weekend
DESCRIPTION:As you are no doubt aware by now the GMC has been in existence for 50 years & we’d like to celebrate this fantastic achievement.\n\nClimbers & Walkers are arranging various events over the year & aim to include as many Club members as possible.\n\nFor the Walkers – 50 Peaks Grand weekend – June 6th & 7th 2026.\n\nPlease click on the attachment sent by email in February and choose what you would like to do. There is some general guidance given \, but please discuss with Kath S\, Sara H or Keith if needed. (For now please contact one of us by email etc or find us out on an event).\n\nLets get out tramping the hills\,\n\nKath\, Sara\, Keith\nFor your safety and the safety of other members\, we advise minimum personal equipment requirements for all our walks.
URL:https://gwentmc.club/event/walk-a-50-peaks-grand-weekend/
CATEGORIES:Hiking/walking,Sunday walks
END:VEVENT
BEGIN:VEVENT
DTSTART;VALUE=DATE:20260607
DTEND;VALUE=DATE:20260608
DTSTAMP:20260420T084719
CREATED:20260330T151945Z
LAST-MODIFIED:20260330T151945Z
UID:10001034-1780790400-1780876799@gwentmc.club
SUMMARY:Walk: 50 Peaks Grand weekend
DESCRIPTION:As you are no doubt aware by now the GMC has been in existence for 50 years & we’d like to celebrate this fantastic achievement.\n\nClimbers & Walkers are arranging various events over the year & aim to include as many Club members as possible.\n\nFor the Walkers – 50 Peaks Grand weekend – June 6th & 7th 2026.\n\nPlease click on the attachment sent by email in February and choose what you would like to do. There is some general guidance given \, but please discuss with Kath S\, Sara H or Keith if needed. (For now please contact one of us by email etc or find us out on an event).\n\nLets get out tramping the hills\,\n\nKath\, Sara\, Keith\nFor your safety and the safety of other members\, we advise minimum personal equipment requirements for all our walks.
URL:https://gwentmc.club/event/walk-50-peaks-grand-weekend/
CATEGORIES:Hiking/walking,Sunday walks
END:VEVENT
BEGIN:VEVENT
DTSTART;TZID=Europe/London:20260628T093000
DTEND;TZID=Europe/London:20260628T170000
DTSTAMP:20260420T084719
CREATED:20260308T171439Z
LAST-MODIFIED:20260308T171439Z
UID:10000988-1782639000-1782666000@gwentmc.club
SUMMARY:Walk: Drygarn Fawr & Gorllwyn from Abergwesyn village 24km/15miles (Hard)
DESCRIPTION:More details to follow. \n  \nFor your safety and the safety of other members\, we advise minimum personal equipment requirements for all our walks.
URL:https://gwentmc.club/event/walk-drygarn-fawr-gorllwyn-from-abergwesyn-village-24km-15miles-hard/
CATEGORIES:Hiking/walking,Sunday walks
END:VEVENT
BEGIN:VEVENT
DTSTART;TZID=Europe/London:20260712T093000
DTEND;TZID=Europe/London:20260712T170000
DTSTAMP:20260420T084719
CREATED:20260415T190356Z
LAST-MODIFIED:20260415T190356Z
UID:10001038-1783848600-1783875600@gwentmc.club
SUMMARY:Walk: Eastern Beacons Area. 19km/12miles\, 935m/3000ft ascent (Moderate)
DESCRIPTION:Eastern Beacons Area. Following the Usk Valley Walk to Aber before a steep ascent to Carn Pica\, then continuing along the edges to Gist Wen & Pen y Bryn.\n19km/12 miles\, 935m/3000 feet ascent. \nStart 9.30am. A layby opposite the campsite at Pencelli.\nMap OL 12 GR SO 095245. \nFor your safety and the safety of other members\, we advise minimum personal equipment requirements for all our walks.
URL:https://gwentmc.club/event/walk-eastern-beacons-area-19km-12miles-935m-3000ft-ascent-moderate/
CATEGORIES:Hiking/walking,Sunday walks
ATTACH;FMTTYPE=image/jpeg:https://gwentmc.club/wp-content/uploads/2026/04/Eastern-Beacons.jpeg
END:VEVENT
BEGIN:VEVENT
DTSTART;TZID=Europe/London:20260716T193000
DTEND;TZID=Europe/London:20260716T213000
DTSTAMP:20260420T084719
CREATED:20260405T113549Z
LAST-MODIFIED:20260405T113549Z
UID:10001035-1784230200-1784237400@gwentmc.club
SUMMARY:Evening walk: Greater Horseshoe Bat Walk at Coed Ruperra. 3 miles
DESCRIPTION:A guided walk including bat monitors to enable species identification. \nEasy. About 3 miles. Bring headtorches. Collection to be made for Coed Ruperra Conservation Trust please. \nOS Explorer Map 152\, grid reference 228 870. Parking area will be opened as an organised guided walk with Coed Ruperra. Please note later start of 7.30pm. \nFor your safety and the safety of other members\, we advise minimum personal equipment requirements for all our walks.
URL:https://gwentmc.club/event/evening-walk-greater-horseshoe-bat-walk-at-coed-ruperra-3-miles/
CATEGORIES:Hiking/walking,Thursday evening walks
ATTACH;FMTTYPE=image/png:https://gwentmc.club/wp-content/uploads/2026/04/Bat-walk_Coed-Ruperra.png
END:VEVENT
BEGIN:VEVENT
DTSTART;TZID=Europe/London:20260726T093000
DTEND;TZID=Europe/London:20260726T170000
DTSTAMP:20260420T084719
CREATED:20260308T171651Z
LAST-MODIFIED:20260308T171651Z
UID:10000989-1785058200-1785085200@gwentmc.club
SUMMARY:Walk: Pumlumon & Carn Hyddgen. 24km/15miles.
DESCRIPTION:More details to follow. \n  \nFor your safety and the safety of other members\, we advise minimum personal equipment requirements for all our walks.
URL:https://gwentmc.club/event/walk-pumlumon-carn-hyddgen-24km-15miles/
CATEGORIES:Hiking/walking,Sunday walks
END:VEVENT
BEGIN:VEVENT
DTSTART;TZID=Europe/London:20260823T093000
DTEND;TZID=Europe/London:20260823T170000
DTSTAMP:20260420T084719
CREATED:20260308T171806Z
LAST-MODIFIED:20260308T171806Z
UID:10000990-1787477400-1787504400@gwentmc.club
SUMMARY:Walk: Radnor Forest Hills. 24km/15miles
DESCRIPTION:More details to follow. \nFor your safety and the safety of other members\, we advise minimum personal equipment requirements for all our walks
URL:https://gwentmc.club/event/walk-radnor-forest-hills-24km-15miles/
CATEGORIES:Hiking/walking,Sunday walks
END:VEVENT
END:VCALENDAR