BEGIN:VCALENDAR
VERSION:2.0
PRODID:-//Gwent Mountaineering Club - ECPv6.15.20//NONSGML v1.0//EN
CALSCALE:GREGORIAN
METHOD:PUBLISH
X-WR-CALNAME:Gwent Mountaineering Club
X-ORIGINAL-URL:https://gwentmc.club
X-WR-CALDESC:Events for Gwent Mountaineering Club
REFRESH-INTERVAL;VALUE=DURATION:PT1H
X-Robots-Tag:noindex
X-PUBLISHED-TTL:PT1H
BEGIN:VTIMEZONE
TZID:Europe/London
BEGIN:DAYLIGHT
TZOFFSETFROM:+0000
TZOFFSETTO:+0100
TZNAME:BST
DTSTART:20210328T010000
END:DAYLIGHT
BEGIN:STANDARD
TZOFFSETFROM:+0100
TZOFFSETTO:+0000
TZNAME:GMT
DTSTART:20211031T010000
END:STANDARD
BEGIN:DAYLIGHT
TZOFFSETFROM:+0000
TZOFFSETTO:+0100
TZNAME:BST
DTSTART:20220327T010000
END:DAYLIGHT
BEGIN:STANDARD
TZOFFSETFROM:+0100
TZOFFSETTO:+0000
TZNAME:GMT
DTSTART:20221030T010000
END:STANDARD
BEGIN:DAYLIGHT
TZOFFSETFROM:+0000
TZOFFSETTO:+0100
TZNAME:BST
DTSTART:20230326T010000
END:DAYLIGHT
BEGIN:STANDARD
TZOFFSETFROM:+0100
TZOFFSETTO:+0000
TZNAME:GMT
DTSTART:20231029T010000
END:STANDARD
END:VTIMEZONE
BEGIN:VEVENT
DTSTART;TZID=Europe/London:20221110T190000
DTEND;TZID=Europe/London:20221110T210000
DTSTAMP:20260419T153131
CREATED:20221110T161921Z
LAST-MODIFIED:20221121T160856Z
UID:10000005-1668106800-1668114000@gwentmc.club
SUMMARY:Night walk - 'Bats and Brooks'
DESCRIPTION:Night walk – ‘Bats and Brooks’ Outdoors Simon James Llanbedr\, ‘bats and brooks’ Meet 7pm. Park in the village and meet outside St Peter’s Church (SO239203\, OL13). The pub is the Red Lion\, (use the same grid reference). 6km\, elevation 315m\, 2 hours plus time to ĺook at ye old yew tree at the back of the church.
URL:https://gwentmc.club/event/night-walk-bats-and-brooks/
CATEGORIES:Hiking/walking,Thursday evening walks
END:VEVENT
BEGIN:VEVENT
DTSTART;TZID=Europe/London:20221113T093000
DTEND;TZID=Europe/London:20221113T170000
DTSTAMP:20260419T153131
CREATED:20221108T155127Z
LAST-MODIFIED:20221121T160856Z
UID:10000001-1668331800-1668358800@gwentmc.club
SUMMARY:Capel-y-Ffin\, to Rhos Dirion & Twmpa. 18km/11m with 625m/2060ft ascent (moderate)
DESCRIPTION:Capel-y-Ffin\, to Rhos Dirion & Twmpa. 18km/11m with 625m/2060ft ascent \nThis moderate walk will be from Capel-y-Ffin\, starting at 9.30am. The amount of car parking space is very limited\, so please car share if possible. \nWe will head up to Blacksmith’s Anvil and then follow the ridge north-west to Rhos Dirion. The route then follows the escarpment to Twmpa before heading south-east to Capel-y-Ffin. It will be mainly ridge walking but we can take valley options if the weather is very stormy. \n 
URL:https://gwentmc.club/event/capel-y-ffin-to-rhos-dirion-twmpa-18km-11m-with-625m-2060ft-ascent-moderate/
LOCATION:Capel-y-Ffin\, 51.976914 \, -3.0863133\, United Kingdom
CATEGORIES:Hiking/walking,Sunday walks
ATTACH;FMTTYPE=image/jpeg:https://gwentmc.club/wp-content/uploads/2022/11/geograph-3928013-by-Trevor-Littlewood-1.jpg
END:VEVENT
BEGIN:VEVENT
DTSTART;TZID=Europe/London:20221120T093000
DTEND;TZID=Europe/London:20221120T170000
DTSTAMP:20260419T153131
CREATED:20221110T161425Z
LAST-MODIFIED:20221121T160856Z
UID:10000002-1668936600-1668963600@gwentmc.club
SUMMARY:Cwm Darren\, 17.5km/11 miles\, 400m/1320ft ascent (easy)
DESCRIPTION:Start 9.30am start at the visitor centre CF81 9NR. \nMap 171\, SO 113035 Helen Lewis.
URL:https://gwentmc.club/event/cwm-darren-17-5km-11-miles-400m-1320ft-ascent-easy/
CATEGORIES:Hiking/walking,Sunday walks
ATTACH;FMTTYPE=image/jpeg:https://gwentmc.club/wp-content/uploads/2022/11/312844673_494024089415705_1445457906082205451_n.jpg
END:VEVENT
BEGIN:VEVENT
DTSTART;TZID=Europe/London:20221120T093000
DTEND;TZID=Europe/London:20221120T170000
DTSTAMP:20260419T153131
CREATED:20221110T161535Z
LAST-MODIFIED:20221121T160856Z
UID:10000003-1668936600-1668963600@gwentmc.club
SUMMARY:Pumlumon Fawr and summits around the Hengwm valley. 18km/11miles 756m/2480ft ascent (hard)
DESCRIPTION:Start 9.30am at the roadhead at Maesnant SN774879 Ralph Goddard.
URL:https://gwentmc.club/event/pumlumon-fawr-and-summits-around-the-hengwm-valley-18km-11miles-756m-2480ft-ascent-hard/
CATEGORIES:Hiking/walking,Sunday walks
ATTACH;FMTTYPE=image/jpeg:https://gwentmc.club/wp-content/uploads/2022/11/313412644_493192302832217_8339815945119171670_n.jpg
END:VEVENT
BEGIN:VEVENT
DTSTART;TZID=Europe/London:20221127T093000
DTEND;TZID=Europe/London:20221127T170000
DTSTAMP:20260419T153131
CREATED:20221115T192023Z
LAST-MODIFIED:20221121T160855Z
UID:10000008-1669541400-1669568400@gwentmc.club
SUMMARY:Henrhyd Falls\, Cribarth & Sinc Giedd. 19km/12miles\, 610m/2000ft ascent (moderate walk)
DESCRIPTION:A moderate walk of 19km/12miles\, 610m/2000ft ascent via Henrhyd Falls\, Cribarth & Sinc Giedd. Start 9.30am at Henrhyd Falls Car Park (free) near Coelbren just off A4221. Grid reference . Map OL12\, grid reference SN853121.\nHead torches advised by leader.
URL:https://gwentmc.club/event/henrhyd-falls-cribarth-craig-y-nos-19km-12miles-610m-2000ft-ascent-moderate-2/
CATEGORIES:Hiking/walking,Sunday walks
ATTACH;FMTTYPE=image/jpeg:https://gwentmc.club/wp-content/uploads/2022/11/geograph-4459905-by-Gareth-James.jpg
END:VEVENT
END:VCALENDAR